| Back to Mac ARM64 build report for BioC 3.17 |
|
This page was generated on 2023-10-20 09:38:06 -0400 (Fri, 20 Oct 2023).
| Hostname | OS | Arch (*) | R version | Installed pkgs |
|---|---|---|---|---|
| kjohnson2 | macOS 12.6.1 Monterey | arm64 | 4.3.1 (2023-06-16) -- "Beagle Scouts" | 4347 |
| Click on any hostname to see more info about the system (e.g. compilers) (*) as reported by 'uname -p', except on Windows and Mac OS X | ||||
| Package 1275/2230 | Hostname | OS / Arch | INSTALL | BUILD | CHECK | BUILD BIN | ||||||||
| monaLisa 1.6.0 (landing page) Michael Stadler
| kjohnson2 | macOS 12.6.1 Monterey / arm64 | OK | OK | ERROR | OK | ||||||||
|
To the developers/maintainers of the monaLisa package: - Use the following Renviron settings to reproduce errors and warnings. - If 'R CMD check' started to fail recently on the Linux builder(s) over a missing dependency, add the missing dependency to 'Suggests:' in your DESCRIPTION file. See Renviron.bioc for more information. |
| Package: monaLisa |
| Version: 1.6.0 |
| Command: /Library/Frameworks/R.framework/Resources/bin/R CMD check --install=check:monaLisa.install-out.txt --library=/Library/Frameworks/R.framework/Resources/library --no-vignettes --timings monaLisa_1.6.0.tar.gz |
| StartedAt: 2023-10-18 08:49:21 -0400 (Wed, 18 Oct 2023) |
| EndedAt: 2023-10-18 08:58:42 -0400 (Wed, 18 Oct 2023) |
| EllapsedTime: 561.1 seconds |
| RetCode: 1 |
| Status: ERROR |
| CheckDir: monaLisa.Rcheck |
| Warnings: NA |
##############################################################################
##############################################################################
###
### Running command:
###
### /Library/Frameworks/R.framework/Resources/bin/R CMD check --install=check:monaLisa.install-out.txt --library=/Library/Frameworks/R.framework/Resources/library --no-vignettes --timings monaLisa_1.6.0.tar.gz
###
##############################################################################
##############################################################################
* using log directory ‘/Users/biocbuild/bbs-3.17-bioc-mac-arm64/meat/monaLisa.Rcheck’
* using R version 4.3.1 (2023-06-16)
* using platform: aarch64-apple-darwin20 (64-bit)
* R was compiled by
Apple clang version 14.0.0 (clang-1400.0.29.202)
GNU Fortran (GCC) 12.2.0
* running under: macOS Monterey 12.6.7
* using session charset: UTF-8
* using option ‘--no-vignettes’
* checking for file ‘monaLisa/DESCRIPTION’ ... OK
* checking extension type ... Package
* this is package ‘monaLisa’ version ‘1.6.0’
* package encoding: UTF-8
* checking package namespace information ... OK
* checking package dependencies ... OK
* checking if this is a source package ... OK
* checking if there is a namespace ... OK
* checking for hidden files and directories ... OK
* checking for portable file names ... OK
* checking for sufficient/correct file permissions ... OK
* checking whether package ‘monaLisa’ can be installed ... OK
* checking installed package size ... OK
* checking package directory ... OK
* checking ‘build’ directory ... OK
* checking DESCRIPTION meta-information ... OK
* checking top-level files ... OK
* checking for left-over files ... OK
* checking index information ... OK
* checking package subdirectories ... OK
* checking R files for non-ASCII characters ... OK
* checking R files for syntax errors ... OK
* checking whether the package can be loaded ... OK
* checking whether the package can be loaded with stated dependencies ... OK
* checking whether the package can be unloaded cleanly ... OK
* checking whether the namespace can be loaded with stated dependencies ... OK
* checking whether the namespace can be unloaded cleanly ... OK
* checking dependencies in R code ... OK
* checking S3 generic/method consistency ... OK
* checking replacement functions ... OK
* checking foreign function calls ... OK
* checking R code for possible problems ... OK
* checking Rd files ... OK
* checking Rd metadata ... OK
* checking Rd cross-references ... OK
* checking for missing documentation entries ... OK
* checking for code/documentation mismatches ... OK
* checking Rd \usage sections ... OK
* checking Rd contents ... OK
* checking for unstated dependencies in examples ... OK
* checking files in ‘vignettes’ ... OK
* checking examples ... OK
Examples with CPU (user + system) or elapsed time > 5s
user system elapsed
plotMotifHeatmaps 4.926 0.086 7.626
* checking for unstated dependencies in ‘tests’ ... OK
* checking tests ...
Running ‘testthat.R’
ERROR
Running the tests in ‘tests/testthat.R’ failed.
Last 13 lines of output:
`res2` not identical to list(bestScore = 0.631460077278843, bestOffset = 0L, bestDirection = "revcomp").
Objects equal but not identical
── Failure ('test_pfm_comparison.R:25:5'): .compareMotifPair works as expected ──
`res3` not identical to list(bestScore = 0.631460077278843, bestOffset = 7L, bestDirection = "forward").
Objects equal but not identical
── Failure ('test_pfm_comparison.R:83:5'): motifSimilarity works as expected ───
res1[c(4, 7, 8)] not identical to c(1, 0.631460077278843, 0.631460077278843).
Objects equal but not identical
── Failure ('test_pfm_comparison.R:88:5'): motifSimilarity works as expected ───
`res1` not identical to `res5`.
Objects equal but not identical
[ FAIL 4 | WARN 0 | SKIP 1 | PASS 533 ]
Error: Test failures
Execution halted
* checking for unstated dependencies in vignettes ... OK
* checking package vignettes in ‘inst/doc’ ... OK
* checking running R code from vignettes ... SKIPPED
* checking re-building of vignette outputs ... SKIPPED
* checking PDF version of manual ... OK
* DONE
Status: 1 ERROR
See
‘/Users/biocbuild/bbs-3.17-bioc-mac-arm64/meat/monaLisa.Rcheck/00check.log’
for details.
monaLisa.Rcheck/00install.out
############################################################################## ############################################################################## ### ### Running command: ### ### /Library/Frameworks/R.framework/Resources/bin/R CMD INSTALL monaLisa ### ############################################################################## ############################################################################## * installing to library ‘/Library/Frameworks/R.framework/Versions/4.3-arm64/Resources/library’ * installing *source* package ‘monaLisa’ ... ** using staged installation ** R ** inst ** byte-compile and prepare package for lazy loading ** help *** installing help indices *** copying figures ** building package indices ** installing vignettes ** testing if installed package can be loaded from temporary location ** testing if installed package can be loaded from final location ** testing if installed package keeps a record of temporary installation path * DONE (monaLisa)
monaLisa.Rcheck/tests/testthat.Rout.fail
R version 4.3.1 (2023-06-16) -- "Beagle Scouts"
Copyright (C) 2023 The R Foundation for Statistical Computing
Platform: aarch64-apple-darwin20 (64-bit)
R is free software and comes with ABSOLUTELY NO WARRANTY.
You are welcome to redistribute it under certain conditions.
Type 'license()' or 'licence()' for distribution details.
R is a collaborative project with many contributors.
Type 'contributors()' for more information and
'citation()' on how to cite R or R packages in publications.
Type 'demo()' for some demos, 'help()' for on-line help, or
'help.start()' for an HTML browser interface to help.
Type 'q()' to quit R.
> library(testthat)
> library(monaLisa)
>
> test_check("monaLisa")
[ FAIL 4 | WARN 0 | SKIP 1 | PASS 533 ]
══ Skipped tests (1) ═══════════════════════════════════════════════════════════
• empty test (1): 'test_Homer.R:116:1'
══ Failed tests ════════════════════════════════════════════════════════════════
── Failure ('test_pfm_comparison.R:24:5'): .compareMotifPair works as expected ──
`res2` not identical to list(bestScore = 0.631460077278843, bestOffset = 0L, bestDirection = "revcomp").
Objects equal but not identical
── Failure ('test_pfm_comparison.R:25:5'): .compareMotifPair works as expected ──
`res3` not identical to list(bestScore = 0.631460077278843, bestOffset = 7L, bestDirection = "forward").
Objects equal but not identical
── Failure ('test_pfm_comparison.R:83:5'): motifSimilarity works as expected ───
res1[c(4, 7, 8)] not identical to c(1, 0.631460077278843, 0.631460077278843).
Objects equal but not identical
── Failure ('test_pfm_comparison.R:88:5'): motifSimilarity works as expected ───
`res1` not identical to `res5`.
Objects equal but not identical
[ FAIL 4 | WARN 0 | SKIP 1 | PASS 533 ]
Error: Test failures
Execution halted
monaLisa.Rcheck/monaLisa-Ex.timings
| name | user | system | elapsed | |
| annoSeqlogo | 0.266 | 0.016 | 0.417 | |
| bin | 0.009 | 0.002 | 0.016 | |
| calcBinnedKmerEnr | 0.825 | 0.051 | 1.339 | |
| calcBinnedMotifEnrHomer | 0.004 | 0.009 | 0.024 | |
| calcBinnedMotifEnrR | 0.857 | 0.071 | 1.392 | |
| dumpJaspar | 0.033 | 0.005 | 0.065 | |
| findHomer | 0.001 | 0.004 | 0.006 | |
| findMotifHits-methods | 1.201 | 0.023 | 1.813 | |
| getColsByBin | 0.005 | 0.001 | 0.008 | |
| getKmerFreq | 0.038 | 0.001 | 0.059 | |
| getSetZeroBin | 0.002 | 0.001 | 0.005 | |
| homerToPFMatrixList | 0.065 | 0.006 | 0.108 | |
| motifKmerSimilarity | 0.021 | 0.001 | 0.039 | |
| motifSimilarity | 0.01 | 0.00 | 0.02 | |
| parseHomerOutput | 0.011 | 0.001 | 0.018 | |
| plotBinDensity | 0.014 | 0.001 | 0.024 | |
| plotBinDiagnostics | 0.680 | 0.023 | 1.094 | |
| plotBinHist | 0.009 | 0.001 | 0.015 | |
| plotBinScatter | 0.007 | 0.001 | 0.013 | |
| plotMotifHeatmaps | 4.926 | 0.086 | 7.626 | |
| plotSelectionProb | 1.155 | 0.022 | 1.830 | |
| plotStabilityPaths | 0.830 | 0.011 | 1.284 | |
| prepareHomer | 0.065 | 0.007 | 0.113 | |
| randLassoStabSel | 1.682 | 0.414 | 2.477 | |
| sampleRandomRegions | 0.065 | 0.019 | 0.130 | |
| seqLogoGrob | 0.216 | 0.048 | 0.401 | |