| Back to Mac ARM64 build report for BioC 3.17 |
|
This page was generated on 2023-10-20 09:38:06 -0400 (Fri, 20 Oct 2023).
| Hostname | OS | Arch (*) | R version | Installed pkgs |
|---|---|---|---|---|
| kjohnson2 | macOS 12.6.1 Monterey | arm64 | 4.3.1 (2023-06-16) -- "Beagle Scouts" | 4347 |
| Click on any hostname to see more info about the system (e.g. compilers) (*) as reported by 'uname -p', except on Windows and Mac OS X | ||||
| Package 1222/2230 | Hostname | OS / Arch | INSTALL | BUILD | CHECK | BUILD BIN | ||||||||
| microbiomeMarker 1.6.0 (landing page) Yang Cao
| kjohnson2 | macOS 12.6.1 Monterey / arm64 | OK | OK | OK | OK | ||||||||
|
To the developers/maintainers of the microbiomeMarker package: - Use the following Renviron settings to reproduce errors and warnings. - If 'R CMD check' started to fail recently on the Linux builder(s) over a missing dependency, add the missing dependency to 'Suggests:' in your DESCRIPTION file. See Renviron.bioc for more information. |
| Package: microbiomeMarker |
| Version: 1.6.0 |
| Command: /Library/Frameworks/R.framework/Resources/bin/R CMD check --install=check:microbiomeMarker.install-out.txt --library=/Library/Frameworks/R.framework/Resources/library --no-vignettes --timings microbiomeMarker_1.6.0.tar.gz |
| StartedAt: 2023-10-18 07:20:00 -0400 (Wed, 18 Oct 2023) |
| EndedAt: 2023-10-18 07:36:57 -0400 (Wed, 18 Oct 2023) |
| EllapsedTime: 1016.5 seconds |
| RetCode: 0 |
| Status: OK |
| CheckDir: microbiomeMarker.Rcheck |
| Warnings: 0 |
##############################################################################
##############################################################################
###
### Running command:
###
### /Library/Frameworks/R.framework/Resources/bin/R CMD check --install=check:microbiomeMarker.install-out.txt --library=/Library/Frameworks/R.framework/Resources/library --no-vignettes --timings microbiomeMarker_1.6.0.tar.gz
###
##############################################################################
##############################################################################
* using log directory ‘/Users/biocbuild/bbs-3.17-bioc-mac-arm64/meat/microbiomeMarker.Rcheck’
* using R version 4.3.1 (2023-06-16)
* using platform: aarch64-apple-darwin20 (64-bit)
* R was compiled by
Apple clang version 14.0.0 (clang-1400.0.29.202)
GNU Fortran (GCC) 12.2.0
* running under: macOS Monterey 12.6.7
* using session charset: UTF-8
* using option ‘--no-vignettes’
* checking for file ‘microbiomeMarker/DESCRIPTION’ ... OK
* this is package ‘microbiomeMarker’ version ‘1.6.0’
* package encoding: UTF-8
* checking package namespace information ... OK
* checking package dependencies ... OK
* checking if this is a source package ... OK
* checking if there is a namespace ... OK
* checking for hidden files and directories ... OK
* checking for portable file names ... OK
* checking for sufficient/correct file permissions ... OK
* checking whether package ‘microbiomeMarker’ can be installed ... OK
* checking installed package size ... OK
* checking package directory ... OK
* checking ‘build’ directory ... OK
* checking DESCRIPTION meta-information ... OK
* checking top-level files ... OK
* checking for left-over files ... OK
* checking index information ... OK
* checking package subdirectories ... OK
* checking R files for non-ASCII characters ... OK
* checking R files for syntax errors ... OK
* checking whether the package can be loaded ... OK
* checking whether the package can be loaded with stated dependencies ... OK
* checking whether the package can be unloaded cleanly ... OK
* checking whether the namespace can be loaded with stated dependencies ... OK
* checking whether the namespace can be unloaded cleanly ... OK
* checking dependencies in R code ... OK
* checking S3 generic/method consistency ... OK
* checking replacement functions ... OK
* checking foreign function calls ... OK
* checking R code for possible problems ... OK
* checking Rd files ... OK
* checking Rd metadata ... OK
* checking Rd cross-references ... OK
* checking for missing documentation entries ... OK
* checking for code/documentation mismatches ... OK
* checking Rd \usage sections ... OK
* checking Rd contents ... OK
* checking for unstated dependencies in examples ... OK
* checking contents of ‘data’ directory ... OK
* checking data for non-ASCII characters ... OK
* checking data for ASCII and uncompressed saves ... OK
* checking R/sysdata.rda ... OK
* checking files in ‘vignettes’ ... OK
* checking examples ... OK
Examples with CPU (user + system) or elapsed time > 5s
user system elapsed
run_ancombc 20.789 0.216 33.931
run_aldex 12.296 0.938 21.722
plot_cladogram 10.559 0.258 18.597
run_lefse 8.515 0.155 13.617
run_deseq2 7.941 0.093 12.558
plot_heatmap 7.825 0.199 13.402
plot_sl_roc 5.528 0.158 9.682
plot_abundance 5.389 0.055 10.792
marker_table-methods 4.795 0.050 7.304
run_metagenomeseq 4.670 0.058 8.212
run_test_multiple_groups 4.376 0.042 10.127
run_test_two_groups 4.260 0.039 8.768
assign-marker_table 4.084 0.110 6.309
effect_size-plot 4.125 0.058 7.302
run_simple_stat 3.895 0.039 8.920
subset_marker 3.866 0.037 7.994
run_edger 3.817 0.043 6.891
run_limma_voom 3.763 0.037 6.293
run_sl 2.280 0.028 5.341
* checking for unstated dependencies in ‘tests’ ... OK
* checking tests ...
Running ‘testthat.R’
OK
* checking for unstated dependencies in vignettes ... OK
* checking package vignettes in ‘inst/doc’ ... OK
* checking running R code from vignettes ... SKIPPED
* checking re-building of vignette outputs ... SKIPPED
* checking PDF version of manual ... OK
* DONE
Status: OK
microbiomeMarker.Rcheck/00install.out
############################################################################## ############################################################################## ### ### Running command: ### ### /Library/Frameworks/R.framework/Resources/bin/R CMD INSTALL microbiomeMarker ### ############################################################################## ############################################################################## * installing to library ‘/Library/Frameworks/R.framework/Versions/4.3-arm64/Resources/library’ * installing *source* package ‘microbiomeMarker’ ... ** using staged installation ** R ** data ** inst ** byte-compile and prepare package for lazy loading ** help *** installing help indices *** copying figures ** building package indices ** installing vignettes ** testing if installed package can be loaded from temporary location ** testing if installed package can be loaded from final location ** testing if installed package keeps a record of temporary installation path * DONE (microbiomeMarker)
microbiomeMarker.Rcheck/tests/testthat.Rout
R version 4.3.1 (2023-06-16) -- "Beagle Scouts"
Copyright (C) 2023 The R Foundation for Statistical Computing
Platform: aarch64-apple-darwin20 (64-bit)
R is free software and comes with ABSOLUTELY NO WARRANTY.
You are welcome to redistribute it under certain conditions.
Type 'license()' or 'licence()' for distribution details.
R is a collaborative project with many contributors.
Type 'contributors()' for more information and
'citation()' on how to cite R or R packages in publications.
Type 'demo()' for some demos, 'help()' for on-line help, or
'help.start()' for an HTML browser interface to help.
Type 'q()' to quit R.
> library(testthat)
> library(microbiomeMarker)
>
> test_check("microbiomeMarker")
operating in serial mode
computing center with all features
New names:
* `` -> `...1`
* `` -> `...2`
* `` -> `...3`
* `` -> `...4`
* `` -> `...5`
* `` -> `...6`
* `` -> `...7`
* `` -> `...8`
* `` -> `...9`
* `` -> `...10`
* `` -> `...11`
* `` -> `...12`
New names:
* `` -> `...1`
* `` -> `...2`
* `` -> `...3`
* `` -> `...4`
* `` -> `...5`
* `` -> `...6`
* `` -> `...7`
* `` -> `...8`
* `` -> `...9`
* `` -> `...10`
* `` -> `...11`
* `` -> `...12`
operating in serial mode
New names:
* `` -> `...1`
* `` -> `...2`
* `` -> `...3`
* `` -> `...4`
* `` -> `...5`
* `` -> `...6`
* `` -> `...7`
* `` -> `...8`
* `` -> `...9`
* `` -> `...10`
* `` -> `...11`
* `` -> `...12`
New names:
* `` -> `...1`
* `` -> `...2`
* `` -> `...3`
* `` -> `...4`
* `` -> `...5`
* `` -> `...6`
* `` -> `...7`
* `` -> `...8`
* `` -> `...9`
* `` -> `...10`
* `` -> `...11`
* `` -> `...12`
New names:
* `` -> `...1`
* `` -> `...2`
* `` -> `...3`
* `` -> `...4`
* `` -> `...5`
* `` -> `...6`
* `` -> `...7`
* `` -> `...8`
* `` -> `...9`
* `` -> `...10`
* `` -> `...11`
* `` -> `...12`
New names:
* `` -> `...1`
* `` -> `...2`
* `` -> `...3`
* `` -> `...4`
* `` -> `...5`
* `` -> `...6`
* `` -> `...7`
* `` -> `...8`
* `` -> `...9`
* `` -> `...10`
* `` -> `...11`
* `` -> `...12`
`set.seed(2020)` was used to initialize repeatable random subsampling.
Please record this for your records so others can reproduce.
Try `set.seed(2020); .Random.seed` for the full vector
...
46OTUs were removed because they are no longer
present in any sample after random subsampling
...
`set.seed(2020)` was used to initialize repeatable random subsampling.
Please record this for your records so others can reproduce.
Try `set.seed(2020); .Random.seed` for the full vector
...
46OTUs were removed because they are no longer
present in any sample after random subsampling
...
`set.seed(2020)` was used to initialize repeatable random subsampling.
Please record this for your records so others can reproduce.
Try `set.seed(2020); .Random.seed` for the full vector
...
46OTUs were removed because they are no longer
present in any sample after random subsampling
...
`set.seed(2020)` was used to initialize repeatable random subsampling.
Please record this for your records so others can reproduce.
Try `set.seed(2020); .Random.seed` for the full vector
...
46OTUs were removed because they are no longer
present in any sample after random subsampling
...
Default value being used.
Default value being used.
Default value being used.
Default value being used.
converting counts to integer mode
Loading required package: ggplot2
Loading required package: lattice
[ FAIL 0 | WARN 43 | SKIP 8 | PASS 217 ]
══ Skipped tests (8) ═══════════════════════════════════════════════════════════
• On CRAN (7): 'test-ancom.R:46:5', 'test-edgeR.R:9:5', 'test-lefse.R:19:5',
'test-limma-voom.R:15:5', 'test-multiple-groups-test.R:27:5',
'test-multiple-groups-test.R:54:9', 'test-two-group-test.R:24:5'
• empty test (1): 'test-ancombc.R:1:1'
[ FAIL 0 | WARN 43 | SKIP 8 | PASS 217 ]
>
> proc.time()
user system elapsed
97.542 3.390 179.524
microbiomeMarker.Rcheck/microbiomeMarker-Ex.timings
| name | user | system | elapsed | |
| abundances-methods | 0.097 | 0.005 | 0.151 | |
| aggregate_taxa | 1.797 | 0.027 | 2.721 | |
| assign-marker_table | 4.084 | 0.110 | 6.309 | |
| confounder | 2.445 | 0.027 | 3.700 | |
| effect_size-plot | 4.125 | 0.058 | 7.302 | |
| extract_posthoc_res | 0.239 | 0.012 | 0.381 | |
| import_dada2 | 0.094 | 0.004 | 0.152 | |
| import_picrust2 | 0.043 | 0.003 | 0.072 | |
| import_qiime2 | 0.258 | 0.055 | 0.498 | |
| marker_table-methods | 4.795 | 0.050 | 7.304 | |
| microbiomeMarker | 0.019 | 0.002 | 0.041 | |
| nmarker-methods | 0.002 | 0.001 | 0.007 | |
| normalize-methods | 0.127 | 0.005 | 0.271 | |
| phyloseq2DESeq2 | 0.724 | 0.012 | 1.232 | |
| phyloseq2edgeR | 0.192 | 0.011 | 0.306 | |
| phyloseq2metagenomeSeq | 0.215 | 0.005 | 0.337 | |
| plot_abundance | 5.389 | 0.055 | 10.792 | |
| plot_cladogram | 10.559 | 0.258 | 18.597 | |
| plot_heatmap | 7.825 | 0.199 | 13.402 | |
| plot_postHocTest | 1.449 | 0.028 | 2.301 | |
| plot_sl_roc | 5.528 | 0.158 | 9.682 | |
| postHocTest | 0.208 | 0.008 | 0.328 | |
| run_aldex | 12.296 | 0.938 | 21.722 | |
| run_ancom | 0 | 0 | 0 | |
| run_ancombc | 20.789 | 0.216 | 33.931 | |
| run_deseq2 | 7.941 | 0.093 | 12.558 | |
| run_edger | 3.817 | 0.043 | 6.891 | |
| run_lefse | 8.515 | 0.155 | 13.617 | |
| run_limma_voom | 3.763 | 0.037 | 6.293 | |
| run_metagenomeseq | 4.670 | 0.058 | 8.212 | |
| run_posthoc_test | 0.827 | 0.017 | 1.958 | |
| run_simple_stat | 3.895 | 0.039 | 8.920 | |
| run_sl | 2.280 | 0.028 | 5.341 | |
| run_test_multiple_groups | 4.376 | 0.042 | 10.127 | |
| run_test_two_groups | 4.260 | 0.039 | 8.768 | |
| subset_marker | 3.866 | 0.037 | 7.994 | |
| summarize_taxa | 0.372 | 0.005 | 0.778 | |
| transform_abundances | 0.177 | 0.020 | 0.411 | |