| Back to Mac ARM64 build report for BioC 3.17 |
|
This page was generated on 2023-10-20 09:38:06 -0400 (Fri, 20 Oct 2023).
| Hostname | OS | Arch (*) | R version | Installed pkgs |
|---|---|---|---|---|
| kjohnson2 | macOS 12.6.1 Monterey | arm64 | 4.3.1 (2023-06-16) -- "Beagle Scouts" | 4347 |
| Click on any hostname to see more info about the system (e.g. compilers) (*) as reported by 'uname -p', except on Windows and Mac OS X | ||||
| Package 1190/2230 | Hostname | OS / Arch | INSTALL | BUILD | CHECK | BUILD BIN | ||||||||
| methInheritSim 1.22.0 (landing page) Pascal Belleau
| kjohnson2 | macOS 12.6.1 Monterey / arm64 | OK | OK | OK | OK | ||||||||
|
To the developers/maintainers of the methInheritSim package: - Use the following Renviron settings to reproduce errors and warnings. - If 'R CMD check' started to fail recently on the Linux builder(s) over a missing dependency, add the missing dependency to 'Suggests:' in your DESCRIPTION file. See Renviron.bioc for more information. |
| Package: methInheritSim |
| Version: 1.22.0 |
| Command: /Library/Frameworks/R.framework/Resources/bin/R CMD check --install=check:methInheritSim.install-out.txt --library=/Library/Frameworks/R.framework/Resources/library --no-vignettes --timings methInheritSim_1.22.0.tar.gz |
| StartedAt: 2023-10-18 06:17:36 -0400 (Wed, 18 Oct 2023) |
| EndedAt: 2023-10-18 06:25:58 -0400 (Wed, 18 Oct 2023) |
| EllapsedTime: 502.4 seconds |
| RetCode: 0 |
| Status: OK |
| CheckDir: methInheritSim.Rcheck |
| Warnings: 0 |
##############################################################################
##############################################################################
###
### Running command:
###
### /Library/Frameworks/R.framework/Resources/bin/R CMD check --install=check:methInheritSim.install-out.txt --library=/Library/Frameworks/R.framework/Resources/library --no-vignettes --timings methInheritSim_1.22.0.tar.gz
###
##############################################################################
##############################################################################
* using log directory ‘/Users/biocbuild/bbs-3.17-bioc-mac-arm64/meat/methInheritSim.Rcheck’
* using R version 4.3.1 (2023-06-16)
* using platform: aarch64-apple-darwin20 (64-bit)
* R was compiled by
Apple clang version 14.0.0 (clang-1400.0.29.202)
GNU Fortran (GCC) 12.2.0
* running under: macOS Monterey 12.6.7
* using session charset: UTF-8
* using option ‘--no-vignettes’
* checking for file ‘methInheritSim/DESCRIPTION’ ... OK
* checking extension type ... Package
* this is package ‘methInheritSim’ version ‘1.22.0’
* package encoding: UTF-8
* checking package namespace information ... OK
* checking package dependencies ... OK
* checking if this is a source package ... OK
* checking if there is a namespace ... OK
* checking for hidden files and directories ... NOTE
Found the following hidden files and directories:
.travis.yml
These were most likely included in error. See section ‘Package
structure’ in the ‘Writing R Extensions’ manual.
* checking for portable file names ... OK
* checking for sufficient/correct file permissions ... OK
* checking whether package ‘methInheritSim’ can be installed ... OK
* checking installed package size ... OK
* checking package directory ... OK
* checking ‘build’ directory ... OK
* checking DESCRIPTION meta-information ... OK
* checking top-level files ... OK
* checking for left-over files ... OK
* checking index information ... OK
* checking package subdirectories ... OK
* checking R files for non-ASCII characters ... OK
* checking R files for syntax errors ... OK
* checking whether the package can be loaded ... OK
* checking whether the package can be loaded with stated dependencies ... OK
* checking whether the package can be unloaded cleanly ... OK
* checking whether the namespace can be loaded with stated dependencies ... OK
* checking whether the namespace can be unloaded cleanly ... OK
* checking dependencies in R code ... OK
* checking S3 generic/method consistency ... OK
* checking replacement functions ... OK
* checking foreign function calls ... OK
* checking R code for possible problems ... OK
* checking Rd files ... OK
* checking Rd metadata ... OK
* checking Rd cross-references ... OK
* checking for missing documentation entries ... OK
* checking for code/documentation mismatches ... OK
* checking Rd \usage sections ... OK
* checking Rd contents ... OK
* checking for unstated dependencies in examples ... OK
* checking contents of ‘data’ directory ... OK
* checking data for non-ASCII characters ... OK
* checking data for ASCII and uncompressed saves ... OK
* checking files in ‘vignettes’ ... OK
* checking examples ... OK
Examples with CPU (user + system) or elapsed time > 5s
user system elapsed
samplesForChrSynthetic 13.866 0.149 21.445
runSim 6.970 0.086 10.832
* checking for unstated dependencies in ‘tests’ ... OK
* checking tests ...
Running ‘runTests.R’
OK
* checking for unstated dependencies in vignettes ... OK
* checking package vignettes in ‘inst/doc’ ... OK
* checking running R code from vignettes ... SKIPPED
* checking re-building of vignette outputs ... SKIPPED
* checking PDF version of manual ... OK
* DONE
Status: 1 NOTE
See
‘/Users/biocbuild/bbs-3.17-bioc-mac-arm64/meat/methInheritSim.Rcheck/00check.log’
for details.
methInheritSim.Rcheck/00install.out
############################################################################## ############################################################################## ### ### Running command: ### ### /Library/Frameworks/R.framework/Resources/bin/R CMD INSTALL methInheritSim ### ############################################################################## ############################################################################## * installing to library ‘/Library/Frameworks/R.framework/Versions/4.3-arm64/Resources/library’ * installing *source* package ‘methInheritSim’ ... ** using staged installation ** R ** data ** inst ** byte-compile and prepare package for lazy loading ** help *** installing help indices ** building package indices ** installing vignettes ** testing if installed package can be loaded from temporary location ** testing if installed package can be loaded from final location ** testing if installed package keeps a record of temporary installation path * DONE (methInheritSim)
methInheritSim.Rcheck/tests/runTests.Rout
R version 4.3.1 (2023-06-16) -- "Beagle Scouts"
Copyright (C) 2023 The R Foundation for Statistical Computing
Platform: aarch64-apple-darwin20 (64-bit)
R is free software and comes with ABSOLUTELY NO WARRANTY.
You are welcome to redistribute it under certain conditions.
Type 'license()' or 'licence()' for distribution details.
R is a collaborative project with many contributors.
Type 'contributors()' for more information and
'citation()' on how to cite R or R packages in publications.
Type 'demo()' for some demos, 'help()' for on-line help, or
'help.start()' for an HTML browser interface to help.
Type 'q()' to quit R.
> ## Run all tests presnt in the package
> BiocGenerics:::testPackage("methInheritSim")
Loading required package: stats4
Loading required package: BiocGenerics
Attaching package: 'BiocGenerics'
The following objects are masked from 'package:stats':
IQR, mad, sd, var, xtabs
The following objects are masked from 'package:base':
Filter, Find, Map, Position, Reduce, anyDuplicated, aperm, append,
as.data.frame, basename, cbind, colnames, dirname, do.call,
duplicated, eval, evalq, get, grep, grepl, intersect, is.unsorted,
lapply, mapply, match, mget, order, paste, pmax, pmax.int, pmin,
pmin.int, rank, rbind, rownames, sapply, setdiff, sort, table,
tapply, union, unique, unsplit, which.max, which.min
Loading required package: S4Vectors
Attaching package: 'S4Vectors'
The following object is masked from 'package:utils':
findMatches
The following objects are masked from 'package:base':
I, expand.grid, unname
Loading required package: IRanges
Loading required package: GenomeInfoDb
uniting...
two groups detected:
will calculate methylation difference as the difference of
treatment (group: 1) - control (group: 0)
uniting...
two groups detected:
will calculate methylation difference as the difference of
treatment (group: 1) - control (group: 0)
uniting...
two groups detected:
will calculate methylation difference as the difference of
treatment (group: 1) - control (group: 0)
uniting...
two groups detected:
will calculate methylation difference as the difference of
treatment (group: 1) - control (group: 0)
uniting...
two groups detected:
will calculate methylation difference as the difference of
treatment (group: 1) - control (group: 0)
uniting...
two groups detected:
will calculate methylation difference as the difference of
treatment (group: 1) - control (group: 0)
uniting...
two groups detected:
will calculate methylation difference as the difference of
treatment (group: 1) - control (group: 0)
uniting...
two groups detected:
will calculate methylation difference as the difference of
treatment (group: 1) - control (group: 0)
uniting...
two groups detected:
will calculate methylation difference as the difference of
treatment (group: 1) - control (group: 0)
uniting...
two groups detected:
will calculate methylation difference as the difference of
treatment (group: 1) - control (group: 0)
uniting...
two groups detected:
will calculate methylation difference as the difference of
treatment (group: 1) - control (group: 0)
RUNIT TEST PROTOCOL -- Wed Oct 18 06:25:42 2023
***********************************************
Number of test functions: 104
Number of errors: 0
Number of failures: 0
1 Test Suite :
methInheritSim RUnit Tests - 104 test functions, 0 errors, 0 failures
Number of test functions: 104
Number of errors: 0
Number of failures: 0
>
> proc.time()
user system elapsed
32.073 0.911 50.569
methInheritSim.Rcheck/methInheritSim-Ex.timings
| name | user | system | elapsed | |
| calculateNbDiffCase | 0.002 | 0.001 | 0.003 | |
| createSampleID | 0.001 | 0.002 | 0.006 | |
| dataSimExample | 0.078 | 0.006 | 0.127 | |
| estBetaAlpha | 0.000 | 0.001 | 0.001 | |
| estBetaBeta | 0.000 | 0.000 | 0.001 | |
| fixSeed | 0.000 | 0.000 | 0.001 | |
| getDiffCase | 0.001 | 0.001 | 0.001 | |
| getDiffMeth | 0.109 | 0.016 | 0.199 | |
| getSim | 0.627 | 0.033 | 1.015 | |
| getSyntheticChr | 0.902 | 0.020 | 1.419 | |
| runOnEachSynCHR | 2.541 | 0.074 | 3.982 | |
| runSim | 6.970 | 0.086 | 10.832 | |
| samplesForChrSynthetic | 13.866 | 0.149 | 21.445 | |
| saveData | 0 | 0 | 0 | |
| simEachGeneration | 0.679 | 0.013 | 1.062 | |
| simInheritance | 1.025 | 0.013 | 1.567 | |
| testIfAlreadyDone | 0.000 | 0.001 | 0.000 | |
| validateRunSimDoubleParameters | 0.000 | 0.000 | 0.001 | |
| validateRunSimIntegerParameters | 0.000 | 0.001 | 0.002 | |
| validateRunSimLogicalParameters | 0.035 | 0.003 | 0.058 | |
| validateRunSimOtherParameters | 0.034 | 0.003 | 0.056 | |
| validateRunSimParameters | 0.035 | 0.003 | 0.058 | |