| Back to Mac ARM64 build report for BioC 3.17 |
|
This page was generated on 2023-10-20 09:38:05 -0400 (Fri, 20 Oct 2023).
| Hostname | OS | Arch (*) | R version | Installed pkgs |
|---|---|---|---|---|
| kjohnson2 | macOS 12.6.1 Monterey | arm64 | 4.3.1 (2023-06-16) -- "Beagle Scouts" | 4347 |
| Click on any hostname to see more info about the system (e.g. compilers) (*) as reported by 'uname -p', except on Windows and Mac OS X | ||||
| Package 1120/2230 | Hostname | OS / Arch | INSTALL | BUILD | CHECK | BUILD BIN | ||||||||
| maser 1.18.0 (landing page) Diogo F.T. Veiga
| kjohnson2 | macOS 12.6.1 Monterey / arm64 | OK | OK | OK | OK | ||||||||
|
To the developers/maintainers of the maser package: - Use the following Renviron settings to reproduce errors and warnings. - If 'R CMD check' started to fail recently on the Linux builder(s) over a missing dependency, add the missing dependency to 'Suggests:' in your DESCRIPTION file. See Renviron.bioc for more information. |
| Package: maser |
| Version: 1.18.0 |
| Command: /Library/Frameworks/R.framework/Resources/bin/R CMD check --install=check:maser.install-out.txt --library=/Library/Frameworks/R.framework/Resources/library --no-vignettes --timings maser_1.18.0.tar.gz |
| StartedAt: 2023-10-18 04:48:11 -0400 (Wed, 18 Oct 2023) |
| EndedAt: 2023-10-18 04:58:19 -0400 (Wed, 18 Oct 2023) |
| EllapsedTime: 608.1 seconds |
| RetCode: 0 |
| Status: OK |
| CheckDir: maser.Rcheck |
| Warnings: 0 |
##############################################################################
##############################################################################
###
### Running command:
###
### /Library/Frameworks/R.framework/Resources/bin/R CMD check --install=check:maser.install-out.txt --library=/Library/Frameworks/R.framework/Resources/library --no-vignettes --timings maser_1.18.0.tar.gz
###
##############################################################################
##############################################################################
* using log directory ‘/Users/biocbuild/bbs-3.17-bioc-mac-arm64/meat/maser.Rcheck’
* using R version 4.3.1 (2023-06-16)
* using platform: aarch64-apple-darwin20 (64-bit)
* R was compiled by
Apple clang version 14.0.0 (clang-1400.0.29.202)
GNU Fortran (GCC) 12.2.0
* running under: macOS Monterey 12.6.7
* using session charset: UTF-8
* using option ‘--no-vignettes’
* checking for file ‘maser/DESCRIPTION’ ... OK
* checking extension type ... Package
* this is package ‘maser’ version ‘1.18.0’
* package encoding: UTF-8
* checking package namespace information ... OK
* checking package dependencies ... OK
* checking if this is a source package ... OK
* checking if there is a namespace ... OK
* checking for hidden files and directories ... OK
* checking for portable file names ... OK
* checking for sufficient/correct file permissions ... OK
* checking whether package ‘maser’ can be installed ... OK
* checking installed package size ... OK
* checking package directory ... OK
* checking ‘build’ directory ... OK
* checking DESCRIPTION meta-information ... OK
* checking top-level files ... OK
* checking for left-over files ... OK
* checking index information ... OK
* checking package subdirectories ... OK
* checking R files for non-ASCII characters ... OK
* checking R files for syntax errors ... OK
* checking whether the package can be loaded ... OK
* checking whether the package can be loaded with stated dependencies ... OK
* checking whether the package can be unloaded cleanly ... OK
* checking whether the namespace can be loaded with stated dependencies ... OK
* checking whether the namespace can be unloaded cleanly ... OK
* checking startup messages can be suppressed ... OK
* checking dependencies in R code ... OK
* checking S3 generic/method consistency ... OK
* checking replacement functions ... OK
* checking foreign function calls ... OK
* checking R code for possible problems ... NOTE
availableFeaturesUniprotKB: no visible global function definition for
'read.csv'
availableFeaturesUniprotKB: no visible binding for global variable
'Category'
availableFeaturesUniprotKB: no visible binding for global variable
'Name'
filterByIds: no visible binding for global variable 'ID'
mapTranscriptsA3SSevent: no visible global function definition for
'subjectHits'
mapTranscriptsA5SSevent: no visible global function definition for
'subjectHits'
mapTranscriptsMXEevent: no visible global function definition for
'subjectHits'
mapTranscriptsRIevent: no visible global function definition for
'subjectHits'
mapTranscriptsSEevent: no visible global function definition for
'subjectHits'
overlappingFeatures: no visible global function definition for
'subjectHits'
urlTracksUniprotKB: no visible global function definition for
'read.csv'
Undefined global functions or variables:
Category ID Name read.csv subjectHits
Consider adding
importFrom("utils", "read.csv")
to your NAMESPACE file.
* checking Rd files ... OK
* checking Rd metadata ... OK
* checking Rd cross-references ... OK
* checking for missing documentation entries ... OK
* checking for code/documentation mismatches ... OK
* checking Rd \usage sections ... OK
* checking Rd contents ... OK
* checking for unstated dependencies in examples ... OK
* checking R/sysdata.rda ... OK
* checking files in ‘vignettes’ ... OK
* checking examples ... OK
Examples with CPU (user + system) or elapsed time > 5s
user system elapsed
plotTranscripts 7.783 0.089 12.078
plotUniprotKBFeatures 7.318 0.248 14.250
mapProteinFeaturesToEvents 4.238 0.127 12.315
* checking for unstated dependencies in vignettes ... OK
* checking package vignettes in ‘inst/doc’ ... OK
* checking running R code from vignettes ... SKIPPED
* checking re-building of vignette outputs ... SKIPPED
* checking PDF version of manual ... OK
* DONE
Status: 1 NOTE
See
‘/Users/biocbuild/bbs-3.17-bioc-mac-arm64/meat/maser.Rcheck/00check.log’
for details.
maser.Rcheck/00install.out
############################################################################## ############################################################################## ### ### Running command: ### ### /Library/Frameworks/R.framework/Resources/bin/R CMD INSTALL maser ### ############################################################################## ############################################################################## * installing to library ‘/Library/Frameworks/R.framework/Versions/4.3-arm64/Resources/library’ * installing *source* package ‘maser’ ... ** using staged installation ** R ** inst ** byte-compile and prepare package for lazy loading ** help *** installing help indices ** building package indices ** installing vignettes ** testing if installed package can be loaded from temporary location ** testing if installed package can be loaded from final location ** testing if installed package keeps a record of temporary installation path * DONE (maser)
maser.Rcheck/maser-Ex.timings
| name | user | system | elapsed | |
| PSI-Maser-character-method | 0.842 | 0.069 | 1.411 | |
| PSI | 0.707 | 0.021 | 0.978 | |
| annotation-Maser-method | 0.661 | 0.017 | 1.019 | |
| availableFeaturesUniprotKB | 0.045 | 0.007 | 0.647 | |
| boxplot_PSI_levels | 1.863 | 0.065 | 2.683 | |
| counts-Maser-method | 0.659 | 0.010 | 1.003 | |
| display | 1.937 | 0.074 | 2.945 | |
| dotplot | 1.417 | 0.024 | 2.204 | |
| filterByCoverage | 2.047 | 0.021 | 3.152 | |
| filterByEventId | 1.044 | 0.015 | 1.640 | |
| geneEvents | 1.065 | 0.013 | 1.668 | |
| granges-Maser-method | 0.794 | 0.013 | 1.237 | |
| mapProteinFeaturesToEvents | 4.238 | 0.127 | 12.315 | |
| mapTranscriptsToEvents | 2.054 | 0.033 | 3.030 | |
| maser | 0.737 | 0.009 | 1.054 | |
| pca | 1.428 | 0.020 | 2.150 | |
| plotGenePSI | 2.075 | 0.027 | 3.057 | |
| plotTranscripts | 7.783 | 0.089 | 12.078 | |
| plotUniprotKBFeatures | 7.318 | 0.248 | 14.250 | |
| splicingDistribution | 1.442 | 0.023 | 2.124 | |
| summary-Maser-method | 0.836 | 0.011 | 1.261 | |
| topEvents | 1.071 | 0.019 | 1.662 | |
| volcano | 1.439 | 0.028 | 2.196 | |