| Back to Mac ARM64 build report for BioC 3.17 |
|
This page was generated on 2023-10-20 09:38:05 -0400 (Fri, 20 Oct 2023).
| Hostname | OS | Arch (*) | R version | Installed pkgs |
|---|---|---|---|---|
| kjohnson2 | macOS 12.6.1 Monterey | arm64 | 4.3.1 (2023-06-16) -- "Beagle Scouts" | 4347 |
| Click on any hostname to see more info about the system (e.g. compilers) (*) as reported by 'uname -p', except on Windows and Mac OS X | ||||
| Package 1119/2230 | Hostname | OS / Arch | INSTALL | BUILD | CHECK | BUILD BIN | ||||||||
| martini 1.20.0 (landing page) Hector Climente-Gonzalez
| kjohnson2 | macOS 12.6.1 Monterey / arm64 | OK | OK | OK | OK | ||||||||
|
To the developers/maintainers of the martini package: - Use the following Renviron settings to reproduce errors and warnings. - If 'R CMD check' started to fail recently on the Linux builder(s) over a missing dependency, add the missing dependency to 'Suggests:' in your DESCRIPTION file. See Renviron.bioc for more information. |
| Package: martini |
| Version: 1.20.0 |
| Command: /Library/Frameworks/R.framework/Resources/bin/R CMD check --install=check:martini.install-out.txt --library=/Library/Frameworks/R.framework/Resources/library --no-vignettes --timings martini_1.20.0.tar.gz |
| StartedAt: 2023-10-18 04:47:57 -0400 (Wed, 18 Oct 2023) |
| EndedAt: 2023-10-18 04:52:39 -0400 (Wed, 18 Oct 2023) |
| EllapsedTime: 282.1 seconds |
| RetCode: 0 |
| Status: OK |
| CheckDir: martini.Rcheck |
| Warnings: 0 |
##############################################################################
##############################################################################
###
### Running command:
###
### /Library/Frameworks/R.framework/Resources/bin/R CMD check --install=check:martini.install-out.txt --library=/Library/Frameworks/R.framework/Resources/library --no-vignettes --timings martini_1.20.0.tar.gz
###
##############################################################################
##############################################################################
* using log directory ‘/Users/biocbuild/bbs-3.17-bioc-mac-arm64/meat/martini.Rcheck’
* using R version 4.3.1 (2023-06-16)
* using platform: aarch64-apple-darwin20 (64-bit)
* R was compiled by
Apple clang version 14.0.0 (clang-1400.0.29.202)
GNU Fortran (GCC) 12.2.0
* running under: macOS Monterey 12.6.7
* using session charset: UTF-8
* using option ‘--no-vignettes’
* checking for file ‘martini/DESCRIPTION’ ... OK
* checking extension type ... Package
* this is package ‘martini’ version ‘1.20.0’
* package encoding: UTF-8
* checking package namespace information ... OK
* checking package dependencies ... OK
* checking if this is a source package ... OK
* checking if there is a namespace ... OK
* checking for hidden files and directories ... OK
* checking for portable file names ... OK
* checking for sufficient/correct file permissions ... OK
* checking whether package ‘martini’ can be installed ... OK
* used C++ compiler: ‘Apple clang version 14.0.0 (clang-1400.0.29.202)’
* used SDK: ‘MacOSX11.3.sdk’
* checking installed package size ... OK
* checking package directory ... OK
* checking ‘build’ directory ... OK
* checking DESCRIPTION meta-information ... OK
* checking top-level files ... OK
* checking for left-over files ... OK
* checking index information ... OK
* checking package subdirectories ... OK
* checking R files for non-ASCII characters ... OK
* checking R files for syntax errors ... OK
* checking whether the package can be loaded ... OK
* checking whether the package can be loaded with stated dependencies ... OK
* checking whether the package can be unloaded cleanly ... OK
* checking whether the namespace can be loaded with stated dependencies ... OK
* checking whether the namespace can be unloaded cleanly ... OK
* checking dependencies in R code ... OK
* checking S3 generic/method consistency ... OK
* checking replacement functions ... OK
* checking foreign function calls ... OK
* checking R code for possible problems ... NOTE
get_GI_network: no visible binding for global variable ‘gene1’
get_GI_network: no visible binding for global variable ‘gene2’
get_GM_network: no visible binding for global variable ‘gene’
group_snps: no visible binding for global variable ‘.’
Undefined global functions or variables:
. gene gene1 gene2
* checking Rd files ... OK
* checking Rd metadata ... OK
* checking Rd cross-references ... OK
* checking for missing documentation entries ... OK
* checking for code/documentation mismatches ... OK
* checking Rd \usage sections ... OK
* checking Rd contents ... OK
* checking for unstated dependencies in examples ... OK
* checking contents of ‘data’ directory ... OK
* checking data for non-ASCII characters ... OK
* checking LazyData ... OK
* checking data for ASCII and uncompressed saves ... OK
* checking line endings in C/C++/Fortran sources/headers ... OK
* checking line endings in Makefiles ... OK
* checking compilation flags in Makevars ... OK
* checking for GNU extensions in Makefiles ... OK
* checking for portable use of $(BLAS_LIBS) and $(LAPACK_LIBS) ... OK
* checking use of PKG_*FLAGS in Makefiles ... OK
* checking compiled code ... NOTE
Note: information on .o files is not available
File ‘/Library/Frameworks/R.framework/Versions/4.3-arm64/Resources/library/martini/libs/martini.so’:
Found ‘_exit’, possibly from ‘exit’ (C)
Compiled code should not call entry points which might terminate R nor
write to stdout/stderr instead of to the console, nor use Fortran I/O
nor system RNGs nor [v]sprintf. The detected symbols are linked into
the code but might come from libraries and not actually be called.
See ‘Writing portable packages’ in the ‘Writing R Extensions’ manual.
* checking files in ‘vignettes’ ... OK
* checking examples ... OK
* checking for unstated dependencies in ‘tests’ ... OK
* checking tests ...
Running ‘testthat.R’
OK
* checking for unstated dependencies in vignettes ... OK
* checking package vignettes in ‘inst/doc’ ... OK
* checking running R code from vignettes ... SKIPPED
* checking re-building of vignette outputs ... SKIPPED
* checking PDF version of manual ... OK
* DONE
Status: 2 NOTEs
See
‘/Users/biocbuild/bbs-3.17-bioc-mac-arm64/meat/martini.Rcheck/00check.log’
for details.
martini.Rcheck/00install.out
############################################################################## ############################################################################## ### ### Running command: ### ### /Library/Frameworks/R.framework/Resources/bin/R CMD INSTALL martini ### ############################################################################## ############################################################################## * installing to library ‘/Library/Frameworks/R.framework/Versions/4.3-arm64/Resources/library’ * installing *source* package ‘martini’ ... ** using staged installation ** libs using C++ compiler: ‘Apple clang version 14.0.0 (clang-1400.0.29.202)’ using SDK: ‘MacOSX11.3.sdk’ clang++ -arch arm64 -std=gnu++17 -I"/Library/Frameworks/R.framework/Resources/include" -DNDEBUG -I'/Library/Frameworks/R.framework/Versions/4.3-arm64/Resources/library/Rcpp/include' -I'/Library/Frameworks/R.framework/Versions/4.3-arm64/Resources/library/RcppEigen/include' -I/opt/R/arm64/include -std=c++11 -D_USE_KNETFILE -D_FILE_OFFSET_BITS=64 -U_FORTIFY_SOURCE -DBGZF_CACHE -I./lib `/Library/Frameworks/R.framework/Resources/bin/Rscript -e "Rcpp:::CxxFlags()"` -DEIGEN_PERMANENTLY_DISABLE_STUPID_WARNINGS -fPIC -falign-functions=64 -Wall -g -O2 -c RcppExports.cpp -o RcppExports.o clang++ -arch arm64 -std=gnu++17 -I"/Library/Frameworks/R.framework/Resources/include" -DNDEBUG -I'/Library/Frameworks/R.framework/Versions/4.3-arm64/Resources/library/Rcpp/include' -I'/Library/Frameworks/R.framework/Versions/4.3-arm64/Resources/library/RcppEigen/include' -I/opt/R/arm64/include -std=c++11 -D_USE_KNETFILE -D_FILE_OFFSET_BITS=64 -U_FORTIFY_SOURCE -DBGZF_CACHE -I./lib `/Library/Frameworks/R.framework/Resources/bin/Rscript -e "Rcpp:::CxxFlags()"` -DEIGEN_PERMANENTLY_DISABLE_STUPID_WARNINGS -fPIC -falign-functions=64 -Wall -g -O2 -c mincut.cpp -o mincut.o clang++ -arch arm64 -std=gnu++17 -I"/Library/Frameworks/R.framework/Resources/include" -DNDEBUG -I'/Library/Frameworks/R.framework/Versions/4.3-arm64/Resources/library/Rcpp/include' -I'/Library/Frameworks/R.framework/Versions/4.3-arm64/Resources/library/RcppEigen/include' -I/opt/R/arm64/include -std=c++11 -D_USE_KNETFILE -D_FILE_OFFSET_BITS=64 -U_FORTIFY_SOURCE -DBGZF_CACHE -I./lib `/Library/Frameworks/R.framework/Resources/bin/Rscript -e "Rcpp:::CxxFlags()"` -DEIGEN_PERMANENTLY_DISABLE_STUPID_WARNINGS -fPIC -falign-functions=64 -Wall -g -O2 -c lib/maxflow/maxflow.cpp -o lib/maxflow/maxflow.o ar -crus libmaxflow.a lib/maxflow/maxflow.o cp -r lib/maxflow "/Library/Frameworks/R.framework/Versions/4.3-arm64/Resources/library/00LOCK-martini/00new/martini/include" mkdir -p "/Library/Frameworks/R.framework/Versions/4.3-arm64/Resources/library/00LOCK-martini/00new/martini/usrlib" cp libmaxflow.a "/Library/Frameworks/R.framework/Versions/4.3-arm64/Resources/library/00LOCK-martini/00new/martini/usrlib" clang++ -arch arm64 -std=gnu++17 -dynamiclib -Wl,-headerpad_max_install_names -undefined dynamic_lookup -single_module -multiply_defined suppress -L/Library/Frameworks/R.framework/Resources/lib -L/opt/R/arm64/lib -o martini.so RcppExports.o mincut.o -pthread /Library/Frameworks/R.framework/Versions/4.3-arm64/Resources/library/00LOCK-martini/00new/martini/usrlib/libmaxflow.a -pthread -F/Library/Frameworks/R.framework/.. -framework R -Wl,-framework -Wl,CoreFoundation installing to /Library/Frameworks/R.framework/Versions/4.3-arm64/Resources/library/00LOCK-martini/00new/martini/libs ** R ** data *** moving datasets to lazyload DB ** inst ** byte-compile and prepare package for lazy loading ** help *** installing help indices ** building package indices ** installing vignettes ** testing if installed package can be loaded from temporary location ** checking absolute paths in shared objects and dynamic libraries ** testing if installed package can be loaded from final location ** testing if installed package keeps a record of temporary installation path * DONE (martini)
martini.Rcheck/tests/testthat.Rout
R version 4.3.1 (2023-06-16) -- "Beagle Scouts"
Copyright (C) 2023 The R Foundation for Statistical Computing
Platform: aarch64-apple-darwin20 (64-bit)
R is free software and comes with ABSOLUTELY NO WARRANTY.
You are welcome to redistribute it under certain conditions.
Type 'license()' or 'licence()' for distribution details.
R is a collaborative project with many contributors.
Type 'contributors()' for more information and
'citation()' on how to cite R or R packages in publications.
Type 'demo()' for some demos, 'help()' for on-line help, or
'help.start()' for an HTML browser interface to help.
Type 'q()' to quit R.
> library(testthat)
> library(martini)
> library(igraph)
Attaching package: 'igraph'
The following object is masked from 'package:testthat':
compare
The following objects are masked from 'package:stats':
decompose, spectrum
The following object is masked from 'package:base':
union
>
> test_check("martini")
trying URL 'https://stringdb-downloads.org/download/protein.links.v11.5/9606.protein.links.v11.5.txt.gz'
Content type 'application/octet-stream' length 72718210 bytes (69.3 MB)
==================================================
downloaded 69.3 MB
[ FAIL 0 | WARN 1 | SKIP 4 | PASS 232 ]
══ Skipped tests (4) ═══════════════════════════════════════════════════════════
• On Bioconductor (3): 'test_connect_biomart.R:1:1', 'test_get_gxg.R:1:1',
'test_snp2ensembl.R:1:1'
• empty test (1): 'test_plot_ideogram.R:3:1'
[ FAIL 0 | WARN 1 | SKIP 4 | PASS 232 ]
>
> proc.time()
user system elapsed
93.108 2.882 164.451
martini.Rcheck/martini-Ex.timings
| name | user | system | elapsed | |
| check_installed | 0.001 | 0.000 | 0.000 | |
| get_GI_network | 0.056 | 0.008 | 0.102 | |
| get_GM_network | 0.034 | 0.003 | 0.045 | |
| get_GS_network | 0.008 | 0.001 | 0.009 | |
| get_grid | 0.003 | 0.001 | 0.004 | |
| get_gxg_biogrid | 0 | 0 | 0 | |
| get_gxg_string | 0 | 0 | 0 | |
| get_snp_modules | 0.000 | 0.000 | 0.001 | |
| is_coherent | 0.003 | 0.001 | 0.003 | |
| ldweight_edges | 0.067 | 0.004 | 0.103 | |
| mget_gxg_biogrid | 0.000 | 0.001 | 0.000 | |
| mget_gxg_string | 0.001 | 0.000 | 0.001 | |
| minigwas | 0.021 | 0.008 | 0.043 | |
| minippi | 0.002 | 0.002 | 0.005 | |
| minisnpMapping | 0.002 | 0.001 | 0.004 | |
| scones | 0.059 | 0.005 | 0.098 | |
| scones.cv | 0.185 | 0.008 | 0.298 | |
| scones.cv_ | 0.107 | 0.005 | 0.175 | |
| scones_ | 0.041 | 0.003 | 0.069 | |
| search_cones | 0 | 0 | 0 | |
| sigmod | 0.040 | 0.003 | 0.065 | |
| sigmod.cv | 0.170 | 0.005 | 0.265 | |
| sigmod.cv_ | 0.091 | 0.004 | 0.126 | |
| sigmod_ | 0.055 | 0.004 | 0.075 | |
| simulate_causal_snps | 0.038 | 0.003 | 0.056 | |
| simulate_phenotype | 0.043 | 0.005 | 0.063 | |
| subnet | 0.049 | 0.003 | 0.076 | |
| subvert | 0.032 | 0.003 | 0.057 | |