| Back to Mac ARM64 build report for BioC 3.17 |
|
This page was generated on 2023-10-20 09:38:03 -0400 (Fri, 20 Oct 2023).
| Hostname | OS | Arch (*) | R version | Installed pkgs |
|---|---|---|---|---|
| kjohnson2 | macOS 12.6.1 Monterey | arm64 | 4.3.1 (2023-06-16) -- "Beagle Scouts" | 4347 |
| Click on any hostname to see more info about the system (e.g. compilers) (*) as reported by 'uname -p', except on Windows and Mac OS X | ||||
| Package 904/2230 | Hostname | OS / Arch | INSTALL | BUILD | CHECK | BUILD BIN | ||||||||
| gwascat 2.32.0 (landing page) VJ Carey
| kjohnson2 | macOS 12.6.1 Monterey / arm64 | OK | OK | OK | OK | ||||||||
|
To the developers/maintainers of the gwascat package: - Use the following Renviron settings to reproduce errors and warnings. - If 'R CMD check' started to fail recently on the Linux builder(s) over a missing dependency, add the missing dependency to 'Suggests:' in your DESCRIPTION file. See Renviron.bioc for more information. |
| Package: gwascat |
| Version: 2.32.0 |
| Command: /Library/Frameworks/R.framework/Resources/bin/R CMD check --install=check:gwascat.install-out.txt --library=/Library/Frameworks/R.framework/Resources/library --no-vignettes --timings gwascat_2.32.0.tar.gz |
| StartedAt: 2023-10-18 00:01:25 -0400 (Wed, 18 Oct 2023) |
| EndedAt: 2023-10-18 00:14:53 -0400 (Wed, 18 Oct 2023) |
| EllapsedTime: 807.5 seconds |
| RetCode: 0 |
| Status: OK |
| CheckDir: gwascat.Rcheck |
| Warnings: 0 |
##############################################################################
##############################################################################
###
### Running command:
###
### /Library/Frameworks/R.framework/Resources/bin/R CMD check --install=check:gwascat.install-out.txt --library=/Library/Frameworks/R.framework/Resources/library --no-vignettes --timings gwascat_2.32.0.tar.gz
###
##############################################################################
##############################################################################
* using log directory ‘/Users/biocbuild/bbs-3.17-bioc-mac-arm64/meat/gwascat.Rcheck’
* using R version 4.3.1 (2023-06-16)
* using platform: aarch64-apple-darwin20 (64-bit)
* R was compiled by
Apple clang version 14.0.0 (clang-1400.0.29.202)
GNU Fortran (GCC) 12.2.0
* running under: macOS Monterey 12.6.7
* using session charset: UTF-8
* using option ‘--no-vignettes’
* checking for file ‘gwascat/DESCRIPTION’ ... OK
* this is package ‘gwascat’ version ‘2.32.0’
* package encoding: UTF-8
* checking package namespace information ... OK
* checking package dependencies ... OK
* checking if this is a source package ... OK
* checking if there is a namespace ... OK
* checking for hidden files and directories ... OK
* checking for portable file names ... OK
* checking for sufficient/correct file permissions ... OK
* checking whether package ‘gwascat’ can be installed ... OK
* checking installed package size ... NOTE
installed size is 34.0Mb
sub-directories of 1Mb or more:
data 10.1Mb
legacy 15.6Mb
obo 3.0Mb
olddata 2.2Mb
tab 1.1Mb
* checking package directory ... OK
* checking ‘build’ directory ... OK
* checking DESCRIPTION meta-information ... OK
* checking top-level files ... OK
* checking for left-over files ... OK
* checking index information ... OK
* checking package subdirectories ... OK
* checking R files for non-ASCII characters ... OK
* checking R files for syntax errors ... OK
* checking whether the package can be loaded ... OK
* checking whether the package can be loaded with stated dependencies ... OK
* checking whether the package can be unloaded cleanly ... OK
* checking whether the namespace can be loaded with stated dependencies ... OK
* checking whether the namespace can be unloaded cleanly ... OK
* checking startup messages can be suppressed ... OK
* checking dependencies in R code ... OK
* checking S3 generic/method consistency ... OK
* checking replacement functions ... OK
* checking foreign function calls ... OK
* checking R code for possible problems ... NOTE
bindcadd_snv: no visible global function definition for ‘TabixFile’
bindcadd_snv: no visible global function definition for ‘findOverlaps’
chklocs: no visible binding for global variable ‘gwrngs19’
chklocs: no visible global function definition for ‘snpsBySeqname’
gwascat_from_AHub: no visible binding for global variable ‘si.hs.38’
gwcat_snapshot: no visible binding for global variable ‘si.hs.38’
lo38to19: no visible global function definition for ‘liftOver’
lo38to19: no visible binding for global variable ‘si.hs.37’
makeCurrentGwascat: no visible binding for global variable ‘si.hs.38’
process_gwas_dataframe: no visible binding for global variable
‘si.hs.38’
snpGenos: no visible global function definition for ‘getSNPlocs’
tfilt: no visible binding for global variable ‘phr’
tpad: no visible binding for global variable ‘phr’
traitsManh: no visible global function definition for ‘aes’
traitsManh: no visible binding for global variable ‘PVALUE_MLOG’
variantProps: no visible binding for global variable ‘gwrngs’
Undefined global functions or variables:
PVALUE_MLOG TabixFile aes findOverlaps getSNPlocs gwrngs gwrngs19
liftOver phr si.hs.37 si.hs.38 snpsBySeqname
* checking Rd files ... NOTE
checkRd: (-1) gwcex2gviz.Rd:33: Escaped LaTeX specials: \_
checkRd: (-1) traitsManh.Rd:18: Escaped LaTeX specials: \_
* checking Rd metadata ... OK
* checking Rd cross-references ... OK
* checking for missing documentation entries ... OK
* checking for code/documentation mismatches ... OK
* checking Rd \usage sections ... OK
* checking Rd contents ... OK
* checking for unstated dependencies in examples ... OK
* checking contents of ‘data’ directory ... OK
* checking data for non-ASCII characters ... NOTE
Note: found 2077 marked UTF-8 strings
* checking data for ASCII and uncompressed saves ... OK
* checking files in ‘vignettes’ ... OK
* checking examples ... OK
Examples with CPU (user + system) or elapsed time > 5s
user system elapsed
gwascat_from_AHub 25.699 0.786 47.196
gwcat_snapshot 23.528 0.635 37.558
gg17N 15.688 0.115 24.340
gwcex2gviz 11.535 0.436 18.389
* checking for unstated dependencies in ‘tests’ ... OK
* checking tests ...
Running ‘testthat.R’
OK
* checking for unstated dependencies in vignettes ... OK
* checking package vignettes in ‘inst/doc’ ... OK
* checking running R code from vignettes ... SKIPPED
* checking re-building of vignette outputs ... SKIPPED
* checking PDF version of manual ... OK
* DONE
Status: 4 NOTEs
See
‘/Users/biocbuild/bbs-3.17-bioc-mac-arm64/meat/gwascat.Rcheck/00check.log’
for details.
gwascat.Rcheck/00install.out
############################################################################## ############################################################################## ### ### Running command: ### ### /Library/Frameworks/R.framework/Resources/bin/R CMD INSTALL gwascat ### ############################################################################## ############################################################################## * installing to library ‘/Library/Frameworks/R.framework/Versions/4.3-arm64/Resources/library’ * installing *source* package ‘gwascat’ ... ** using staged installation ** R ** data ** inst ** byte-compile and prepare package for lazy loading ** help *** installing help indices ** building package indices ** installing vignettes ** testing if installed package can be loaded from temporary location ** testing if installed package can be loaded from final location ** testing if installed package keeps a record of temporary installation path * DONE (gwascat)
gwascat.Rcheck/tests/testthat.Rout
R version 4.3.1 (2023-06-16) -- "Beagle Scouts"
Copyright (C) 2023 The R Foundation for Statistical Computing
Platform: aarch64-apple-darwin20 (64-bit)
R is free software and comes with ABSOLUTELY NO WARRANTY.
You are welcome to redistribute it under certain conditions.
Type 'license()' or 'licence()' for distribution details.
R is a collaborative project with many contributors.
Type 'contributors()' for more information and
'citation()' on how to cite R or R packages in publications.
Type 'demo()' for some demos, 'help()' for on-line help, or
'help.start()' for an HTML browser interface to help.
Type 'q()' to quit R.
> library(testthat)
>
> test_check("gwascat")
Loading required package: gwascat
gwascat loaded. Use makeCurrentGwascat() to extract current image.
from EBI. The data folder of this package has some legacy extracts.
[ FAIL 0 | WARN 0 | SKIP 0 | PASS 0 ]
>
>
> proc.time()
user system elapsed
14.936 0.646 27.607
gwascat.Rcheck/gwascat-Ex.timings
| name | user | system | elapsed | |
| bindcadd_snv | 0.000 | 0.000 | 0.001 | |
| gg17N | 15.688 | 0.115 | 24.340 | |
| gwascat_from_AHub | 25.699 | 0.786 | 47.196 | |
| gwcat_snapshot | 23.528 | 0.635 | 37.558 | |
| gwcex2gviz | 11.535 | 0.436 | 18.389 | |
| ldtagr | 0.705 | 0.013 | 1.111 | |
| makeCurrentGwascat | 0.000 | 0.000 | 0.001 | |
| obo2graphNEL | 0.386 | 0.033 | 0.622 | |
| riskyAlleleCount | 0 | 0 | 0 | |
| topTraits | 1.196 | 0.028 | 1.807 | |
| traitsManh | 0.000 | 0.000 | 0.001 | |