| Back to Mac ARM64 build report for BioC 3.17 |
|
This page was generated on 2023-10-20 09:38:03 -0400 (Fri, 20 Oct 2023).
| Hostname | OS | Arch (*) | R version | Installed pkgs |
|---|---|---|---|---|
| kjohnson2 | macOS 12.6.1 Monterey | arm64 | 4.3.1 (2023-06-16) -- "Beagle Scouts" | 4347 |
| Click on any hostname to see more info about the system (e.g. compilers) (*) as reported by 'uname -p', except on Windows and Mac OS X | ||||
| Package 876/2230 | Hostname | OS / Arch | INSTALL | BUILD | CHECK | BUILD BIN | ||||||||
| graph 1.78.0 (landing page) Bioconductor Package Maintainer
| kjohnson2 | macOS 12.6.1 Monterey / arm64 | OK | OK | OK | OK | ||||||||
|
To the developers/maintainers of the graph package: - Use the following Renviron settings to reproduce errors and warnings. - If 'R CMD check' started to fail recently on the Linux builder(s) over a missing dependency, add the missing dependency to 'Suggests:' in your DESCRIPTION file. See Renviron.bioc for more information. |
| Package: graph |
| Version: 1.78.0 |
| Command: /Library/Frameworks/R.framework/Resources/bin/R CMD check --install=check:graph.install-out.txt --library=/Library/Frameworks/R.framework/Resources/library --no-vignettes --timings graph_1.78.0.tar.gz |
| StartedAt: 2023-10-17 23:25:35 -0400 (Tue, 17 Oct 2023) |
| EndedAt: 2023-10-17 23:27:25 -0400 (Tue, 17 Oct 2023) |
| EllapsedTime: 109.5 seconds |
| RetCode: 0 |
| Status: OK |
| CheckDir: graph.Rcheck |
| Warnings: 0 |
##############################################################################
##############################################################################
###
### Running command:
###
### /Library/Frameworks/R.framework/Resources/bin/R CMD check --install=check:graph.install-out.txt --library=/Library/Frameworks/R.framework/Resources/library --no-vignettes --timings graph_1.78.0.tar.gz
###
##############################################################################
##############################################################################
* using log directory ‘/Users/biocbuild/bbs-3.17-bioc-mac-arm64/meat/graph.Rcheck’
* using R version 4.3.1 (2023-06-16)
* using platform: aarch64-apple-darwin20 (64-bit)
* R was compiled by
Apple clang version 14.0.0 (clang-1400.0.29.202)
GNU Fortran (GCC) 12.2.0
* running under: macOS Monterey 12.6.7
* using session charset: UTF-8
* using option ‘--no-vignettes’
* checking for file ‘graph/DESCRIPTION’ ... OK
* this is package ‘graph’ version ‘1.78.0’
* checking package namespace information ... OK
* checking package dependencies ... OK
* checking if this is a source package ... OK
* checking if there is a namespace ... OK
* checking for hidden files and directories ... OK
* checking for portable file names ... OK
* checking for sufficient/correct file permissions ... OK
* checking whether package ‘graph’ can be installed ... OK
* used C compiler: ‘Apple clang version 14.0.0 (clang-1400.0.29.202)’
* used SDK: ‘MacOSX11.3.sdk’
* checking installed package size ... OK
* checking package directory ... OK
* checking ‘build’ directory ... OK
* checking DESCRIPTION meta-information ... OK
* checking top-level files ... OK
* checking for left-over files ... OK
* checking index information ... OK
* checking package subdirectories ... OK
* checking R files for non-ASCII characters ... OK
* checking R files for syntax errors ... OK
* checking whether the package can be loaded ... OK
* checking whether the package can be loaded with stated dependencies ... OK
* checking whether the package can be unloaded cleanly ... OK
* checking whether the namespace can be loaded with stated dependencies ... OK
* checking whether the namespace can be unloaded cleanly ... OK
* checking dependencies in R code ... NOTE
'library' or 'require' call to ‘package’ in package code.
Please use :: or requireNamespace() instead.
See section 'Suggested packages' in the 'Writing R Extensions' manual.
* checking S3 generic/method consistency ... OK
* checking replacement functions ... OK
* checking foreign function calls ... OK
* checking R code for possible problems ... OK
* checking Rd files ... OK
* checking Rd metadata ... OK
* checking Rd cross-references ... OK
* checking for missing documentation entries ... OK
* checking for code/documentation mismatches ... OK
* checking Rd \usage sections ... OK
* checking Rd contents ... OK
* checking for unstated dependencies in examples ... OK
* checking contents of ‘data’ directory ... OK
* checking data for non-ASCII characters ... OK
* checking data for ASCII and uncompressed saves ... OK
* checking line endings in C/C++/Fortran sources/headers ... OK
* checking line endings in Makefiles ... OK
* checking compilation flags in Makevars ... OK
* checking for GNU extensions in Makefiles ... OK
* checking for portable use of $(BLAS_LIBS) and $(LAPACK_LIBS) ... OK
* checking use of PKG_*FLAGS in Makefiles ... OK
* checking include directives in Makefiles ... OK
* checking compiled code ... NOTE
Note: information on .o files is not available
* checking sizes of PDF files under ‘inst/doc’ ... OK
* checking files in ‘vignettes’ ... OK
* checking examples ... OK
* checking for unstated dependencies in ‘tests’ ... OK
* checking tests ...
Running ‘graph_unit_tests.R’
OK
* checking for unstated dependencies in vignettes ... OK
* checking package vignettes in ‘inst/doc’ ... OK
* checking running R code from vignettes ... SKIPPED
* checking re-building of vignette outputs ... SKIPPED
* checking PDF version of manual ... OK
* DONE
Status: 2 NOTEs
See
‘/Users/biocbuild/bbs-3.17-bioc-mac-arm64/meat/graph.Rcheck/00check.log’
for details.
graph.Rcheck/00install.out
############################################################################## ############################################################################## ### ### Running command: ### ### /Library/Frameworks/R.framework/Resources/bin/R CMD INSTALL graph ### ############################################################################## ############################################################################## * installing to library ‘/Library/Frameworks/R.framework/Versions/4.3-arm64/Resources/library’ * installing *source* package ‘graph’ ... ** using staged installation ** libs using C compiler: ‘Apple clang version 14.0.0 (clang-1400.0.29.202)’ using SDK: ‘MacOSX11.3.sdk’ clang -arch arm64 -I"/Library/Frameworks/R.framework/Resources/include" -DNDEBUG -I/opt/R/arm64/include -fPIC -falign-functions=64 -Wall -g -O2 -c graph.c -o graph.o clang -arch arm64 -dynamiclib -Wl,-headerpad_max_install_names -undefined dynamic_lookup -single_module -multiply_defined suppress -L/Library/Frameworks/R.framework/Resources/lib -L/opt/R/arm64/lib -o graph.so graph.o -F/Library/Frameworks/R.framework/.. -framework R -Wl,-framework -Wl,CoreFoundation mv graph.so BioC_graph.so installing to /Library/Frameworks/R.framework/Versions/4.3-arm64/Resources/library/00LOCK-graph/00new/graph/libs ** R ** data ** inst ** byte-compile and prepare package for lazy loading ** help *** installing help indices ** building package indices ** installing vignettes ** testing if installed package can be loaded from temporary location ** checking absolute paths in shared objects and dynamic libraries ** testing if installed package can be loaded from final location ** testing if installed package keeps a record of temporary installation path * DONE (graph)
graph.Rcheck/tests/graph_unit_tests.Rout
R version 4.3.1 (2023-06-16) -- "Beagle Scouts"
Copyright (C) 2023 The R Foundation for Statistical Computing
Platform: aarch64-apple-darwin20 (64-bit)
R is free software and comes with ABSOLUTELY NO WARRANTY.
You are welcome to redistribute it under certain conditions.
Type 'license()' or 'licence()' for distribution details.
R is a collaborative project with many contributors.
Type 'contributors()' for more information and
'citation()' on how to cite R or R packages in publications.
Type 'demo()' for some demos, 'help()' for on-line help, or
'help.start()' for an HTML browser interface to help.
Type 'q()' to quit R.
> BiocGenerics:::testPackage("graph", pattern="_test.R")
Attaching package: 'BiocGenerics'
The following objects are masked from 'package:stats':
IQR, mad, sd, var, xtabs
The following objects are masked from 'package:base':
Filter, Find, Map, Position, Reduce, anyDuplicated, aperm, append,
as.data.frame, basename, cbind, colnames, dirname, do.call,
duplicated, eval, evalq, get, grep, grepl, intersect, is.unsorted,
lapply, mapply, match, mget, order, paste, pmax, pmax.int, pmin,
pmin.int, rank, rbind, rownames, sapply, setdiff, sort, table,
tapply, union, unique, unsplit, which.max, which.min
RUNIT TEST PROTOCOL -- Tue Oct 17 23:27:04 2023
***********************************************
Number of test functions: 208
Number of errors: 0
Number of failures: 0
1 Test Suite :
graph RUnit Tests - 208 test functions, 0 errors, 0 failures
Number of test functions: 208
Number of errors: 0
Number of failures: 0
>
> proc.time()
user system elapsed
4.409 0.165 6.990
graph.Rcheck/graph-Ex.timings
| name | user | system | elapsed | |
| DFS | 0.032 | 0.003 | 0.058 | |
| IMCA | 0.164 | 0.022 | 0.283 | |
| MAPKsig | 0.110 | 0.006 | 0.180 | |
| MultiGraph-class | 0.130 | 0.007 | 0.211 | |
| acc-methods | 0.008 | 0.001 | 0.014 | |
| addEdge | 0.048 | 0.001 | 0.074 | |
| addNode | 0.009 | 0.001 | 0.014 | |
| adj-methods | 0.002 | 0.001 | 0.003 | |
| adjacencyMatrix | 0.002 | 0.001 | 0.003 | |
| apoptosisGraph | 0.023 | 0.004 | 0.039 | |
| attrData-class | 0.001 | 0.001 | 0.001 | |
| aveNumEdges | 0.004 | 0.000 | 0.007 | |
| biocRepos | 0.002 | 0.001 | 0.003 | |
| boundary | 0.003 | 0.000 | 0.004 | |
| calcProb | 0.001 | 0.001 | 0.001 | |
| calcSumProb | 0.005 | 0.000 | 0.010 | |
| clearNode | 0.012 | 0.000 | 0.022 | |
| clusterGraph-class | 0.017 | 0.000 | 0.026 | |
| clusteringCoefficient-methods | 0.030 | 0.001 | 0.045 | |
| combineNodes | 0.079 | 0.001 | 0.122 | |
| distGraph-class | 0.000 | 0.000 | 0.002 | |
| duplicatedEdges | 0 | 0 | 0 | |
| edgeMatrix | 0.008 | 0.001 | 0.017 | |
| edgeSets | 0.036 | 0.006 | 0.063 | |
| edgeWeights | 0.008 | 0.001 | 0.015 | |
| fromGXL-methods | 0.219 | 0.009 | 0.355 | |
| graph-class | 0.004 | 0.001 | 0.008 | |
| graph2SparseM | 0.110 | 0.004 | 0.178 | |
| graphAM-class | 0.009 | 0.001 | 0.011 | |
| graphBAM-class | 0.028 | 0.003 | 0.046 | |
| graphExamples | 0.004 | 0.001 | 0.009 | |
| graphNEL-class | 0.005 | 0.000 | 0.011 | |
| inEdges | 0.006 | 0.000 | 0.010 | |
| leaves | 0.008 | 0.002 | 0.015 | |
| listEdges | 0.010 | 0.001 | 0.019 | |
| matrix2Graph | 0.027 | 0.001 | 0.041 | |
| mostEdges | 0.006 | 0.000 | 0.011 | |
| numNoEdges | 0.002 | 0.000 | 0.004 | |
| pancrCaIni | 0.136 | 0.005 | 0.217 | |
| randomEGraph | 0.005 | 0.001 | 0.006 | |
| randomGraph | 0.011 | 0.001 | 0.020 | |
| randomNodeGraph | 0.003 | 0.001 | 0.006 | |
| removeEdge | 0.009 | 0.001 | 0.013 | |
| removeNode | 0.006 | 0.001 | 0.009 | |
| renderInfo-class | 0.006 | 0.001 | 0.010 | |
| reverseEdgeDirections | 0.003 | 0.000 | 0.006 | |
| simpleEdge-class | 0.001 | 0.001 | 0.001 | |
| standardLabeling | 0.039 | 0.001 | 0.061 | |
| subGraph | 0.002 | 0.000 | 0.003 | |
| toDotR-methods | 0.023 | 0.005 | 0.047 | |
| ugraph | 0.008 | 0.001 | 0.012 | |
| validGraph | 0.001 | 0.001 | 0.001 | |