| Back to Mac ARM64 build report for BioC 3.17 |
|
This page was generated on 2023-10-20 09:38:03 -0400 (Fri, 20 Oct 2023).
| Hostname | OS | Arch (*) | R version | Installed pkgs |
|---|---|---|---|---|
| kjohnson2 | macOS 12.6.1 Monterey | arm64 | 4.3.1 (2023-06-16) -- "Beagle Scouts" | 4347 |
| Click on any hostname to see more info about the system (e.g. compilers) (*) as reported by 'uname -p', except on Windows and Mac OS X | ||||
| Package 797/2230 | Hostname | OS / Arch | INSTALL | BUILD | CHECK | BUILD BIN | ||||||||
| genoCN 1.52.0 (landing page) Wei Sun
| kjohnson2 | macOS 12.6.1 Monterey / arm64 | OK | OK | OK | OK | ||||||||
|
To the developers/maintainers of the genoCN package: - Use the following Renviron settings to reproduce errors and warnings. - If 'R CMD check' started to fail recently on the Linux builder(s) over a missing dependency, add the missing dependency to 'Suggests:' in your DESCRIPTION file. See Renviron.bioc for more information. |
| Package: genoCN |
| Version: 1.52.0 |
| Command: /Library/Frameworks/R.framework/Resources/bin/R CMD INSTALL genoCN |
| StartedAt: 2023-10-15 16:09:07 -0400 (Sun, 15 Oct 2023) |
| EndedAt: 2023-10-15 16:09:17 -0400 (Sun, 15 Oct 2023) |
| EllapsedTime: 10.2 seconds |
| RetCode: 0 |
| Status: OK |
##############################################################################
##############################################################################
###
### Running command:
###
### /Library/Frameworks/R.framework/Resources/bin/R CMD INSTALL genoCN
###
##############################################################################
##############################################################################
* installing to library ‘/Library/Frameworks/R.framework/Versions/4.3-arm64/Resources/library’
* installing *source* package ‘genoCN’ ...
** using staged installation
** libs
using C compiler: ‘Apple clang version 14.0.0 (clang-1400.0.29.202)’
using SDK: ‘MacOSX11.3.sdk’
clang -arch arm64 -I"/Library/Frameworks/R.framework/Resources/include" -DNDEBUG -I/opt/R/arm64/include -fPIC -falign-functions=64 -Wall -g -O2 -c tnorm_mle.c -o tnorm_mle.o
clang -arch arm64 -I"/Library/Frameworks/R.framework/Resources/include" -DNDEBUG -I/opt/R/arm64/include -fPIC -falign-functions=64 -Wall -g -O2 -c utility.c -o utility.o
clang -arch arm64 -I"/Library/Frameworks/R.framework/Resources/include" -DNDEBUG -I/opt/R/arm64/include -fPIC -falign-functions=64 -Wall -g -O2 -c xCNV.c -o xCNV.o
xCNV.c:317:25: warning: unused variable 'k' [-Wunused-variable]
int L, N, M, K, i, z, k, nGtp, contam=*contamR, CNA=*CNAR;
^
xCNV.c:317:16: warning: unused variable 'K' [-Wunused-variable]
int L, N, M, K, i, z, k, nGtp, contam=*contamR, CNA=*CNAR;
^
xCNV.c:762:10: warning: variable 'LL' set but not used [-Wunused-but-set-variable]
int L, LL, N, NN, M, MM, S, LS, CNA = *RCNA,
^
xCNV.c:787:20: warning: unused variable 'sd_b_tmp' [-Wunused-variable]
double mu_b_tmp, sd_b_tmp;
^
xCNV.c:787:10: warning: unused variable 'mu_b_tmp' [-Wunused-variable]
double mu_b_tmp, sd_b_tmp;
^
5 warnings generated.
clang -arch arm64 -dynamiclib -Wl,-headerpad_max_install_names -undefined dynamic_lookup -single_module -multiply_defined suppress -L/Library/Frameworks/R.framework/Resources/lib -L/opt/R/arm64/lib -o genoCN.so tnorm_mle.o utility.o xCNV.o -F/Library/Frameworks/R.framework/.. -framework R -Wl,-framework -Wl,CoreFoundation
installing to /Library/Frameworks/R.framework/Versions/4.3-arm64/Resources/library/00LOCK-genoCN/00new/genoCN/libs
** R
** data
** inst
** byte-compile and prepare package for lazy loading
** help
*** installing help indices
** building package indices
** installing vignettes
** testing if installed package can be loaded from temporary location
** checking absolute paths in shared objects and dynamic libraries
** testing if installed package can be loaded from final location
** testing if installed package keeps a record of temporary installation path
* DONE (genoCN)