| Back to Mac ARM64 build report for BioC 3.17 |
|
This page was generated on 2023-10-20 09:38:02 -0400 (Fri, 20 Oct 2023).
| Hostname | OS | Arch (*) | R version | Installed pkgs |
|---|---|---|---|---|
| kjohnson2 | macOS 12.6.1 Monterey | arm64 | 4.3.1 (2023-06-16) -- "Beagle Scouts" | 4347 |
| Click on any hostname to see more info about the system (e.g. compilers) (*) as reported by 'uname -p', except on Windows and Mac OS X | ||||
| Package 768/2230 | Hostname | OS / Arch | INSTALL | BUILD | CHECK | BUILD BIN | ||||||||
| gemini 1.14.0 (landing page) Sidharth Jain
| kjohnson2 | macOS 12.6.1 Monterey / arm64 | OK | OK | OK | OK | ||||||||
|
To the developers/maintainers of the gemini package: - Use the following Renviron settings to reproduce errors and warnings. - If 'R CMD check' started to fail recently on the Linux builder(s) over a missing dependency, add the missing dependency to 'Suggests:' in your DESCRIPTION file. See Renviron.bioc for more information. |
| Package: gemini |
| Version: 1.14.0 |
| Command: /Library/Frameworks/R.framework/Resources/bin/R CMD check --install=check:gemini.install-out.txt --library=/Library/Frameworks/R.framework/Resources/library --no-vignettes --timings gemini_1.14.0.tar.gz |
| StartedAt: 2023-10-17 20:55:44 -0400 (Tue, 17 Oct 2023) |
| EndedAt: 2023-10-17 21:00:12 -0400 (Tue, 17 Oct 2023) |
| EllapsedTime: 268.6 seconds |
| RetCode: 0 |
| Status: OK |
| CheckDir: gemini.Rcheck |
| Warnings: 0 |
##############################################################################
##############################################################################
###
### Running command:
###
### /Library/Frameworks/R.framework/Resources/bin/R CMD check --install=check:gemini.install-out.txt --library=/Library/Frameworks/R.framework/Resources/library --no-vignettes --timings gemini_1.14.0.tar.gz
###
##############################################################################
##############################################################################
* using log directory ‘/Users/biocbuild/bbs-3.17-bioc-mac-arm64/meat/gemini.Rcheck’
* using R version 4.3.1 (2023-06-16)
* using platform: aarch64-apple-darwin20 (64-bit)
* R was compiled by
Apple clang version 14.0.0 (clang-1400.0.29.202)
GNU Fortran (GCC) 12.2.0
* running under: macOS Monterey 12.6.7
* using session charset: UTF-8
* using option ‘--no-vignettes’
* checking for file ‘gemini/DESCRIPTION’ ... OK
* checking extension type ... Package
* this is package ‘gemini’ version ‘1.14.0’
* package encoding: UTF-8
* checking package namespace information ... OK
* checking package dependencies ... OK
* checking if this is a source package ... OK
* checking if there is a namespace ... OK
* checking for hidden files and directories ... OK
* checking for portable file names ... OK
* checking for sufficient/correct file permissions ... OK
* checking whether package ‘gemini’ can be installed ... OK
* checking installed package size ... OK
* checking package directory ... OK
* checking ‘build’ directory ... OK
* checking DESCRIPTION meta-information ... OK
* checking top-level files ... OK
* checking for left-over files ... OK
* checking index information ... OK
* checking package subdirectories ... OK
* checking R files for non-ASCII characters ... OK
* checking R files for syntax errors ... OK
* checking whether the package can be loaded ... OK
* checking whether the package can be loaded with stated dependencies ... OK
* checking whether the package can be unloaded cleanly ... OK
* checking whether the namespace can be loaded with stated dependencies ... OK
* checking whether the namespace can be unloaded cleanly ... OK
* checking dependencies in R code ... OK
* checking S3 generic/method consistency ... OK
* checking replacement functions ... OK
* checking foreign function calls ... OK
* checking R code for possible problems ... NOTE
gemini_boxplot : <anonymous>: no visible binding for global variable
‘.’
gemini_boxplot: no visible binding for global variable ‘.’
gemini_boxplot : <anonymous>: no visible binding for global variable
‘gi’
gemini_boxplot : <anonymous>: no visible binding for global variable
‘hj’
gemini_boxplot: no visible binding for global variable ‘label’
gemini_boxplot: no visible binding for global variable ‘y’
gemini_calculate_lfc: no visible binding for global variable ‘.’
update_s_pb: no visible binding for global variable ‘.’
update_tau_pb: no visible binding for global variable ‘.’
Undefined global functions or variables:
. gi hj label y
* checking Rd files ... OK
* checking Rd metadata ... OK
* checking Rd cross-references ... OK
* checking for missing documentation entries ... OK
* checking for code/documentation mismatches ... OK
* checking Rd \usage sections ... OK
* checking Rd contents ... OK
* checking for unstated dependencies in examples ... OK
* checking contents of ‘data’ directory ... OK
* checking data for non-ASCII characters ... OK
* checking data for ASCII and uncompressed saves ... OK
* checking files in ‘vignettes’ ... OK
* checking examples ... OK
Examples with CPU (user + system) or elapsed time > 5s
user system elapsed
gemini_inference 25.741 1.803 42.122
update_tau_pb 11.842 0.766 19.268
update_x_pb 10.196 0.548 16.356
gemini_initialize 5.229 0.091 8.169
update_y_pb 3.214 0.058 5.058
* checking for unstated dependencies in ‘tests’ ... OK
* checking tests ...
Running ‘testthat.R’
OK
* checking for unstated dependencies in vignettes ... OK
* checking package vignettes in ‘inst/doc’ ... OK
* checking running R code from vignettes ... SKIPPED
* checking re-building of vignette outputs ... SKIPPED
* checking PDF version of manual ... OK
* DONE
Status: 1 NOTE
See
‘/Users/biocbuild/bbs-3.17-bioc-mac-arm64/meat/gemini.Rcheck/00check.log’
for details.
gemini.Rcheck/00install.out
############################################################################## ############################################################################## ### ### Running command: ### ### /Library/Frameworks/R.framework/Resources/bin/R CMD INSTALL gemini ### ############################################################################## ############################################################################## * installing to library ‘/Library/Frameworks/R.framework/Versions/4.3-arm64/Resources/library’ * installing *source* package ‘gemini’ ... ** using staged installation ** R ** data ** inst ** byte-compile and prepare package for lazy loading ** help *** installing help indices ** building package indices ** installing vignettes ** testing if installed package can be loaded from temporary location ** testing if installed package can be loaded from final location ** testing if installed package keeps a record of temporary installation path * DONE (gemini)
gemini.Rcheck/tests/testthat.Rout
R version 4.3.1 (2023-06-16) -- "Beagle Scouts"
Copyright (C) 2023 The R Foundation for Statistical Computing
Platform: aarch64-apple-darwin20 (64-bit)
R is free software and comes with ABSOLUTELY NO WARRANTY.
You are welcome to redistribute it under certain conditions.
Type 'license()' or 'licence()' for distribution details.
R is a collaborative project with many contributors.
Type 'contributors()' for more information and
'citation()' on how to cite R or R packages in publications.
Type 'demo()' for some demos, 'help()' for on-line help, or
'help.start()' for an HTML browser interface to help.
Type 'q()' to quit R.
> library(testthat)
> library(gemini)
>
> test_check("gemini")
[ FAIL 0 | WARN 3 | SKIP 0 | PASS 7 ]
[ FAIL 0 | WARN 3 | SKIP 0 | PASS 7 ]
>
> proc.time()
user system elapsed
8.471 0.374 13.585
gemini.Rcheck/gemini-Ex.timings
| name | user | system | elapsed | |
| Sgene2Pguides_hash | 0.000 | 0.001 | 0.000 | |
| Sguide2Pguides_hash | 0.001 | 0.001 | 0.000 | |
| compound | 0.000 | 0.001 | 0.000 | |
| dot-median_normalize | 0.000 | 0.000 | 0.001 | |
| gemini_boxplot | 2.667 | 0.073 | 4.213 | |
| gemini_calculate_lfc | 0.535 | 0.016 | 0.847 | |
| gemini_create_input | 0.388 | 0.012 | 0.601 | |
| gemini_inference | 25.741 | 1.803 | 42.122 | |
| gemini_initialize | 5.229 | 0.091 | 8.169 | |
| gemini_plot_mae | 0.939 | 0.015 | 1.449 | |
| gemini_prepare_input | 0.467 | 0.007 | 0.729 | |
| gemini_score | 0.946 | 0.013 | 1.466 | |
| initialize_s | 1.623 | 0.032 | 2.507 | |
| initialize_tau | 1.990 | 0.023 | 2.997 | |
| initialize_x | 3.156 | 0.036 | 4.773 | |
| initialize_y | 0.841 | 0.013 | 1.315 | |
| pipe | 0 | 0 | 0 | |
| update_mae | 1.299 | 0.015 | 1.997 | |
| update_s_pb | 2.524 | 0.074 | 3.954 | |
| update_tau_pb | 11.842 | 0.766 | 19.268 | |
| update_x_pb | 10.196 | 0.548 | 16.356 | |
| update_y_pb | 3.214 | 0.058 | 5.058 | |