| Back to Mac ARM64 build report for BioC 3.17 |
|
This page was generated on 2023-10-20 09:38:02 -0400 (Fri, 20 Oct 2023).
| Hostname | OS | Arch (*) | R version | Installed pkgs |
|---|---|---|---|---|
| kjohnson2 | macOS 12.6.1 Monterey | arm64 | 4.3.1 (2023-06-16) -- "Beagle Scouts" | 4347 |
| Click on any hostname to see more info about the system (e.g. compilers) (*) as reported by 'uname -p', except on Windows and Mac OS X | ||||
| Package 766/2230 | Hostname | OS / Arch | INSTALL | BUILD | CHECK | BUILD BIN | ||||||||
| gdsfmt 1.36.1 (landing page) Xiuwen Zheng
| kjohnson2 | macOS 12.6.1 Monterey / arm64 | OK | OK | OK | OK | ||||||||
|
To the developers/maintainers of the gdsfmt package: - Use the following Renviron settings to reproduce errors and warnings. - If 'R CMD check' started to fail recently on the Linux builder(s) over a missing dependency, add the missing dependency to 'Suggests:' in your DESCRIPTION file. See Renviron.bioc for more information. |
| Package: gdsfmt |
| Version: 1.36.1 |
| Command: /Library/Frameworks/R.framework/Resources/bin/R CMD check --install=check:gdsfmt.install-out.txt --library=/Library/Frameworks/R.framework/Resources/library --no-vignettes --timings gdsfmt_1.36.1.tar.gz |
| StartedAt: 2023-10-17 20:52:52 -0400 (Tue, 17 Oct 2023) |
| EndedAt: 2023-10-17 20:57:23 -0400 (Tue, 17 Oct 2023) |
| EllapsedTime: 271.5 seconds |
| RetCode: 0 |
| Status: OK |
| CheckDir: gdsfmt.Rcheck |
| Warnings: 0 |
##############################################################################
##############################################################################
###
### Running command:
###
### /Library/Frameworks/R.framework/Resources/bin/R CMD check --install=check:gdsfmt.install-out.txt --library=/Library/Frameworks/R.framework/Resources/library --no-vignettes --timings gdsfmt_1.36.1.tar.gz
###
##############################################################################
##############################################################################
* using log directory ‘/Users/biocbuild/bbs-3.17-bioc-mac-arm64/meat/gdsfmt.Rcheck’
* using R version 4.3.1 (2023-06-16)
* using platform: aarch64-apple-darwin20 (64-bit)
* R was compiled by
Apple clang version 14.0.0 (clang-1400.0.29.202)
GNU Fortran (GCC) 12.2.0
* running under: macOS Monterey 12.6.7
* using session charset: UTF-8
* using option ‘--no-vignettes’
* checking for file ‘gdsfmt/DESCRIPTION’ ... OK
* checking extension type ... Package
* this is package ‘gdsfmt’ version ‘1.36.1’
* checking package namespace information ... OK
* checking package dependencies ... OK
* checking if this is a source package ... OK
* checking if there is a namespace ... OK
* checking for hidden files and directories ... OK
* checking for portable file names ... OK
* checking for sufficient/correct file permissions ... OK
* checking whether package ‘gdsfmt’ can be installed ... OK
* used C++ compiler: ‘Apple clang version 14.0.0 (clang-1400.0.29.202)’
* used SDK: ‘MacOSX11.3.sdk’
* checking installed package size ... OK
* checking package directory ... OK
* checking ‘build’ directory ... OK
* checking DESCRIPTION meta-information ... OK
* checking top-level files ... OK
* checking for left-over files ... OK
* checking index information ... OK
* checking package subdirectories ... OK
* checking R files for non-ASCII characters ... OK
* checking R files for syntax errors ... OK
* checking whether the package can be loaded ... OK
* checking whether the package can be loaded with stated dependencies ... OK
* checking whether the package can be unloaded cleanly ... OK
* checking whether the namespace can be loaded with stated dependencies ... OK
* checking whether the namespace can be unloaded cleanly ... OK
* checking startup messages can be suppressed ... OK
* checking dependencies in R code ... OK
* checking S3 generic/method consistency ... OK
* checking replacement functions ... OK
* checking foreign function calls ... OK
* checking R code for possible problems ... OK
* checking Rd files ... OK
* checking Rd metadata ... OK
* checking Rd cross-references ... OK
* checking for missing documentation entries ... OK
* checking for code/documentation mismatches ... OK
* checking Rd \usage sections ... OK
* checking Rd contents ... OK
* checking for unstated dependencies in examples ... OK
* checking line endings in C/C++/Fortran sources/headers ... OK
* checking line endings in Makefiles ... OK
* checking compilation flags in Makevars ... OK
* checking for GNU extensions in Makefiles ... OK
* checking for portable use of $(BLAS_LIBS) and $(LAPACK_LIBS) ... OK
* checking use of PKG_*FLAGS in Makefiles ... OK
* checking compiled code ... NOTE
Note: information on .o files is not available
* checking files in ‘vignettes’ ... OK
* checking examples ... OK
* checking for unstated dependencies in ‘tests’ ... OK
* checking tests ...
Running ‘runTests.R’
OK
* checking for unstated dependencies in vignettes ... OK
* checking package vignettes in ‘inst/doc’ ... OK
* checking running R code from vignettes ... SKIPPED
* checking re-building of vignette outputs ... SKIPPED
* checking PDF version of manual ... OK
* DONE
Status: 1 NOTE
See
‘/Users/biocbuild/bbs-3.17-bioc-mac-arm64/meat/gdsfmt.Rcheck/00check.log’
for details.
gdsfmt.Rcheck/00install.out
############################################################################## ############################################################################## ### ### Running command: ### ### /Library/Frameworks/R.framework/Resources/bin/R CMD INSTALL gdsfmt ### ############################################################################## ############################################################################## * installing to library ‘/Library/Frameworks/R.framework/Versions/4.3-arm64/Resources/library’ * installing *source* package ‘gdsfmt’ ... ** using staged installation ** libs using C++ compiler: ‘Apple clang version 14.0.0 (clang-1400.0.29.202)’ using SDK: ‘MacOSX11.3.sdk’ clang++ -arch arm64 -std=gnu++17 -I"/Library/Frameworks/R.framework/Resources/include" -DNDEBUG -DUSING_R -D_FILE_OFFSET_BITS=64 -I../inst/include -ICoreArray -I/opt/R/arm64/include -fPIC -falign-functions=64 -Wall -g -O2 -c R_CoreArray.cpp -o R_CoreArray.o clang++ -arch arm64 -std=gnu++17 -I"/Library/Frameworks/R.framework/Resources/include" -DNDEBUG -DUSING_R -D_FILE_OFFSET_BITS=64 -I../inst/include -ICoreArray -I/opt/R/arm64/include -fPIC -falign-functions=64 -Wall -g -O2 -c gdsfmt.cpp -o gdsfmt.o clang++ -arch arm64 -std=gnu++17 -I"/Library/Frameworks/R.framework/Resources/include" -DNDEBUG -DUSING_R -D_FILE_OFFSET_BITS=64 -I../inst/include -ICoreArray -I/opt/R/arm64/include -fPIC -falign-functions=64 -Wall -g -O2 -c digest.cpp -o digest.o clang++ -arch arm64 -std=gnu++17 -I"/Library/Frameworks/R.framework/Resources/include" -DNDEBUG -DUSING_R -D_FILE_OFFSET_BITS=64 -I../inst/include -ICoreArray -I/opt/R/arm64/include -fPIC -falign-functions=64 -Wall -g -O2 -c CoreArray/CoreArray.cpp -o CoreArray/CoreArray.o clang++ -arch arm64 -std=gnu++17 -I"/Library/Frameworks/R.framework/Resources/include" -DNDEBUG -DUSING_R -D_FILE_OFFSET_BITS=64 -I../inst/include -ICoreArray -I/opt/R/arm64/include -fPIC -falign-functions=64 -Wall -g -O2 -c CoreArray/dAllocator.cpp -o CoreArray/dAllocator.o clang++ -arch arm64 -std=gnu++17 -I"/Library/Frameworks/R.framework/Resources/include" -DNDEBUG -DUSING_R -D_FILE_OFFSET_BITS=64 -I../inst/include -ICoreArray -I/opt/R/arm64/include -fPIC -falign-functions=64 -Wall -g -O2 -c CoreArray/dAny.cpp -o CoreArray/dAny.o clang++ -arch arm64 -std=gnu++17 -I"/Library/Frameworks/R.framework/Resources/include" -DNDEBUG -DUSING_R -D_FILE_OFFSET_BITS=64 -I../inst/include -ICoreArray -I/opt/R/arm64/include -fPIC -falign-functions=64 -Wall -g -O2 -c CoreArray/dBase.cpp -o CoreArray/dBase.o clang++ -arch arm64 -std=gnu++17 -I"/Library/Frameworks/R.framework/Resources/include" -DNDEBUG -DUSING_R -D_FILE_OFFSET_BITS=64 -I../inst/include -ICoreArray -I/opt/R/arm64/include -fPIC -falign-functions=64 -Wall -g -O2 -c CoreArray/dBitGDS.cpp -o CoreArray/dBitGDS.o clang++ -arch arm64 -std=gnu++17 -I"/Library/Frameworks/R.framework/Resources/include" -DNDEBUG -DUSING_R -D_FILE_OFFSET_BITS=64 -I../inst/include -ICoreArray -I/opt/R/arm64/include -fPIC -falign-functions=64 -Wall -g -O2 -c CoreArray/dEndian.cpp -o CoreArray/dEndian.o clang++ -arch arm64 -std=gnu++17 -I"/Library/Frameworks/R.framework/Resources/include" -DNDEBUG -DUSING_R -D_FILE_OFFSET_BITS=64 -I../inst/include -ICoreArray -I/opt/R/arm64/include -fPIC -falign-functions=64 -Wall -g -O2 -c CoreArray/dFile.cpp -o CoreArray/dFile.o clang++ -arch arm64 -std=gnu++17 -I"/Library/Frameworks/R.framework/Resources/include" -DNDEBUG -DUSING_R -D_FILE_OFFSET_BITS=64 -I../inst/include -ICoreArray -I/opt/R/arm64/include -fPIC -falign-functions=64 -Wall -g -O2 -c CoreArray/dParallel.cpp -o CoreArray/dParallel.o clang -arch arm64 -I"/Library/Frameworks/R.framework/Resources/include" -DNDEBUG -DUSING_R -D_FILE_OFFSET_BITS=64 -I../inst/include -ICoreArray -I/opt/R/arm64/include -fPIC -falign-functions=64 -Wall -g -O2 -c CoreArray/dParallel_Ext.c -o CoreArray/dParallel_Ext.o clang++ -arch arm64 -std=gnu++17 -I"/Library/Frameworks/R.framework/Resources/include" -DNDEBUG -DUSING_R -D_FILE_OFFSET_BITS=64 -I../inst/include -ICoreArray -I/opt/R/arm64/include -fPIC -falign-functions=64 -Wall -g -O2 -c CoreArray/dPlatform.cpp -o CoreArray/dPlatform.o clang++ -arch arm64 -std=gnu++17 -I"/Library/Frameworks/R.framework/Resources/include" -DNDEBUG -DUSING_R -D_FILE_OFFSET_BITS=64 -I../inst/include -ICoreArray -I/opt/R/arm64/include -fPIC -falign-functions=64 -Wall -g -O2 -c CoreArray/dRealGDS.cpp -o CoreArray/dRealGDS.o clang++ -arch arm64 -std=gnu++17 -I"/Library/Frameworks/R.framework/Resources/include" -DNDEBUG -DUSING_R -D_FILE_OFFSET_BITS=64 -I../inst/include -ICoreArray -I/opt/R/arm64/include -fPIC -falign-functions=64 -Wall -g -O2 -c CoreArray/dSerial.cpp -o CoreArray/dSerial.o clang++ -arch arm64 -std=gnu++17 -I"/Library/Frameworks/R.framework/Resources/include" -DNDEBUG -DUSING_R -D_FILE_OFFSET_BITS=64 -I../inst/include -ICoreArray -I/opt/R/arm64/include -fPIC -falign-functions=64 -Wall -g -O2 -c CoreArray/dStrGDS.cpp -o CoreArray/dStrGDS.o clang++ -arch arm64 -std=gnu++17 -I"/Library/Frameworks/R.framework/Resources/include" -DNDEBUG -DUSING_R -D_FILE_OFFSET_BITS=64 -I../inst/include -ICoreArray -I/opt/R/arm64/include -fPIC -falign-functions=64 -Wall -g -O2 -c CoreArray/dStream.cpp -o CoreArray/dStream.o clang++ -arch arm64 -std=gnu++17 -I"/Library/Frameworks/R.framework/Resources/include" -DNDEBUG -DUSING_R -D_FILE_OFFSET_BITS=64 -I../inst/include -ICoreArray -I/opt/R/arm64/include -fPIC -falign-functions=64 -Wall -g -O2 -c CoreArray/dStruct.cpp -o CoreArray/dStruct.o clang++ -arch arm64 -std=gnu++17 -I"/Library/Frameworks/R.framework/Resources/include" -DNDEBUG -DUSING_R -D_FILE_OFFSET_BITS=64 -I../inst/include -ICoreArray -I/opt/R/arm64/include -fPIC -falign-functions=64 -Wall -g -O2 -c CoreArray/dSparse.cpp -o CoreArray/dSparse.o clang++ -arch arm64 -std=gnu++17 -I"/Library/Frameworks/R.framework/Resources/include" -DNDEBUG -DUSING_R -D_FILE_OFFSET_BITS=64 -I../inst/include -ICoreArray -I/opt/R/arm64/include -fPIC -falign-functions=64 -Wall -g -O2 -c CoreArray/dVLIntGDS.cpp -o CoreArray/dVLIntGDS.o clang -arch arm64 -I"/Library/Frameworks/R.framework/Resources/include" -DNDEBUG -DUSING_R -D_FILE_OFFSET_BITS=64 -I../inst/include -ICoreArray -I/opt/R/arm64/include -fPIC -falign-functions=64 -Wall -g -O2 -c -g0 ZLIB/adler32.c -o ZLIB/adler32.o clang -arch arm64 -I"/Library/Frameworks/R.framework/Resources/include" -DNDEBUG -DUSING_R -D_FILE_OFFSET_BITS=64 -I../inst/include -ICoreArray -I/opt/R/arm64/include -fPIC -falign-functions=64 -Wall -g -O2 -c -g0 ZLIB/compress.c -o ZLIB/compress.o clang -arch arm64 -I"/Library/Frameworks/R.framework/Resources/include" -DNDEBUG -DUSING_R -D_FILE_OFFSET_BITS=64 -I../inst/include -ICoreArray -I/opt/R/arm64/include -fPIC -falign-functions=64 -Wall -g -O2 -c -g0 ZLIB/crc32.c -o ZLIB/crc32.o clang -arch arm64 -I"/Library/Frameworks/R.framework/Resources/include" -DNDEBUG -DUSING_R -D_FILE_OFFSET_BITS=64 -I../inst/include -ICoreArray -I/opt/R/arm64/include -fPIC -falign-functions=64 -Wall -g -O2 -c -g0 ZLIB/deflate.c -o ZLIB/deflate.o clang -arch arm64 -I"/Library/Frameworks/R.framework/Resources/include" -DNDEBUG -DUSING_R -D_FILE_OFFSET_BITS=64 -I../inst/include -ICoreArray -I/opt/R/arm64/include -fPIC -falign-functions=64 -Wall -g -O2 -c -g0 ZLIB/infback.c -o ZLIB/infback.o clang -arch arm64 -I"/Library/Frameworks/R.framework/Resources/include" -DNDEBUG -DUSING_R -D_FILE_OFFSET_BITS=64 -I../inst/include -ICoreArray -I/opt/R/arm64/include -fPIC -falign-functions=64 -Wall -g -O2 -c -g0 ZLIB/inffast.c -o ZLIB/inffast.o clang -arch arm64 -I"/Library/Frameworks/R.framework/Resources/include" -DNDEBUG -DUSING_R -D_FILE_OFFSET_BITS=64 -I../inst/include -ICoreArray -I/opt/R/arm64/include -fPIC -falign-functions=64 -Wall -g -O2 -c -g0 ZLIB/inflate.c -o ZLIB/inflate.o clang -arch arm64 -I"/Library/Frameworks/R.framework/Resources/include" -DNDEBUG -DUSING_R -D_FILE_OFFSET_BITS=64 -I../inst/include -ICoreArray -I/opt/R/arm64/include -fPIC -falign-functions=64 -Wall -g -O2 -c -g0 ZLIB/inftrees.c -o ZLIB/inftrees.o clang -arch arm64 -I"/Library/Frameworks/R.framework/Resources/include" -DNDEBUG -DUSING_R -D_FILE_OFFSET_BITS=64 -I../inst/include -ICoreArray -I/opt/R/arm64/include -fPIC -falign-functions=64 -Wall -g -O2 -c -g0 ZLIB/trees.c -o ZLIB/trees.o clang -arch arm64 -I"/Library/Frameworks/R.framework/Resources/include" -DNDEBUG -DUSING_R -D_FILE_OFFSET_BITS=64 -I../inst/include -ICoreArray -I/opt/R/arm64/include -fPIC -falign-functions=64 -Wall -g -O2 -c -g0 ZLIB/uncompr.c -o ZLIB/uncompr.o clang -arch arm64 -I"/Library/Frameworks/R.framework/Resources/include" -DNDEBUG -DUSING_R -D_FILE_OFFSET_BITS=64 -I../inst/include -ICoreArray -I/opt/R/arm64/include -fPIC -falign-functions=64 -Wall -g -O2 -c -g0 ZLIB/zutil.c -o ZLIB/zutil.o clang -arch arm64 -I"/Library/Frameworks/R.framework/Resources/include" -DNDEBUG -DUSING_R -D_FILE_OFFSET_BITS=64 -I../inst/include -ICoreArray -I/opt/R/arm64/include -fPIC -falign-functions=64 -Wall -g -O2 -c LZ4/lz4.c -o LZ4/lz4.o clang -arch arm64 -I"/Library/Frameworks/R.framework/Resources/include" -DNDEBUG -DUSING_R -D_FILE_OFFSET_BITS=64 -I../inst/include -ICoreArray -I/opt/R/arm64/include -fPIC -falign-functions=64 -Wall -g -O2 -c LZ4/lz4hc.c -o LZ4/lz4hc.o clang -arch arm64 -I"/Library/Frameworks/R.framework/Resources/include" -DNDEBUG -DUSING_R -D_FILE_OFFSET_BITS=64 -I../inst/include -ICoreArray -I/opt/R/arm64/include -fPIC -falign-functions=64 -Wall -g -O2 -c LZ4/lz4frame.c -o LZ4/lz4frame.o clang -arch arm64 -I"/Library/Frameworks/R.framework/Resources/include" -DNDEBUG -DUSING_R -D_FILE_OFFSET_BITS=64 -I../inst/include -ICoreArray -I/opt/R/arm64/include -fPIC -falign-functions=64 -Wall -g -O2 -c LZ4/xxhash.c -o LZ4/xxhash.o cd XZ && tar -xzf xz-5.2.9.tar.gz cd XZ/xz-5.2.9 && \ ./configure CC="clang -arch arm64" CPP="clang -arch arm64 -E" CXX="clang++ -arch arm64 -std=gnu++17" CXXCPP="" --build="" \ --with-pic --enable-silent-rules --quiet --disable-xz --disable-shared > /dev/null cd XZ/xz-5.2.9/src/liblzma && make Making all in api make[2]: Nothing to be done for `all'. CC liblzma_la-tuklib_physmem.lo CC liblzma_la-tuklib_cpucores.lo CC liblzma_la-common.lo CC liblzma_la-block_util.lo CC liblzma_la-easy_preset.lo CC liblzma_la-filter_common.lo CC liblzma_la-hardware_physmem.lo CC liblzma_la-index.lo CC liblzma_la-stream_flags_common.lo CC liblzma_la-vli_size.lo CC liblzma_la-hardware_cputhreads.lo CC liblzma_la-alone_encoder.lo CC liblzma_la-block_buffer_encoder.lo CC liblzma_la-block_encoder.lo CC liblzma_la-block_header_encoder.lo CC liblzma_la-easy_buffer_encoder.lo CC liblzma_la-easy_encoder.lo CC liblzma_la-easy_encoder_memusage.lo CC liblzma_la-filter_buffer_encoder.lo CC liblzma_la-filter_encoder.lo CC liblzma_la-filter_flags_encoder.lo CC liblzma_la-index_encoder.lo CC liblzma_la-stream_buffer_encoder.lo CC liblzma_la-stream_encoder.lo CC liblzma_la-stream_flags_encoder.lo CC liblzma_la-vli_encoder.lo CC liblzma_la-outqueue.lo CC liblzma_la-stream_encoder_mt.lo CC liblzma_la-alone_decoder.lo CC liblzma_la-auto_decoder.lo CC liblzma_la-block_buffer_decoder.lo CC liblzma_la-block_decoder.lo CC liblzma_la-block_header_decoder.lo CC liblzma_la-easy_decoder_memusage.lo CC liblzma_la-filter_buffer_decoder.lo CC liblzma_la-filter_decoder.lo CC liblzma_la-filter_flags_decoder.lo CC liblzma_la-index_decoder.lo CC liblzma_la-index_hash.lo CC liblzma_la-stream_buffer_decoder.lo CC liblzma_la-stream_decoder.lo CC liblzma_la-stream_flags_decoder.lo CC liblzma_la-vli_decoder.lo CC liblzma_la-check.lo CC liblzma_la-crc32_table.lo CC liblzma_la-crc32_fast.lo CC liblzma_la-crc64_table.lo CC liblzma_la-crc64_fast.lo CC liblzma_la-sha256.lo CC liblzma_la-lz_encoder.lo CC liblzma_la-lz_encoder_mf.lo CC liblzma_la-lz_decoder.lo CC liblzma_la-lzma_encoder_presets.lo CC liblzma_la-lzma_encoder.lo CC liblzma_la-lzma_encoder_optimum_fast.lo CC liblzma_la-lzma_encoder_optimum_normal.lo CC liblzma_la-fastpos_table.lo CC liblzma_la-lzma_decoder.lo CC liblzma_la-lzma2_encoder.lo CC liblzma_la-lzma2_decoder.lo CC liblzma_la-price_table.lo CC liblzma_la-delta_common.lo CC liblzma_la-delta_encoder.lo CC liblzma_la-delta_decoder.lo CC liblzma_la-simple_coder.lo CC liblzma_la-simple_encoder.lo CC liblzma_la-simple_decoder.lo CC liblzma_la-x86.lo CC liblzma_la-powerpc.lo CC liblzma_la-ia64.lo CC liblzma_la-arm.lo CC liblzma_la-armthumb.lo CC liblzma_la-sparc.lo CCLD liblzma.la PC liblzma.pc cp XZ/xz-5.2.9/src/liblzma/.libs/liblzma.a . rm -rf XZ/xz-5.2.9/dos rm -rf XZ/xz-5.2.9/po clang++ -arch arm64 -std=gnu++17 -dynamiclib -Wl,-headerpad_max_install_names -undefined dynamic_lookup -single_module -multiply_defined suppress -L/Library/Frameworks/R.framework/Resources/lib -L/opt/R/arm64/lib -o gdsfmt.so R_CoreArray.o gdsfmt.o digest.o CoreArray/CoreArray.o CoreArray/dAllocator.o CoreArray/dAny.o CoreArray/dBase.o CoreArray/dBitGDS.o CoreArray/dEndian.o CoreArray/dFile.o CoreArray/dParallel.o CoreArray/dParallel_Ext.o CoreArray/dPlatform.o CoreArray/dRealGDS.o CoreArray/dSerial.o CoreArray/dStrGDS.o CoreArray/dStream.o CoreArray/dStruct.o CoreArray/dSparse.o CoreArray/dVLIntGDS.o ZLIB/adler32.o ZLIB/compress.o ZLIB/crc32.o ZLIB/deflate.o ZLIB/infback.o ZLIB/inffast.o ZLIB/inflate.o ZLIB/inftrees.o ZLIB/trees.o ZLIB/uncompr.o ZLIB/zutil.o LZ4/lz4.o LZ4/lz4hc.o LZ4/lz4frame.o LZ4/xxhash.o ./liblzma.a -lpthread -F/Library/Frameworks/R.framework/.. -framework R -Wl,-framework -Wl,CoreFoundation installing to /Library/Frameworks/R.framework/Versions/4.3-arm64/Resources/library/00LOCK-gdsfmt/00new/gdsfmt/libs ** R ** inst ** byte-compile and prepare package for lazy loading ** help *** installing help indices ** building package indices ** installing vignettes ** testing if installed package can be loaded from temporary location ** checking absolute paths in shared objects and dynamic libraries ** testing if installed package can be loaded from final location ** testing if installed package keeps a record of temporary installation path * DONE (gdsfmt)
gdsfmt.Rcheck/tests/runTests.Rout
R version 4.3.1 (2023-06-16) -- "Beagle Scouts"
Copyright (C) 2023 The R Foundation for Statistical Computing
Platform: aarch64-apple-darwin20 (64-bit)
R is free software and comes with ABSOLUTELY NO WARRANTY.
You are welcome to redistribute it under certain conditions.
Type 'license()' or 'licence()' for distribution details.
R is a collaborative project with many contributors.
Type 'contributors()' for more information and
'citation()' on how to cite R or R packages in publications.
Type 'demo()' for some demos, 'help()' for on-line help, or
'help.start()' for an HTML browser interface to help.
Type 'q()' to quit R.
> options(test.verbose=FALSE)
> BiocGenerics:::testPackage("gdsfmt")
RUNIT TEST PROTOCOL -- Tue Oct 17 20:57:02 2023
***********************************************
Number of test functions: 25
Number of errors: 0
Number of failures: 0
1 Test Suite :
gdsfmt RUnit Tests - 25 test functions, 0 errors, 0 failures
Number of test functions: 25
Number of errors: 0
Number of failures: 0
>
> proc.time()
user system elapsed
123.776 20.838 209.662
gdsfmt.Rcheck/gdsfmt-Ex.timings
| name | user | system | elapsed | |
| add.gdsn | 0.106 | 0.026 | 0.237 | |
| addfile.gdsn | 0.006 | 0.004 | 0.016 | |
| addfolder.gdsn | 0.027 | 0.007 | 0.047 | |
| append.gdsn | 0.017 | 0.004 | 0.028 | |
| apply.gdsn | 0.028 | 0.019 | 0.070 | |
| assign.gdsn | 0.025 | 0.010 | 0.046 | |
| cache.gdsn | 0.002 | 0.002 | 0.011 | |
| cleanup.gds | 0.013 | 0.005 | 0.037 | |
| closefn.gds | 0.000 | 0.002 | 0.006 | |
| clusterApply.gdsn | 0.046 | 0.021 | 0.922 | |
| cnt.gdsn | 0.001 | 0.002 | 0.004 | |
| compression.gdsn | 0.004 | 0.002 | 0.009 | |
| copyto.gdsn | 0.028 | 0.005 | 0.052 | |
| createfn.gds | 0.007 | 0.003 | 0.014 | |
| delete.attr.gdsn | 0.003 | 0.002 | 0.011 | |
| delete.gdsn | 0.005 | 0.002 | 0.008 | |
| diagnosis.gds | 0.011 | 0.006 | 0.031 | |
| digest.gdsn | 0.058 | 0.013 | 0.100 | |
| exist.gdsn | 0.001 | 0.002 | 0.008 | |
| gdsfmt-package | 0.033 | 0.012 | 0.071 | |
| get.attr.gdsn | 0.007 | 0.002 | 0.014 | |
| getfile.gdsn | 0.005 | 0.004 | 0.013 | |
| getfolder.gdsn | 0.033 | 0.005 | 0.055 | |
| index.gdsn | 0.011 | 0.002 | 0.017 | |
| is.element.gdsn | 0.002 | 0.003 | 0.007 | |
| is.sparse.gdsn | 1.285 | 0.061 | 2.082 | |
| lasterr.gds | 0 | 0 | 0 | |
| ls.gdsn | 0.001 | 0.002 | 0.010 | |
| moveto.gdsn | 0.038 | 0.009 | 0.072 | |
| name.gdsn | 0.000 | 0.002 | 0.005 | |
| objdesp.gdsn | 0.010 | 0.004 | 0.017 | |
| openfn.gds | 0.007 | 0.004 | 0.013 | |
| permdim.gdsn | 0.010 | 0.008 | 0.030 | |
| print.gds.class | 0.019 | 0.005 | 0.036 | |
| put.attr.gdsn | 0.004 | 0.003 | 0.017 | |
| read.gdsn | 0.014 | 0.007 | 0.034 | |
| readex.gdsn | 0.009 | 0.006 | 0.020 | |
| readmode.gdsn | 0.004 | 0.003 | 0.012 | |
| rename.gdsn | 0.006 | 0.003 | 0.011 | |
| setdim.gdsn | 0.011 | 0.006 | 0.036 | |
| showfile.gds | 0.004 | 0.001 | 0.007 | |
| summarize.gdsn | 0.002 | 0.002 | 0.005 | |
| sync.gds | 0.002 | 0.002 | 0.005 | |
| system.gds | 0.005 | 0.002 | 0.011 | |
| unload.gdsn | 0.003 | 0.002 | 0.008 | |
| write.gdsn | 0.001 | 0.002 | 0.007 | |