| Back to Mac ARM64 build report for BioC 3.17 |
|
This page was generated on 2023-10-20 09:38:02 -0400 (Fri, 20 Oct 2023).
| Hostname | OS | Arch (*) | R version | Installed pkgs |
|---|---|---|---|---|
| kjohnson2 | macOS 12.6.1 Monterey | arm64 | 4.3.1 (2023-06-16) -- "Beagle Scouts" | 4347 |
| Click on any hostname to see more info about the system (e.g. compilers) (*) as reported by 'uname -p', except on Windows and Mac OS X | ||||
| Package 737/2230 | Hostname | OS / Arch | INSTALL | BUILD | CHECK | BUILD BIN | ||||||||
| fobitools 1.8.0 (landing page) Pol Castellano-Escuder
| kjohnson2 | macOS 12.6.1 Monterey / arm64 | OK | OK | OK | OK | ||||||||
|
To the developers/maintainers of the fobitools package: - Use the following Renviron settings to reproduce errors and warnings. - If 'R CMD check' started to fail recently on the Linux builder(s) over a missing dependency, add the missing dependency to 'Suggests:' in your DESCRIPTION file. See Renviron.bioc for more information. |
| Package: fobitools |
| Version: 1.8.0 |
| Command: /Library/Frameworks/R.framework/Resources/bin/R CMD check --install=check:fobitools.install-out.txt --library=/Library/Frameworks/R.framework/Resources/library --no-vignettes --timings fobitools_1.8.0.tar.gz |
| StartedAt: 2023-10-17 20:17:20 -0400 (Tue, 17 Oct 2023) |
| EndedAt: 2023-10-17 20:23:21 -0400 (Tue, 17 Oct 2023) |
| EllapsedTime: 360.6 seconds |
| RetCode: 0 |
| Status: OK |
| CheckDir: fobitools.Rcheck |
| Warnings: 0 |
##############################################################################
##############################################################################
###
### Running command:
###
### /Library/Frameworks/R.framework/Resources/bin/R CMD check --install=check:fobitools.install-out.txt --library=/Library/Frameworks/R.framework/Resources/library --no-vignettes --timings fobitools_1.8.0.tar.gz
###
##############################################################################
##############################################################################
* using log directory ‘/Users/biocbuild/bbs-3.17-bioc-mac-arm64/meat/fobitools.Rcheck’
* using R version 4.3.1 (2023-06-16)
* using platform: aarch64-apple-darwin20 (64-bit)
* R was compiled by
Apple clang version 14.0.0 (clang-1400.0.29.202)
GNU Fortran (GCC) 12.2.0
* running under: macOS Monterey 12.6.7
* using session charset: UTF-8
* using option ‘--no-vignettes’
* checking for file ‘fobitools/DESCRIPTION’ ... OK
* this is package ‘fobitools’ version ‘1.8.0’
* package encoding: UTF-8
* checking package namespace information ... OK
* checking package dependencies ... OK
* checking if this is a source package ... OK
* checking if there is a namespace ... OK
* checking for hidden files and directories ... OK
* checking for portable file names ... OK
* checking for sufficient/correct file permissions ... OK
* checking whether package ‘fobitools’ can be installed ... OK
* checking installed package size ... OK
* checking package directory ... OK
* checking ‘build’ directory ... OK
* checking DESCRIPTION meta-information ... OK
* checking top-level files ... OK
* checking for left-over files ... OK
* checking index information ... OK
* checking package subdirectories ... OK
* checking R files for non-ASCII characters ... OK
* checking R files for syntax errors ... OK
* checking whether the package can be loaded ... OK
* checking whether the package can be loaded with stated dependencies ... OK
* checking whether the package can be unloaded cleanly ... OK
* checking whether the namespace can be loaded with stated dependencies ... OK
* checking whether the namespace can be unloaded cleanly ... OK
* checking dependencies in R code ... OK
* checking S3 generic/method consistency ... OK
* checking replacement functions ... OK
* checking foreign function calls ... OK
* checking R code for possible problems ... NOTE
annotate_foods: no visible binding for global variable ‘FOOD_NAME’
annotate_foods: no visible binding for global variable ‘FOOD_ID’
annotate_foods: no visible binding for global variable ‘words’
annotate_foods: no visible binding for global variable ‘words_joint’
annotate_foods: no visible binding for global variable ‘id_code’
annotate_foods: no visible binding for global variable ‘name’
annotate_foods: no visible binding for global variable ‘ref’
annotate_foods: no visible binding for global variable ‘detect’
annotate_foods: no visible binding for global variable ‘.’
annotate_foods: no visible binding for global variable ‘match_score’
fobi_graph: no visible binding for global variable ‘is_a_code’
fobi_graph: no visible binding for global variable ‘id_code’
fobi_graph: no visible binding for global variable ‘Contains’
fobi_graph: no visible binding for global variable ‘Property’
fobi_graph: no visible binding for global variable ‘name’
fobi_graph: no visible binding for global variable ‘BiomarkerOf’
fobi_graph: no visible binding for global variable ‘is_a_name’
fobi_graph: no visible binding for global variable ‘subOntology’
id_convert: no visible binding for global variable ‘BiomarkerOf’
id_convert: no visible binding for global variable ‘name’
id_convert: no visible binding for global variable ‘FOBI’
id_convert: no visible binding for global variable ‘HMDB’
id_convert: no visible binding for global variable ‘KEGG’
id_convert: no visible binding for global variable ‘PubChemCID’
id_convert: no visible binding for global variable ‘InChIKey’
id_convert: no visible binding for global variable ‘InChICode’
id_convert: no visible binding for global variable ‘ChemSpider’
id_convert: no visible binding for global variable ‘metaboliteNames’
id_convert: no visible binding for global variable ‘presence’
id_convert: no visible binding for global variable ‘.’
msea: no visible binding for global variable ‘BiomarkerOf’
msea: no visible binding for global variable ‘id_BiomarkerOf’
msea: no visible binding for global variable ‘name’
msea: no visible binding for global variable ‘FOBI’
msea: no visible binding for global variable ‘is_a_code’
msea: no visible binding for global variable ‘is_a_name’
msea: no visible binding for global variable ‘.’
msea: no visible global function definition for ‘unstack’
msea: no visible binding for global variable ‘pathway’
msea: no visible binding for global variable ‘size’
msea: no visible binding for global variable ‘className’
msea: no visible binding for global variable ‘classSize’
msea: no visible binding for global variable ‘log2err’
msea: no visible binding for global variable ‘ES’
msea: no visible binding for global variable ‘NES’
msea: no visible binding for global variable ‘pval’
msea: no visible binding for global variable ‘padj’
msea: no visible binding for global variable ‘leadingEdge’
ora: no visible binding for global variable ‘BiomarkerOf’
ora: no visible binding for global variable ‘id_BiomarkerOf’
ora: no visible binding for global variable ‘name’
ora: no visible binding for global variable ‘FOBI’
ora: no visible binding for global variable ‘is_a_code’
ora: no visible binding for global variable ‘is_a_name’
ora: no visible binding for global variable ‘.’
ora: no visible global function definition for ‘unstack’
ora: no visible binding for global variable ‘pathway’
ora: no visible binding for global variable ‘size’
ora: no visible binding for global variable ‘overlapGenes’
ora: no visible binding for global variable ‘className’
ora: no visible binding for global variable ‘classSize’
ora: no visible binding for global variable ‘overlap’
ora: no visible binding for global variable ‘pval’
ora: no visible binding for global variable ‘padj’
ora: no visible binding for global variable ‘overlapMetabolites’
parse_fobi: no visible binding for global variable ‘V2’
parse_fobi: no visible binding for global variable ‘V1’
parse_fobi: no visible binding for global variable ‘gf’
parse_fobi: no visible binding for global variable ‘name’
parse_fobi: no visible binding for global variable ‘id_code’
parse_fobi: no visible binding for global variable ‘Contains’
parse_fobi: no visible binding for global variable ‘disjoint_from’
parse_fobi: no visible binding for global variable ‘FOBI:050339’
parse_fobi: no visible binding for global variable ‘ChemSpider’
parse_fobi: no visible binding for global variable ‘KEGG’
parse_fobi: no visible binding for global variable ‘is_a_code’
parse_fobi: no visible binding for global variable ‘id_BiomarkerOf’
parse_fobi: no visible binding for global variable ‘id_Contains’
Undefined global functions or variables:
. BiomarkerOf ChemSpider Contains ES FOBI FOBI:050339 FOOD_ID
FOOD_NAME HMDB InChICode InChIKey KEGG NES Property PubChemCID V1 V2
className classSize detect disjoint_from gf id_BiomarkerOf
id_Contains id_code is_a_code is_a_name leadingEdge log2err
match_score metaboliteNames name overlap overlapGenes
overlapMetabolites padj pathway presence pval ref size subOntology
unstack words words_joint
Consider adding
importFrom("methods", "className")
importFrom("utils", "unstack")
to your NAMESPACE file (and ensure that your DESCRIPTION Imports field
contains 'methods').
* checking Rd files ... OK
* checking Rd metadata ... OK
* checking Rd cross-references ... OK
* checking for missing documentation entries ... OK
* checking for code/documentation mismatches ... OK
* checking Rd \usage sections ... OK
* checking Rd contents ... OK
* checking for unstated dependencies in examples ... OK
* checking contents of ‘data’ directory ... OK
* checking data for non-ASCII characters ... NOTE
Note: found 199 marked UTF-8 strings
* checking LazyData ... OK
* checking data for ASCII and uncompressed saves ... OK
* checking files in ‘vignettes’ ... NOTE
The following directory looks like a leftover from 'knitr':
‘figure’
Please remove from your package.
* checking examples ... OK
Examples with CPU (user + system) or elapsed time > 5s
user system elapsed
parse_fobi 23.917 1.119 41.962
* checking for unstated dependencies in ‘tests’ ... OK
* checking tests ...
Running ‘testthat.R’
OK
* checking for unstated dependencies in vignettes ... OK
* checking package vignettes in ‘inst/doc’ ... OK
* checking running R code from vignettes ... SKIPPED
* checking re-building of vignette outputs ... SKIPPED
* checking PDF version of manual ... OK
* DONE
Status: 3 NOTEs
See
‘/Users/biocbuild/bbs-3.17-bioc-mac-arm64/meat/fobitools.Rcheck/00check.log’
for details.
fobitools.Rcheck/00install.out
############################################################################## ############################################################################## ### ### Running command: ### ### /Library/Frameworks/R.framework/Resources/bin/R CMD INSTALL fobitools ### ############################################################################## ############################################################################## * installing to library ‘/Library/Frameworks/R.framework/Versions/4.3-arm64/Resources/library’ * installing *source* package ‘fobitools’ ... ** using staged installation ** R ** data *** moving datasets to lazyload DB ** inst ** byte-compile and prepare package for lazy loading ** help *** installing help indices *** copying figures ** building package indices ** installing vignettes ** testing if installed package can be loaded from temporary location ** testing if installed package can be loaded from final location ** testing if installed package keeps a record of temporary installation path * DONE (fobitools)
fobitools.Rcheck/tests/testthat.Rout
R version 4.3.1 (2023-06-16) -- "Beagle Scouts"
Copyright (C) 2023 The R Foundation for Statistical Computing
Platform: aarch64-apple-darwin20 (64-bit)
R is free software and comes with ABSOLUTELY NO WARRANTY.
You are welcome to redistribute it under certain conditions.
Type 'license()' or 'licence()' for distribution details.
R is a collaborative project with many contributors.
Type 'contributors()' for more information and
'citation()' on how to cite R or R packages in publications.
Type 'demo()' for some demos, 'help()' for on-line help, or
'help.start()' for an HTML browser interface to help.
Type 'q()' to quit R.
> library(testthat)
> library(fobitools)
>
> test_check("fobitools")
100% annotated
0.75 sec elapsed
100% annotated
0.611 sec elapsed
100% annotated
11.522 sec elapsed
[ FAIL 0 | WARN 7 | SKIP 0 | PASS 73 ]
[ FAIL 0 | WARN 7 | SKIP 0 | PASS 73 ]
>
> proc.time()
user system elapsed
105.268 4.782 172.555
fobitools.Rcheck/fobitools-Ex.timings
| name | user | system | elapsed | |
| ORA | 0.416 | 0.029 | 0.675 | |
| annotate_foods | 0.497 | 0.035 | 0.850 | |
| fobi_graph | 0.658 | 0.021 | 1.069 | |
| id_convert | 0.144 | 0.003 | 0.229 | |
| msea | 1.689 | 0.165 | 2.761 | |
| parse_fobi | 23.917 | 1.119 | 41.962 | |