| Back to Mac ARM64 build report for BioC 3.17 |
|
This page was generated on 2023-10-20 09:38:02 -0400 (Fri, 20 Oct 2023).
| Hostname | OS | Arch (*) | R version | Installed pkgs |
|---|---|---|---|---|
| kjohnson2 | macOS 12.6.1 Monterey | arm64 | 4.3.1 (2023-06-16) -- "Beagle Scouts" | 4347 |
| Click on any hostname to see more info about the system (e.g. compilers) (*) as reported by 'uname -p', except on Windows and Mac OS X | ||||
| Package 719/2230 | Hostname | OS / Arch | INSTALL | BUILD | CHECK | BUILD BIN | ||||||||
| flowGraph 1.8.0 (landing page) Alice Yue
| kjohnson2 | macOS 12.6.1 Monterey / arm64 | OK | OK | OK | OK | ||||||||
|
To the developers/maintainers of the flowGraph package: - Use the following Renviron settings to reproduce errors and warnings. - If 'R CMD check' started to fail recently on the Linux builder(s) over a missing dependency, add the missing dependency to 'Suggests:' in your DESCRIPTION file. See Renviron.bioc for more information. |
| Package: flowGraph |
| Version: 1.8.0 |
| Command: /Library/Frameworks/R.framework/Resources/bin/R CMD check --install=check:flowGraph.install-out.txt --library=/Library/Frameworks/R.framework/Resources/library --no-vignettes --timings flowGraph_1.8.0.tar.gz |
| StartedAt: 2023-10-17 20:00:45 -0400 (Tue, 17 Oct 2023) |
| EndedAt: 2023-10-17 20:07:57 -0400 (Tue, 17 Oct 2023) |
| EllapsedTime: 431.9 seconds |
| RetCode: 0 |
| Status: OK |
| CheckDir: flowGraph.Rcheck |
| Warnings: 0 |
##############################################################################
##############################################################################
###
### Running command:
###
### /Library/Frameworks/R.framework/Resources/bin/R CMD check --install=check:flowGraph.install-out.txt --library=/Library/Frameworks/R.framework/Resources/library --no-vignettes --timings flowGraph_1.8.0.tar.gz
###
##############################################################################
##############################################################################
* using log directory ‘/Users/biocbuild/bbs-3.17-bioc-mac-arm64/meat/flowGraph.Rcheck’
* using R version 4.3.1 (2023-06-16)
* using platform: aarch64-apple-darwin20 (64-bit)
* R was compiled by
Apple clang version 14.0.0 (clang-1400.0.29.202)
GNU Fortran (GCC) 12.2.0
* running under: macOS Monterey 12.6.7
* using session charset: UTF-8
* using option ‘--no-vignettes’
* checking for file ‘flowGraph/DESCRIPTION’ ... OK
* checking extension type ... Package
* this is package ‘flowGraph’ version ‘1.8.0’
* checking package namespace information ... OK
* checking package dependencies ... OK
* checking if this is a source package ... OK
* checking if there is a namespace ... OK
* checking for hidden files and directories ... OK
* checking for portable file names ... OK
* checking for sufficient/correct file permissions ... OK
* checking whether package ‘flowGraph’ can be installed ... OK
* checking installed package size ... OK
* checking package directory ... OK
* checking ‘build’ directory ... OK
* checking DESCRIPTION meta-information ... OK
* checking top-level files ... OK
* checking for left-over files ... OK
* checking index information ... OK
* checking package subdirectories ... OK
* checking R files for non-ASCII characters ... OK
* checking R files for syntax errors ... OK
* checking whether the package can be loaded ... OK
* checking whether the package can be loaded with stated dependencies ... OK
* checking whether the package can be unloaded cleanly ... OK
* checking whether the namespace can be loaded with stated dependencies ... OK
* checking whether the namespace can be unloaded cleanly ... OK
* checking dependencies in R code ... OK
* checking S3 generic/method consistency ... OK
* checking replacement functions ... OK
* checking foreign function calls ... OK
* checking R code for possible problems ... NOTE
get_child: no visible binding for global variable ‘no_cores’
get_paren: no visible binding for global variable ‘no_cores’
ms_psig: no visible binding for global variable ‘meta’
Undefined global functions or variables:
meta no_cores
* checking Rd files ... OK
* checking Rd metadata ... OK
* checking Rd cross-references ... OK
* checking for missing documentation entries ... OK
* checking for code/documentation mismatches ... OK
* checking Rd \usage sections ... OK
* checking Rd contents ... OK
* checking for unstated dependencies in examples ... OK
* checking contents of ‘data’ directory ... OK
* checking data for non-ASCII characters ... OK
* checking data for ASCII and uncompressed saves ... OK
* checking files in ‘vignettes’ ... OK
* checking examples ... OK
Examples with CPU (user + system) or elapsed time > 5s
user system elapsed
fg_save_plots 54.289 0.749 78.086
fg_load 52.263 0.764 77.118
fg_save 52.146 0.729 82.474
* checking for unstated dependencies in ‘tests’ ... OK
* checking tests ...
Running ‘testthat.R’
OK
* checking for unstated dependencies in vignettes ... OK
* checking package vignettes in ‘inst/doc’ ... OK
* checking running R code from vignettes ... SKIPPED
* checking re-building of vignette outputs ... SKIPPED
* checking PDF version of manual ... OK
* DONE
Status: 1 NOTE
See
‘/Users/biocbuild/bbs-3.17-bioc-mac-arm64/meat/flowGraph.Rcheck/00check.log’
for details.
flowGraph.Rcheck/00install.out
############################################################################## ############################################################################## ### ### Running command: ### ### /Library/Frameworks/R.framework/Resources/bin/R CMD INSTALL flowGraph ### ############################################################################## ############################################################################## * installing to library ‘/Library/Frameworks/R.framework/Versions/4.3-arm64/Resources/library’ * installing *source* package ‘flowGraph’ ... ** using staged installation ** R ** data ** inst ** byte-compile and prepare package for lazy loading ** help Loading required namespace: flowGraph *** installing help indices ** building package indices ** installing vignettes ** testing if installed package can be loaded from temporary location ** testing if installed package can be loaded from final location ** testing if installed package keeps a record of temporary installation path * DONE (flowGraph)
flowGraph.Rcheck/tests/testthat.Rout
R version 4.3.1 (2023-06-16) -- "Beagle Scouts"
Copyright (C) 2023 The R Foundation for Statistical Computing
Platform: aarch64-apple-darwin20 (64-bit)
R is free software and comes with ABSOLUTELY NO WARRANTY.
You are welcome to redistribute it under certain conditions.
Type 'license()' or 'licence()' for distribution details.
R is a collaborative project with many contributors.
Type 'contributors()' for more information and
'citation()' on how to cite R or R packages in publications.
Type 'demo()' for some demos, 'help()' for on-line help, or
'help.start()' for an HTML browser interface to help.
Type 'q()' to quit R.
> library(testthat)
> library(flowGraph)
>
> test_check("flowGraph")
[ FAIL 0 | WARN 0 | SKIP 0 | PASS 34 ]
>
> proc.time()
user system elapsed
6.063 0.290 9.073
flowGraph.Rcheck/flowGraph-Ex.timings
| name | user | system | elapsed | |
| cell_type_layers | 0.004 | 0.001 | 0.008 | |
| fg_add_feature | 0.406 | 0.014 | 0.649 | |
| fg_add_summary | 1.008 | 0.019 | 1.538 | |
| fg_clean_phen | 0.000 | 0.000 | 0.001 | |
| fg_clear_features | 0.976 | 0.014 | 1.441 | |
| fg_clear_summary | 0.403 | 0.007 | 0.608 | |
| fg_extract_phenotypes | 0.312 | 0.007 | 0.484 | |
| fg_extract_raw | 0.935 | 0.014 | 1.446 | |
| fg_extract_samples | 0.303 | 0.005 | 0.473 | |
| fg_feat_cumsum | 0.293 | 0.005 | 0.454 | |
| fg_feat_edge_specenr | 0.497 | 0.009 | 0.761 | |
| fg_feat_mean_class | 0.323 | 0.006 | 0.486 | |
| fg_feat_node_prop | 0.305 | 0.006 | 0.451 | |
| fg_feat_node_specenr | 0.502 | 0.008 | 0.692 | |
| fg_feat_prop_edge | 0.334 | 0.005 | 0.493 | |
| fg_get_feature | 0.313 | 0.006 | 0.445 | |
| fg_get_feature_desc | 0.987 | 0.014 | 1.388 | |
| fg_get_feature_means | 1.467 | 0.019 | 2.263 | |
| fg_get_graph | 0.346 | 0.007 | 0.532 | |
| fg_get_markers | 0.298 | 0.005 | 0.431 | |
| fg_get_meta | 0.315 | 0.006 | 0.487 | |
| fg_get_summary | 2.017 | 0.023 | 3.010 | |
| fg_get_summary_desc | 1.013 | 0.012 | 1.569 | |
| fg_get_summary_index | 2.032 | 0.043 | 3.063 | |
| fg_get_summary_tables | 1.316 | 0.020 | 1.717 | |
| fg_gsub_ids | 0.283 | 0.006 | 0.362 | |
| fg_gsub_markers | 0.352 | 0.010 | 0.434 | |
| fg_load | 52.263 | 0.764 | 77.118 | |
| fg_merge | 0.351 | 0.006 | 0.501 | |
| fg_merge_samples | 0.367 | 0.006 | 0.552 | |
| fg_plot | 0.544 | 0.013 | 0.834 | |
| fg_plot_box | 0.859 | 0.016 | 1.331 | |
| fg_plot_pVSdiff | 0.518 | 0.010 | 0.812 | |
| fg_plot_qq | 1.631 | 0.233 | 3.193 | |
| fg_replace_meta | 0.311 | 0.005 | 0.551 | |
| fg_rm_feature | 0.964 | 0.010 | 1.639 | |
| fg_rm_summary | 0.413 | 0.005 | 0.720 | |
| fg_save | 52.146 | 0.729 | 82.474 | |
| fg_save_plots | 54.289 | 0.749 | 78.086 | |
| fg_set_layout | 0.360 | 0.007 | 0.550 | |
| fg_summary | 0.480 | 0.007 | 0.727 | |
| flowGraph-class | 0.001 | 0.001 | 0.002 | |
| flowGraph | 1.635 | 0.021 | 2.100 | |
| flowGraphSubset | 0.001 | 0.001 | 0.000 | |
| flowGraphSubset_summary_adjust | 0.001 | 0.001 | 0.001 | |
| flowGraphSubset_summary_pars | 0.000 | 0.001 | 0.001 | |
| get_phen_list | 0.020 | 0.002 | 0.029 | |
| get_phen_meta | 0.002 | 0.001 | 0.002 | |
| ggdf | 0.360 | 0.008 | 0.519 | |
| loop_ind_f | 0.000 | 0.000 | 0.001 | |
| meandiff | 0.000 | 0.000 | 0.001 | |
| plot_gr | 1.783 | 0.047 | 2.554 | |
| set_layout_graph | 0.382 | 0.038 | 0.609 | |
| summary_table | 0.004 | 0.000 | 0.005 | |
| time_output | 0.001 | 0.000 | 0.004 | |
| tstr | 0 | 0 | 0 | |