| Back to Mac ARM64 build report for BioC 3.17 |
|
This page was generated on 2023-03-02 11:01:29 -0500 (Thu, 02 Mar 2023).
| Hostname | OS | Arch (*) | R version | Installed pkgs |
|---|---|---|---|---|
| kjohnson2 | macOS 12.6.1 Monterey | arm64 | R Under development (unstable) (2023-01-10 r83596) -- "Unsuffered Consequences" | 3763 |
| Click on any hostname to see more info about the system (e.g. compilers) (*) as reported by 'uname -p', except on Windows and Mac OS X | ||||
|
To the developers/maintainers of the fcoex package: Make sure to use the following settings in order to reproduce any error or warning you see on this page. |
| Package 659/2171 | Hostname | OS / Arch | INSTALL | BUILD | CHECK | BUILD BIN | ||||||||
| fcoex 1.13.0 (landing page) Tiago Lubiana
| kjohnson2 | macOS 12.6.1 Monterey / arm64 | OK | OK | WARNINGS | OK | ||||||||
| Package: fcoex |
| Version: 1.13.0 |
| Command: rm -rf fcoex.buildbin-libdir && mkdir fcoex.buildbin-libdir && /Users/biocbuild/BBS/utils/build-universal.sh fcoex_1.13.0.tar.gz /Library/Frameworks/R.framework/Resources/bin/R fcoex.buildbin-libdir |
| StartedAt: 2023-03-01 05:42:57 -0500 (Wed, 01 Mar 2023) |
| EndedAt: 2023-03-01 05:44:37 -0500 (Wed, 01 Mar 2023) |
| EllapsedTime: 99.5 seconds |
| RetCode: 0 |
| Status: OK |
| PackageFile: fcoex_1.13.0.tgz |
| PackageFileSize: 3.202 MiB |
############################################################################## ############################################################################## ### ### Running command: ### ### rm -rf fcoex.buildbin-libdir && mkdir fcoex.buildbin-libdir && /Users/biocbuild/BBS/utils/build-universal.sh fcoex_1.13.0.tar.gz /Library/Frameworks/R.framework/Resources/bin/R fcoex.buildbin-libdir ### ############################################################################## ############################################################################## >>>>>>> >>>>>>> INSTALLATION WITH 'R CMD INSTALL --preclean --no-multiarch --library=fcoex.buildbin-libdir fcoex_1.13.0.tar.gz' >>>>>>> * installing *source* package ‘fcoex’ ... ** using staged installation ** R ** data *** moving datasets to lazyload DB Warning: replacing previous import ‘Matrix::head’ by ‘utils::head’ when loading ‘fcoex’ in method for ‘mod_ora’ with signature ‘"fcoex"’: no definition for class “fcoex” ** inst ** byte-compile and prepare package for lazy loading Warning: replacing previous import ‘Matrix::head’ by ‘utils::head’ when loading ‘fcoex’ in method for ‘mod_ora’ with signature ‘"fcoex"’: no definition for class “fcoex” ** help *** installing help indices ** building package indices ** installing vignettes ** testing if installed package can be loaded from temporary location Warning: replacing previous import ‘Matrix::head’ by ‘utils::head’ when loading ‘fcoex’ ** testing if installed package can be loaded from final location Warning: replacing previous import ‘Matrix::head’ by ‘utils::head’ when loading ‘fcoex’ ** testing if installed package keeps a record of temporary installation path * DONE (fcoex)