| Back to Mac ARM64 build report for BioC 3.17 |
|
This page was generated on 2023-10-20 09:38:00 -0400 (Fri, 20 Oct 2023).
| Hostname | OS | Arch (*) | R version | Installed pkgs |
|---|---|---|---|---|
| kjohnson2 | macOS 12.6.1 Monterey | arm64 | 4.3.1 (2023-06-16) -- "Beagle Scouts" | 4347 |
| Click on any hostname to see more info about the system (e.g. compilers) (*) as reported by 'uname -p', except on Windows and Mac OS X | ||||
| Package 401/2230 | Hostname | OS / Arch | INSTALL | BUILD | CHECK | BUILD BIN | ||||||||
| cola 2.6.0 (landing page) Zuguang Gu
| kjohnson2 | macOS 12.6.1 Monterey / arm64 | OK | OK | OK | OK | ||||||||
|
To the developers/maintainers of the cola package: - Use the following Renviron settings to reproduce errors and warnings. - If 'R CMD check' started to fail recently on the Linux builder(s) over a missing dependency, add the missing dependency to 'Suggests:' in your DESCRIPTION file. See Renviron.bioc for more information. |
| Package: cola |
| Version: 2.6.0 |
| Command: /Library/Frameworks/R.framework/Resources/bin/R CMD check --install=check:cola.install-out.txt --library=/Library/Frameworks/R.framework/Resources/library --no-vignettes --timings cola_2.6.0.tar.gz |
| StartedAt: 2023-10-17 11:04:30 -0400 (Tue, 17 Oct 2023) |
| EndedAt: 2023-10-17 11:10:02 -0400 (Tue, 17 Oct 2023) |
| EllapsedTime: 332.1 seconds |
| RetCode: 0 |
| Status: OK |
| CheckDir: cola.Rcheck |
| Warnings: 0 |
##############################################################################
##############################################################################
###
### Running command:
###
### /Library/Frameworks/R.framework/Resources/bin/R CMD check --install=check:cola.install-out.txt --library=/Library/Frameworks/R.framework/Resources/library --no-vignettes --timings cola_2.6.0.tar.gz
###
##############################################################################
##############################################################################
* using log directory ‘/Users/biocbuild/bbs-3.17-bioc-mac-arm64/meat/cola.Rcheck’
* using R version 4.3.1 (2023-06-16)
* using platform: aarch64-apple-darwin20 (64-bit)
* R was compiled by
Apple clang version 14.0.0 (clang-1400.0.29.202)
GNU Fortran (GCC) 12.2.0
* running under: macOS Monterey 12.6.7
* using session charset: UTF-8
* using option ‘--no-vignettes’
* checking for file ‘cola/DESCRIPTION’ ... OK
* checking extension type ... Package
* this is package ‘cola’ version ‘2.6.0’
* checking package namespace information ... OK
* checking package dependencies ... OK
* checking if this is a source package ... OK
* checking if there is a namespace ... OK
* checking for hidden files and directories ... OK
* checking for portable file names ... OK
* checking for sufficient/correct file permissions ... OK
* checking whether package ‘cola’ can be installed ... OK
* used C++ compiler: ‘Apple clang version 14.0.0 (clang-1400.0.29.202)’
* used SDK: ‘MacOSX11.3.sdk’
* checking installed package size ... NOTE
installed size is 5.8Mb
sub-directories of 1Mb or more:
data 3.2Mb
extdata 1.0Mb
* checking package directory ... OK
* checking ‘build’ directory ... OK
* checking DESCRIPTION meta-information ... OK
* checking top-level files ... OK
* checking for left-over files ... OK
* checking index information ... OK
* checking package subdirectories ... OK
* checking R files for non-ASCII characters ... OK
* checking R files for syntax errors ... OK
* checking whether the package can be loaded ... OK
* checking whether the package can be loaded with stated dependencies ... OK
* checking whether the package can be unloaded cleanly ... OK
* checking whether the namespace can be loaded with stated dependencies ... OK
* checking whether the namespace can be unloaded cleanly ... OK
* checking startup messages can be suppressed ... OK
* checking dependencies in R code ... OK
* checking S3 generic/method consistency ... OK
* checking replacement functions ... OK
* checking foreign function calls ... OK
* checking R code for possible problems ... OK
* checking Rd files ... OK
* checking Rd metadata ... OK
* checking Rd cross-references ... OK
* checking for missing documentation entries ... OK
* checking for code/documentation mismatches ... OK
* checking Rd \usage sections ... OK
* checking Rd contents ... OK
* checking for unstated dependencies in examples ... OK
* checking contents of ‘data’ directory ... OK
* checking data for non-ASCII characters ... OK
* checking data for ASCII and uncompressed saves ... OK
* checking line endings in C/C++/Fortran sources/headers ... OK
* checking compiled code ... NOTE
Note: information on .o files is not available
* checking files in ‘vignettes’ ... OK
* checking examples ... OK
Examples with CPU (user + system) or elapsed time > 5s
user system elapsed
consensus_partition 23.067 0.336 35.655
get_signatures-ConsensusPartition-method 5.944 0.167 9.458
compare_signatures-HierarchicalPartition-method 5.396 0.175 8.575
collect_classes-ConsensusPartitionList-method 3.600 0.049 5.615
* checking for unstated dependencies in ‘tests’ ... OK
* checking tests ...
Running ‘test-all.R’
OK
* checking for unstated dependencies in vignettes ... OK
* checking package vignettes in ‘inst/doc’ ... OK
* checking running R code from vignettes ... SKIPPED
* checking re-building of vignette outputs ... SKIPPED
* checking PDF version of manual ... OK
* DONE
Status: 2 NOTEs
See
‘/Users/biocbuild/bbs-3.17-bioc-mac-arm64/meat/cola.Rcheck/00check.log’
for details.
cola.Rcheck/00install.out
############################################################################## ############################################################################## ### ### Running command: ### ### /Library/Frameworks/R.framework/Resources/bin/R CMD INSTALL cola ### ############################################################################## ############################################################################## * installing to library ‘/Library/Frameworks/R.framework/Versions/4.3-arm64/Resources/library’ * installing *source* package ‘cola’ ... ** using staged installation ** libs using C++ compiler: ‘Apple clang version 14.0.0 (clang-1400.0.29.202)’ using SDK: ‘MacOSX11.3.sdk’ clang++ -arch arm64 -std=gnu++17 -I"/Library/Frameworks/R.framework/Resources/include" -DNDEBUG -I'/Library/Frameworks/R.framework/Versions/4.3-arm64/Resources/library/Rcpp/include' -I/opt/R/arm64/include -fPIC -falign-functions=64 -Wall -g -O2 -c RcppExports.cpp -o RcppExports.o clang++ -arch arm64 -std=gnu++17 -I"/Library/Frameworks/R.framework/Resources/include" -DNDEBUG -I'/Library/Frameworks/R.framework/Versions/4.3-arm64/Resources/library/Rcpp/include' -I/opt/R/arm64/include -fPIC -falign-functions=64 -Wall -g -O2 -c atc.cpp -o atc.o clang++ -arch arm64 -std=gnu++17 -I"/Library/Frameworks/R.framework/Resources/include" -DNDEBUG -I'/Library/Frameworks/R.framework/Versions/4.3-arm64/Resources/library/Rcpp/include' -I/opt/R/arm64/include -fPIC -falign-functions=64 -Wall -g -O2 -c cal_consensus_mat.cpp -o cal_consensus_mat.o clang++ -arch arm64 -std=gnu++17 -I"/Library/Frameworks/R.framework/Resources/include" -DNDEBUG -I'/Library/Frameworks/R.framework/Versions/4.3-arm64/Resources/library/Rcpp/include' -I/opt/R/arm64/include -fPIC -falign-functions=64 -Wall -g -O2 -c pdist.cpp -o pdist.o clang++ -arch arm64 -std=gnu++17 -dynamiclib -Wl,-headerpad_max_install_names -undefined dynamic_lookup -single_module -multiply_defined suppress -L/Library/Frameworks/R.framework/Resources/lib -L/opt/R/arm64/lib -o cola.so RcppExports.o atc.o cal_consensus_mat.o pdist.o -F/Library/Frameworks/R.framework/.. -framework R -Wl,-framework -Wl,CoreFoundation installing to /Library/Frameworks/R.framework/Versions/4.3-arm64/Resources/library/00LOCK-cola/00new/cola/libs ** R ** data ** inst ** byte-compile and prepare package for lazy loading ** help *** installing help indices ** building package indices ** installing vignettes ** testing if installed package can be loaded from temporary location ** checking absolute paths in shared objects and dynamic libraries ** testing if installed package can be loaded from final location ** testing if installed package keeps a record of temporary installation path * DONE (cola)
cola.Rcheck/tests/test-all.Rout
R version 4.3.1 (2023-06-16) -- "Beagle Scouts"
Copyright (C) 2023 The R Foundation for Statistical Computing
Platform: aarch64-apple-darwin20 (64-bit)
R is free software and comes with ABSOLUTELY NO WARRANTY.
You are welcome to redistribute it under certain conditions.
Type 'license()' or 'licence()' for distribution details.
R is a collaborative project with many contributors.
Type 'contributors()' for more information and
'citation()' on how to cite R or R packages in publications.
Type 'demo()' for some demos, 'help()' for on-line help, or
'help.start()' for an HTML browser interface to help.
Type 'q()' to quit R.
> library(testthat)
> suppressWarnings(suppressPackageStartupMessages(library(cola)))
>
> test_check("cola")
[ FAIL 0 | WARN 0 | SKIP 0 | PASS 18 ]
>
>
> proc.time()
user system elapsed
5.333 0.324 8.496
cola.Rcheck/cola-Ex.timings
| name | user | system | elapsed | |
| ATC | 0.054 | 0.005 | 0.085 | |
| ATC_approx | 0 | 0 | 0 | |
| ConsensusPartition-class | 0.000 | 0.000 | 0.001 | |
| ConsensusPartitionList-class | 0.000 | 0.000 | 0.001 | |
| DownSamplingConsensusPartition-class | 0.000 | 0.000 | 0.001 | |
| Extract.ConsensusPartitionList | 0.529 | 0.021 | 0.820 | |
| Extract.HierarchicalPartition | 0.253 | 0.010 | 0.407 | |
| ExtractExtract.ConsensusPartitionList | 0.191 | 0.010 | 0.310 | |
| ExtractExtract.HierarchicalPartition | 0.001 | 0.000 | 0.000 | |
| FCC | 0.205 | 0.010 | 0.325 | |
| HierarchicalPartition-class | 0 | 0 | 0 | |
| PAC | 0.451 | 0.012 | 0.711 | |
| aPAC | 0.170 | 0.010 | 0.277 | |
| adjust_matrix | 0.008 | 0.002 | 0.015 | |
| adjust_outlier | 0.001 | 0.000 | 0.004 | |
| all_leaves-HierarchicalPartition-method | 0.145 | 0.007 | 0.237 | |
| all_nodes-HierarchicalPartition-method | 0.150 | 0.007 | 0.234 | |
| all_partition_methods | 0.001 | 0.000 | 0.003 | |
| all_top_value_methods | 0.000 | 0.001 | 0.000 | |
| cola | 0.055 | 0.002 | 0.085 | |
| cola_opt | 0.028 | 0.002 | 0.044 | |
| cola_report-ConsensusPartition-method | 0 | 0 | 0 | |
| cola_report-ConsensusPartitionList-method | 0 | 0 | 0 | |
| cola_report-HierarchicalPartition-method | 0.000 | 0.000 | 0.001 | |
| cola_report-dispatch | 0 | 0 | 0 | |
| cola_rl | 0.083 | 0.006 | 0.132 | |
| collect_classes-ConsensusPartition-method | 2.178 | 0.075 | 3.445 | |
| collect_classes-ConsensusPartitionList-method | 3.600 | 0.049 | 5.615 | |
| collect_classes-HierarchicalPartition-method | 1.715 | 0.060 | 2.722 | |
| collect_classes-dispatch | 0 | 0 | 0 | |
| collect_plots-ConsensusPartition-method | 0 | 0 | 0 | |
| collect_plots-ConsensusPartitionList-method | 0 | 0 | 0 | |
| collect_plots-dispatch | 0 | 0 | 0 | |
| collect_stats-ConsensusPartition-method | 0 | 0 | 0 | |
| collect_stats-ConsensusPartitionList-method | 0.492 | 0.013 | 0.791 | |
| collect_stats-dispatch | 0 | 0 | 0 | |
| colnames-ConsensusPartition-method | 0 | 0 | 0 | |
| colnames-ConsensusPartitionList-method | 0 | 0 | 0 | |
| colnames-DownSamplingConsensusPartition-method | 0.001 | 0.000 | 0.001 | |
| colnames-HierarchicalPartition-method | 0 | 0 | 0 | |
| colnames-dispatch | 0 | 0 | 0 | |
| compare_partitions-ConsensusPartition-method | 0.000 | 0.000 | 0.001 | |
| compare_signatures-ConsensusPartition-method | 0.001 | 0.000 | 0.000 | |
| compare_signatures-HierarchicalPartition-method | 5.396 | 0.175 | 8.575 | |
| compare_signatures-dispatch | 0.000 | 0.001 | 0.000 | |
| concordance | 0.170 | 0.009 | 0.271 | |
| config_ATC | 0.001 | 0.000 | 0.001 | |
| consensus_heatmap-ConsensusPartition-method | 0.668 | 0.022 | 1.051 | |
| consensus_partition | 23.067 | 0.336 | 35.655 | |
| consensus_partition_by_down_sampling | 0 | 0 | 0 | |
| correspond_between_rankings | 0.075 | 0.004 | 0.122 | |
| correspond_between_two_rankings | 0.040 | 0.002 | 0.069 | |
| david_enrichment | 0.000 | 0.000 | 0.001 | |
| dim.ConsensusPartition | 0.000 | 0.000 | 0.001 | |
| dim.ConsensusPartitionList | 0 | 0 | 0 | |
| dim.DownSamplingConsensusPartition | 0.000 | 0.001 | 0.000 | |
| dim.HierarchicalPartition | 0 | 0 | 0 | |
| dimension_reduction-ConsensusPartition-method | 0.759 | 0.046 | 1.284 | |
| dimension_reduction-DownSamplingConsensusPartition-method | 1.270 | 0.034 | 1.967 | |
| dimension_reduction-HierarchicalPartition-method | 0.647 | 0.019 | 0.981 | |
| dimension_reduction-dispatch | 0 | 0 | 0 | |
| dimension_reduction-matrix-method | 0 | 0 | 0 | |
| find_best_km | 0.001 | 0.000 | 0.000 | |
| functional_enrichment-ANY-method | 0 | 0 | 0 | |
| functional_enrichment-ConsensusPartition-method | 0.000 | 0.000 | 0.001 | |
| functional_enrichment-ConsensusPartitionList-method | 0.001 | 0.000 | 0.000 | |
| functional_enrichment-HierarchicalPartition-method | 0 | 0 | 0 | |
| functional_enrichment-dispatch | 0.000 | 0.001 | 0.000 | |
| get_anno-ConsensusPartition-method | 0 | 0 | 0 | |
| get_anno-ConsensusPartitionList-method | 0.000 | 0.000 | 0.001 | |
| get_anno-DownSamplingConsensusPartition-method | 0.092 | 0.006 | 0.149 | |
| get_anno-HierarchicalPartition-method | 0 | 0 | 0 | |
| get_anno-dispatch | 0.000 | 0.000 | 0.001 | |
| get_anno_col-ConsensusPartition-method | 0 | 0 | 0 | |
| get_anno_col-ConsensusPartitionList-method | 0.001 | 0.000 | 0.002 | |
| get_anno_col-HierarchicalPartition-method | 0.000 | 0.001 | 0.000 | |
| get_anno_col-dispatch | 0 | 0 | 0 | |
| get_children_nodes-HierarchicalPartition-method | 0.000 | 0.000 | 0.001 | |
| get_classes-ConsensusPartition-method | 0.167 | 0.011 | 0.264 | |
| get_classes-ConsensusPartitionList-method | 0.165 | 0.009 | 0.267 | |
| get_classes-DownSamplingConsensusPartition-method | 0.095 | 0.008 | 0.135 | |
| get_classes-HierarchicalPartition-method | 0.168 | 0.008 | 0.235 | |
| get_classes-dispatch | 0.000 | 0.000 | 0.001 | |
| get_consensus-ConsensusPartition-method | 0.172 | 0.033 | 0.271 | |
| get_matrix-ConsensusPartition-method | 0.372 | 0.497 | 1.154 | |
| get_matrix-ConsensusPartitionList-method | 0.388 | 0.500 | 1.177 | |
| get_matrix-DownSamplingConsensusPartition-method | 0.000 | 0.000 | 0.002 | |
| get_matrix-HierarchicalPartition-method | 0.001 | 0.000 | 0.000 | |
| get_matrix-dispatch | 0 | 0 | 0 | |
| get_membership-ConsensusPartition-method | 0.169 | 0.025 | 0.272 | |
| get_membership-ConsensusPartitionList-method | 0.181 | 0.010 | 0.279 | |
| get_membership-dispatch | 0.000 | 0.000 | 0.004 | |
| get_param-ConsensusPartition-method | 0.173 | 0.014 | 0.286 | |
| get_signatures-ConsensusPartition-method | 5.944 | 0.167 | 9.458 | |
| get_signatures-DownSamplingConsensusPartition-method | 0 | 0 | 0 | |
| get_signatures-HierarchicalPartition-method | 0 | 0 | 0 | |
| get_signatures-dispatch | 0.000 | 0.000 | 0.001 | |
| get_stats-ConsensusPartition-method | 0.164 | 0.007 | 0.266 | |
| get_stats-ConsensusPartitionList-method | 0.164 | 0.008 | 0.261 | |
| get_stats-dispatch | 0 | 0 | 0 | |
| golub_cola | 0.192 | 0.009 | 0.301 | |
| golub_cola_ds | 0.147 | 0.007 | 0.224 | |
| golub_cola_rh | 0.191 | 0.007 | 0.297 | |
| hierarchical_partition | 0.000 | 0.000 | 0.001 | |
| is_best_k-ConsensusPartition-method | 0.167 | 0.008 | 0.269 | |
| is_best_k-ConsensusPartitionList-method | 0.170 | 0.008 | 0.272 | |
| is_best_k-dispatch | 0.000 | 0.000 | 0.003 | |
| is_leaf_node-HierarchicalPartition-method | 0.146 | 0.006 | 0.233 | |
| is_stable_k-ConsensusPartition-method | 0.167 | 0.008 | 0.270 | |
| is_stable_k-ConsensusPartitionList-method | 0.191 | 0.009 | 0.308 | |
| is_stable_k-dispatch | 0 | 0 | 0 | |
| knee_finder2 | 0.024 | 0.003 | 0.039 | |
| knitr_add_tab_item | 0 | 0 | 0 | |
| knitr_insert_tabs | 0 | 0 | 0 | |
| map_to_entrez_id | 0 | 0 | 0 | |
| max_depth-HierarchicalPartition-method | 0.143 | 0.007 | 0.232 | |
| membership_heatmap-ConsensusPartition-method | 0.557 | 0.015 | 0.858 | |
| merge_node-HierarchicalPartition-method | 0 | 0 | 0 | |
| merge_node_param | 0 | 0 | 0 | |
| ncol-ConsensusPartition-method | 0 | 0 | 0 | |
| ncol-ConsensusPartitionList-method | 0 | 0 | 0 | |
| ncol-DownSamplingConsensusPartition-method | 0 | 0 | 0 | |
| ncol-HierarchicalPartition-method | 0 | 0 | 0 | |
| ncol-dispatch | 0 | 0 | 0 | |
| node_info-HierarchicalPartition-method | 0 | 0 | 0 | |
| node_level-HierarchicalPartition-method | 0 | 0 | 0 | |
| nrow-ConsensusPartition-method | 0.001 | 0.000 | 0.000 | |
| nrow-ConsensusPartitionList-method | 0.000 | 0.000 | 0.001 | |
| nrow-HierarchicalPartition-method | 0.000 | 0.000 | 0.001 | |
| nrow-dispatch | 0 | 0 | 0 | |
| plot_ecdf-ConsensusPartition-method | 0.175 | 0.009 | 0.281 | |
| predict_classes-ConsensusPartition-method | 0.000 | 0.001 | 0.001 | |
| predict_classes-dispatch | 0.000 | 0.000 | 0.001 | |
| predict_classes-matrix-method | 0.000 | 0.000 | 0.001 | |
| print.hc_table_suggest_best_k | 0 | 0 | 0 | |
| recalc_stats | 0 | 0 | 0 | |
| register_NMF | 0.000 | 0.001 | 0.000 | |
| register_SOM | 0 | 0 | 0 | |
| register_partition_methods | 0.566 | 0.009 | 0.871 | |
| register_top_value_methods | 0.002 | 0.001 | 0.001 | |
| relabel_class | 0.011 | 0.002 | 0.019 | |
| remove_partition_methods | 0.000 | 0.001 | 0.001 | |
| remove_top_value_methods | 0 | 0 | 0 | |
| rownames-ConsensusPartition-method | 0 | 0 | 0 | |
| rownames-ConsensusPartitionList-method | 0 | 0 | 0 | |
| rownames-HierarchicalPartition-method | 0.000 | 0.000 | 0.001 | |
| rownames-dispatch | 0 | 0 | 0 | |
| run_all_consensus_partition_methods | 0 | 0 | 0 | |
| select_partition_number-ConsensusPartition-method | 0.178 | 0.009 | 0.287 | |
| show-ConsensusPartition-method | 0.001 | 0.000 | 0.001 | |
| show-ConsensusPartitionList-method | 0 | 0 | 0 | |
| show-DownSamplingConsensusPartition-method | 0.123 | 0.006 | 0.196 | |
| show-HierarchicalPartition-method | 0.187 | 0.008 | 0.296 | |
| show-dispatch | 0.000 | 0.000 | 0.001 | |
| split_node-HierarchicalPartition-method | 0.000 | 0.001 | 0.000 | |
| suggest_best_k-ConsensusPartition-method | 0.162 | 0.008 | 0.258 | |
| suggest_best_k-ConsensusPartitionList-method | 0.171 | 0.009 | 0.277 | |
| suggest_best_k-HierarchicalPartition-method | 0.146 | 0.006 | 0.236 | |
| suggest_best_k-dispatch | 0 | 0 | 0 | |
| test_between_factors | 0.011 | 0.001 | 0.017 | |
| test_to_known_factors-ConsensusPartition-method | 0.182 | 0.010 | 0.296 | |
| test_to_known_factors-ConsensusPartitionList-method | 0.337 | 0.012 | 0.529 | |
| test_to_known_factors-DownSamplingConsensusPartition-method | 0.120 | 0.006 | 0.192 | |
| test_to_known_factors-HierarchicalPartition-method | 0.156 | 0.007 | 0.251 | |
| test_to_known_factors-dispatch | 0.000 | 0.001 | 0.000 | |
| top_elements_overlap | 0.264 | 0.019 | 0.437 | |
| top_rows_heatmap-ConsensusPartition-method | 0 | 0 | 0 | |
| top_rows_heatmap-ConsensusPartitionList-method | 0 | 0 | 0 | |
| top_rows_heatmap-HierarchicalPartition-method | 0 | 0 | 0 | |
| top_rows_heatmap-dispatch | 0 | 0 | 0 | |
| top_rows_heatmap-matrix-method | 2.961 | 0.131 | 4.699 | |
| top_rows_overlap-ConsensusPartitionList-method | 1.433 | 0.061 | 2.284 | |
| top_rows_overlap-HierarchicalPartition-method | 0.617 | 0.018 | 0.979 | |
| top_rows_overlap-dispatch | 0 | 0 | 0 | |
| top_rows_overlap-matrix-method | 0.167 | 0.004 | 0.265 | |