| Back to Mac ARM64 build report for BioC 3.17 |
|
This page was generated on 2023-10-20 09:38:00 -0400 (Fri, 20 Oct 2023).
| Hostname | OS | Arch (*) | R version | Installed pkgs |
|---|---|---|---|---|
| kjohnson2 | macOS 12.6.1 Monterey | arm64 | 4.3.1 (2023-06-16) -- "Beagle Scouts" | 4347 |
| Click on any hostname to see more info about the system (e.g. compilers) (*) as reported by 'uname -p', except on Windows and Mac OS X | ||||
| Package 367/2230 | Hostname | OS / Arch | INSTALL | BUILD | CHECK | BUILD BIN | ||||||||
| clusterProfiler 4.8.3 (landing page) Guangchuang Yu
| kjohnson2 | macOS 12.6.1 Monterey / arm64 | ERROR | ERROR | skipped | skipped | ||||||||
|
To the developers/maintainers of the clusterProfiler package: - Use the following Renviron settings to reproduce errors and warnings. - If 'R CMD check' started to fail recently on the Linux builder(s) over a missing dependency, add the missing dependency to 'Suggests:' in your DESCRIPTION file. See Renviron.bioc for more information. |
| Package: clusterProfiler |
| Version: 4.8.3 |
| Command: /Library/Frameworks/R.framework/Resources/bin/R CMD build --keep-empty-dirs --no-resave-data clusterProfiler |
| StartedAt: 2023-10-15 23:42:28 -0400 (Sun, 15 Oct 2023) |
| EndedAt: 2023-10-15 23:42:38 -0400 (Sun, 15 Oct 2023) |
| EllapsedTime: 10.7 seconds |
| RetCode: 1 |
| Status: ERROR |
| PackageFile: None |
| PackageFileSize: NA |
##############################################################################
##############################################################################
###
### Running command:
###
### /Library/Frameworks/R.framework/Resources/bin/R CMD build --keep-empty-dirs --no-resave-data clusterProfiler
###
##############################################################################
##############################################################################
* checking for file ‘clusterProfiler/DESCRIPTION’ ... OK
* preparing ‘clusterProfiler’:
* checking DESCRIPTION meta-information ... OK
* installing the package to build vignettes
-----------------------------------
* installing *source* package ‘clusterProfiler’ ...
** using staged installation
** R
** data
** inst
** byte-compile and prepare package for lazy loading
Error in loadNamespace(j <- i[[1L]], c(lib.loc, .libPaths()), versionCheck = vI[[j]]) :
namespace ‘yulab.utils’ 0.0.6 is already loaded, but >= 0.0.7 is required
Calls: <Anonymous> ... namespaceImportFrom -> asNamespace -> loadNamespace
Execution halted
ERROR: lazy loading failed for package ‘clusterProfiler’
* removing ‘/private/tmp/Rtmp07ptgs/Rinst15e19299d8121/clusterProfiler’
-----------------------------------
ERROR: package installation failed