| Back to Mac ARM64 build report for BioC 3.17 |
|
This page was generated on 2023-10-20 09:37:59 -0400 (Fri, 20 Oct 2023).
| Hostname | OS | Arch (*) | R version | Installed pkgs |
|---|---|---|---|---|
| kjohnson2 | macOS 12.6.1 Monterey | arm64 | 4.3.1 (2023-06-16) -- "Beagle Scouts" | 4347 |
| Click on any hostname to see more info about the system (e.g. compilers) (*) as reported by 'uname -p', except on Windows and Mac OS X | ||||
| Package 262/2230 | Hostname | OS / Arch | INSTALL | BUILD | CHECK | BUILD BIN | ||||||||
| canceR 1.34.0 (landing page) Karim Mezhoud
| kjohnson2 | macOS 12.6.1 Monterey / arm64 | OK | OK | OK | OK | ||||||||
|
To the developers/maintainers of the canceR package: - Use the following Renviron settings to reproduce errors and warnings. - If 'R CMD check' started to fail recently on the Linux builder(s) over a missing dependency, add the missing dependency to 'Suggests:' in your DESCRIPTION file. See Renviron.bioc for more information. |
| Package: canceR |
| Version: 1.34.0 |
| Command: /Library/Frameworks/R.framework/Resources/bin/R CMD check --install=check:canceR.install-out.txt --library=/Library/Frameworks/R.framework/Resources/library --no-vignettes --timings canceR_1.34.0.tar.gz |
| StartedAt: 2023-10-17 07:23:04 -0400 (Tue, 17 Oct 2023) |
| EndedAt: 2023-10-17 07:30:01 -0400 (Tue, 17 Oct 2023) |
| EllapsedTime: 416.6 seconds |
| RetCode: 0 |
| Status: OK |
| CheckDir: canceR.Rcheck |
| Warnings: 0 |
##############################################################################
##############################################################################
###
### Running command:
###
### /Library/Frameworks/R.framework/Resources/bin/R CMD check --install=check:canceR.install-out.txt --library=/Library/Frameworks/R.framework/Resources/library --no-vignettes --timings canceR_1.34.0.tar.gz
###
##############################################################################
##############################################################################
* using log directory ‘/Users/biocbuild/bbs-3.17-bioc-mac-arm64/meat/canceR.Rcheck’
* using R version 4.3.1 (2023-06-16)
* using platform: aarch64-apple-darwin20 (64-bit)
* R was compiled by
Apple clang version 14.0.0 (clang-1400.0.29.202)
GNU Fortran (GCC) 12.2.0
* running under: macOS Monterey 12.6.7
* using session charset: UTF-8
* using option ‘--no-vignettes’
* checking for file ‘canceR/DESCRIPTION’ ... OK
* checking extension type ... Package
* this is package ‘canceR’ version ‘1.34.0’
* package encoding: UTF-8
* checking package namespace information ... OK
* checking package dependencies ... OK
* checking if this is a source package ... OK
* checking if there is a namespace ... OK
* checking for hidden files and directories ... OK
* checking for portable file names ... OK
* checking for sufficient/correct file permissions ... OK
* checking whether package ‘canceR’ can be installed ... OK
* checking installed package size ... OK
* checking package directory ... OK
* checking ‘build’ directory ... OK
* checking DESCRIPTION meta-information ... OK
* checking top-level files ... OK
* checking for left-over files ... OK
* checking index information ... OK
* checking package subdirectories ... OK
* checking R files for non-ASCII characters ... OK
* checking R files for syntax errors ... OK
* checking whether the package can be loaded ... OK
* checking whether the package can be loaded with stated dependencies ... OK
* checking whether the package can be unloaded cleanly ... OK
* checking whether the namespace can be loaded with stated dependencies ... OK
* checking whether the namespace can be unloaded cleanly ... OK
* checking dependencies in R code ... NOTE
Namespace in Imports field not imported from: ‘R.methodsS3’
All declared Imports should be used.
* checking S3 generic/method consistency ... OK
* checking replacement functions ... OK
* checking foreign function calls ... OK
* checking R code for possible problems ... OK
* checking Rd files ... OK
* checking Rd metadata ... OK
* checking Rd cross-references ... OK
* checking for missing documentation entries ... OK
* checking for code/documentation mismatches ... OK
* checking Rd \usage sections ... NOTE
S3 methods shown with full name in documentation object 'cbind.na':
‘cbind.na’
S3 methods shown with full name in documentation object 'rbind.na':
‘rbind.na’
The \usage entries for S3 methods should use the \method markup and not
their full name.
See chapter ‘Writing R documentation files’ in the ‘Writing R
Extensions’ manual.
* checking Rd contents ... OK
* checking for unstated dependencies in examples ... OK
* checking files in ‘vignettes’ ... OK
* checking examples ... OK
* checking for unstated dependencies in ‘tests’ ... OK
* checking tests ...
Running ‘testthat.R’
OK
* checking for unstated dependencies in vignettes ... OK
* checking package vignettes in ‘inst/doc’ ... OK
* checking running R code from vignettes ... SKIPPED
* checking re-building of vignette outputs ... SKIPPED
* checking PDF version of manual ... OK
* DONE
Status: 2 NOTEs
See
‘/Users/biocbuild/bbs-3.17-bioc-mac-arm64/meat/canceR.Rcheck/00check.log’
for details.
canceR.Rcheck/00install.out
############################################################################## ############################################################################## ### ### Running command: ### ### /Library/Frameworks/R.framework/Resources/bin/R CMD INSTALL canceR ### ############################################################################## ############################################################################## * installing to library ‘/Library/Frameworks/R.framework/Versions/4.3-arm64/Resources/library’ * installing *source* package ‘canceR’ ... ** using staged installation ** R ** inst ** byte-compile and prepare package for lazy loading ** help *** installing help indices ** building package indices ** installing vignettes ** testing if installed package can be loaded from temporary location ** testing if installed package can be loaded from final location ** testing if installed package keeps a record of temporary installation path * DONE (canceR)
canceR.Rcheck/tests/testthat.Rout
R version 4.3.1 (2023-06-16) -- "Beagle Scouts"
Copyright (C) 2023 The R Foundation for Statistical Computing
Platform: aarch64-apple-darwin20 (64-bit)
R is free software and comes with ABSOLUTELY NO WARRANTY.
You are welcome to redistribute it under certain conditions.
Type 'license()' or 'licence()' for distribution details.
R is a collaborative project with many contributors.
Type 'contributors()' for more information and
'citation()' on how to cite R or R packages in publications.
Type 'demo()' for some demos, 'help()' for on-line help, or
'help.start()' for an HTML browser interface to help.
Type 'q()' to quit R.
> library(testthat)
> library(canceR)
Loading required package: tcltk
>
> test_check("canceR")
getCancerStudies... OK
getCaseLists (1/2) ... OK
getCaseLists (2/2) ... OK
getGeneticProfiles (1/2) ... OK
getGeneticProfiles (2/2) ... OK
getClinicalData (1/1) ... OK
getProfileData (1/6) ... OK
getProfileData (2/6) ... OK
getProfileData (3/6) ... OK
getProfileData (4/6) ... OK
getProfileData (5/6) ... OK
getProfileData (6/6) ... OK
[ FAIL 0 | WARN 0 | SKIP 1 | PASS 0 ]
══ Skipped tests (1) ═══════════════════════════════════════════════════════════
• empty test (1): 'test_funs.R:8:1'
[ FAIL 0 | WARN 0 | SKIP 1 | PASS 0 ]
>
> proc.time()
user system elapsed
12.123 1.239 28.277
canceR.Rcheck/canceR-Ex.timings
| name | user | system | elapsed | |
| GSEA.Analyze.Sets | 0 | 0 | 0 | |
| GSEA.ConsPlot | 0.001 | 0.000 | 0.001 | |
| GSEA.EnrichmentScore | 0.000 | 0.001 | 0.000 | |
| GSEA.EnrichmentScore2 | 0 | 0 | 0 | |
| GSEA.Gct2Frame | 0 | 0 | 0 | |
| GSEA.Gct2Frame2 | 0 | 0 | 0 | |
| GSEA.GeneRanking | 0 | 0 | 0 | |
| GSEA.HeatMapPlot | 0.000 | 0.001 | 0.000 | |
| GSEA.HeatMapPlot2 | 0 | 0 | 0 | |
| GSEA.NormalizeCols | 0.000 | 0.000 | 0.002 | |
| GSEA.NormalizeRows | 0 | 0 | 0 | |
| GSEA | 0.001 | 0.000 | 0.000 | |
| GSEA.ReadClsFile | 0.001 | 0.000 | 0.001 | |
| GSEA.Res2Frame | 0.000 | 0.000 | 0.001 | |
| GSEA.Threshold | 0.000 | 0.000 | 0.001 | |
| GSEA.VarFilter | 0.000 | 0.001 | 0.002 | |
| GSEA.write.gct | 0.000 | 0.001 | 0.001 | |
| Match_GeneList_MSigDB | 0.000 | 0.001 | 0.004 | |
| OLD.GSEA.EnrichmentScore | 0.000 | 0.001 | 0.001 | |
| Run.GSEA | 0.000 | 0.001 | 0.005 | |
| about | 0 | 0 | 0 | |
| canceR | 0 | 0 | 0 | |
| canceR_Issue | 0.000 | 0.000 | 0.001 | |
| canceR_Vignette | 0.000 | 0.000 | 0.001 | |
| cbind.na | 0 | 0 | 0 | |
| dialogGeneClassifier | 0.000 | 0.000 | 0.001 | |
| dialogMetOption | 0.001 | 0.000 | 0.003 | |
| dialogMut | 0.000 | 0.000 | 0.001 | |
| dialogOptionCircos | 0.000 | 0.000 | 0.004 | |
| dialogOptionGSEAlm | 0 | 0 | 0 | |
| dialogOptionPhenoTest | 0.000 | 0.001 | 0.000 | |
| dialogPlotOption_SkinCor | 0.000 | 0.000 | 0.001 | |
| dialogSamplingGSEA | 0.001 | 0.001 | 0.001 | |
| dialogSelectFiles_GSEA | 0.000 | 0.000 | 0.002 | |
| dialogSpecificMut | 0.000 | 0.001 | 0.002 | |
| dialogSummary_GSEA | 0.001 | 0.001 | 0.001 | |
| dialoggetGeneListMSigDB | 0.000 | 0.000 | 0.001 | |
| displayInTable | 0 | 0 | 0 | |
| getCases | 0.000 | 0.001 | 0.001 | |
| getCasesGenProfs | 0.001 | 0.001 | 0.001 | |
| getCircos | 0.000 | 0.001 | 0.000 | |
| getClinicData_MultipleCases | 0.000 | 0.000 | 0.001 | |
| getClinicalDataMatrix | 0.000 | 0.001 | 0.001 | |
| getCor_ExpCNAMet | 0 | 0 | 0 | |
| getGCTCLSExample | 0.001 | 0.001 | 0.001 | |
| getGCT_CLSfiles | 0.001 | 0.001 | 0.004 | |
| getGSEAlm_Diseases | 0.001 | 0.001 | 0.001 | |
| getGSEAlm_Variables | 0 | 0 | 0 | |
| getGenProfs | 0 | 0 | 0 | |
| getGeneList | 0 | 0 | 0 | |
| getGeneListExample | 0.000 | 0.000 | 0.003 | |
| getGeneListFromMSigDB | 0.001 | 0.001 | 0.001 | |
| getGenesClassifier | 0 | 0 | 0 | |
| getGenesTree_MultipleCases | 0.000 | 0.001 | 0.001 | |
| getGenesTree_SingleCase | 0.001 | 0.001 | 0.004 | |
| getInTable | 0 | 0 | 0 | |
| getListProfData | 0.000 | 0.000 | 0.001 | |
| getMSigDB | 0.000 | 0.000 | 0.001 | |
| getMSigDBExample | 0.001 | 0.001 | 0.001 | |
| getMSigDBfile | 0.000 | 0.000 | 0.001 | |
| getMegaProfData | 0.001 | 0.000 | 0.001 | |
| getMetDataMultipleGenes | 0.001 | 0.000 | 0.001 | |
| getMutData | 0.001 | 0.000 | 0.001 | |
| getPhenoTest | 0 | 0 | 0 | |
| getProfilesDataMultipleGenes | 0.000 | 0.001 | 0.001 | |
| getProfilesDataSingleGene | 0.000 | 0.001 | 0.001 | |
| getSpecificMut | 0.001 | 0.001 | 0.002 | |
| getSummaryGSEA | 0.001 | 0.001 | 0.001 | |
| getSurvival | 0.000 | 0.000 | 0.001 | |
| getTextWin | 0 | 0 | 0 | |
| geteSet | 0 | 0 | 0 | |
| modalDialog | 0.001 | 0.001 | 0.002 | |
| myGlobalEnv | 0 | 0 | 0 | |
| plotModel | 0 | 0 | 0 | |
| plot_1Gene_2GenProfs | 0.001 | 0.000 | 0.000 | |
| plot_2Genes_1GenProf | 0.001 | 0.001 | 0.005 | |
| rbind.na | 0.000 | 0.000 | 0.001 | |
| setWorkspace | 0.000 | 0.000 | 0.001 | |
| testCheckedCaseGenProf | 0.000 | 0.000 | 0.001 | |