| Back to Mac ARM64 build report for BioC 3.17 |
|
This page was generated on 2023-10-20 09:37:59 -0400 (Fri, 20 Oct 2023).
| Hostname | OS | Arch (*) | R version | Installed pkgs |
|---|---|---|---|---|
| kjohnson2 | macOS 12.6.1 Monterey | arm64 | 4.3.1 (2023-06-16) -- "Beagle Scouts" | 4347 |
| Click on any hostname to see more info about the system (e.g. compilers) (*) as reported by 'uname -p', except on Windows and Mac OS X | ||||
| Package 209/2230 | Hostname | OS / Arch | INSTALL | BUILD | CHECK | BUILD BIN | ||||||||
| biomvRCNS 1.40.0 (landing page) Yang Du
| kjohnson2 | macOS 12.6.1 Monterey / arm64 | ERROR | ERROR | skipped | skipped | ||||||||
|
To the developers/maintainers of the biomvRCNS package: - Use the following Renviron settings to reproduce errors and warnings. - If 'R CMD check' started to fail recently on the Linux builder(s) over a missing dependency, add the missing dependency to 'Suggests:' in your DESCRIPTION file. See Renviron.bioc for more information. |
| Package: biomvRCNS |
| Version: 1.40.0 |
| Command: /Library/Frameworks/R.framework/Resources/bin/R CMD build --keep-empty-dirs --no-resave-data biomvRCNS |
| StartedAt: 2023-10-15 22:09:31 -0400 (Sun, 15 Oct 2023) |
| EndedAt: 2023-10-15 22:09:32 -0400 (Sun, 15 Oct 2023) |
| EllapsedTime: 1.1 seconds |
| RetCode: 1 |
| Status: ERROR |
| PackageFile: None |
| PackageFileSize: NA |
##############################################################################
##############################################################################
###
### Running command:
###
### /Library/Frameworks/R.framework/Resources/bin/R CMD build --keep-empty-dirs --no-resave-data biomvRCNS
###
##############################################################################
##############################################################################
* checking for file ‘biomvRCNS/DESCRIPTION’ ... OK
* preparing ‘biomvRCNS’:
* checking DESCRIPTION meta-information ... OK
* cleaning src
* installing the package to build vignettes
-----------------------------------
* installing *source* package ‘biomvRCNS’ ...
** using staged installation
** libs
using C compiler: ‘Apple clang version 14.0.0 (clang-1400.0.29.202)’
using SDK: ‘MacOSX11.3.sdk’
clang -arch arm64 -I"/Library/Frameworks/R.framework/Resources/include" -DNDEBUG -I/opt/R/arm64/include -fPIC -falign-functions=64 -Wall -g -O2 -c biomvRCNS.c -o biomvRCNS.o
biomvRCNS.c:153:22: error: use of undeclared identifier 'DOUBLE_XMIN'
m_e(F, t, j, T)+= DOUBLE_XMIN;
^
biomvRCNS.c:294:29: error: use of undeclared identifier 'DOUBLE_XMAX'
double obs, prod, maxprod=-DOUBLE_XMAX;
^
biomvRCNS.c:401:29: error: use of undeclared identifier 'DOUBLE_XMAX'
double obs, prod, maxprod=-DOUBLE_XMAX;
^
3 errors generated.
make: *** [biomvRCNS.o] Error 1
ERROR: compilation failed for package ‘biomvRCNS’
* removing ‘/private/tmp/RtmpwtZ6kx/Rinstbd18d4d6f3c/biomvRCNS’
-----------------------------------
ERROR: package installation failed