| Back to Mac ARM64 build report for BioC 3.17 |
|
This page was generated on 2023-10-20 09:37:58 -0400 (Fri, 20 Oct 2023).
| Hostname | OS | Arch (*) | R version | Installed pkgs |
|---|---|---|---|---|
| kjohnson2 | macOS 12.6.1 Monterey | arm64 | 4.3.1 (2023-06-16) -- "Beagle Scouts" | 4347 |
| Click on any hostname to see more info about the system (e.g. compilers) (*) as reported by 'uname -p', except on Windows and Mac OS X | ||||
| Package 170/2230 | Hostname | OS / Arch | INSTALL | BUILD | CHECK | BUILD BIN | ||||||||
| bioCancer 1.28.0 (landing page) Karim Mezhoud
| kjohnson2 | macOS 12.6.1 Monterey / arm64 | OK | OK | OK | OK | ||||||||
|
To the developers/maintainers of the bioCancer package: - Use the following Renviron settings to reproduce errors and warnings. - If 'R CMD check' started to fail recently on the Linux builder(s) over a missing dependency, add the missing dependency to 'Suggests:' in your DESCRIPTION file. See Renviron.bioc for more information. |
| Package: bioCancer |
| Version: 1.28.0 |
| Command: /Library/Frameworks/R.framework/Resources/bin/R CMD check --install=check:bioCancer.install-out.txt --library=/Library/Frameworks/R.framework/Resources/library --no-vignettes --timings bioCancer_1.28.0.tar.gz |
| StartedAt: 2023-10-17 05:19:35 -0400 (Tue, 17 Oct 2023) |
| EndedAt: 2023-10-17 05:25:24 -0400 (Tue, 17 Oct 2023) |
| EllapsedTime: 348.5 seconds |
| RetCode: 0 |
| Status: OK |
| CheckDir: bioCancer.Rcheck |
| Warnings: 0 |
##############################################################################
##############################################################################
###
### Running command:
###
### /Library/Frameworks/R.framework/Resources/bin/R CMD check --install=check:bioCancer.install-out.txt --library=/Library/Frameworks/R.framework/Resources/library --no-vignettes --timings bioCancer_1.28.0.tar.gz
###
##############################################################################
##############################################################################
* using log directory ‘/Users/biocbuild/bbs-3.17-bioc-mac-arm64/meat/bioCancer.Rcheck’
* using R version 4.3.1 (2023-06-16)
* using platform: aarch64-apple-darwin20 (64-bit)
* R was compiled by
Apple clang version 14.0.0 (clang-1400.0.29.202)
GNU Fortran (GCC) 12.2.0
* running under: macOS Monterey 12.6.7
* using session charset: UTF-8
* using option ‘--no-vignettes’
* checking for file ‘bioCancer/DESCRIPTION’ ... OK
* this is package ‘bioCancer’ version ‘1.28.0’
* package encoding: UTF-8
* checking package namespace information ... OK
* checking package dependencies ... OK
* checking if this is a source package ... OK
* checking if there is a namespace ... OK
* checking for hidden files and directories ... OK
* checking for portable file names ... OK
* checking for sufficient/correct file permissions ... OK
* checking whether package ‘bioCancer’ can be installed ... OK
* checking installed package size ... NOTE
installed size is 5.6Mb
sub-directories of 1Mb or more:
app 3.3Mb
extdata 1.6Mb
* checking package directory ... OK
* checking ‘build’ directory ... OK
* checking DESCRIPTION meta-information ... OK
* checking top-level files ... OK
* checking for left-over files ... OK
* checking index information ... OK
* checking package subdirectories ... NOTE
Problems with news in ‘NEWS’:
Cannot process chunk/lines:
metamorphosis: bioCancer is a radiant.data extension
Cannot process chunk/lines:
reduce size of package by half 14 -> 7 mb
Cannot process chunk/lines:
improve Reactome_ui functions
Cannot process chunk/lines:
add switch button to ui_circomics
Cannot process chunk/lines:
improve circomics functions
Cannot process chunk/lines:
delete commented files and figures
Cannot process chunk/lines:
cleanup ui_radiant, /Rbis, /quant, /bioCancer
Cannot process chunk/lines:
switchButton
Cannot process chunk/lines:
data.row.names(row.names, rowsi, i) :
Cannot process chunk/lines:
some row.names duplicated: 11,12,13,14 --> row.names NOT used
Cannot process chunk/lines:
dplyr::mutate_each() is deprecated
Cannot process chunk/lines:
dply::summarise_each() is deprecated
Cannot process chunk/lines:
replace BiocStyle by prettydoc
Cannot process chunk/lines:
Warning in formals(fun) : argument is not a function
Cannot process chunk/lines:
Warning in body(fun) : argument is not a function
Cannot process chunk/lines:
Fix setting plot size
Cannot process chunk/lines:
Change the color rang of Circular layout plot as in standards
Cannot process chunk/lines:
update Correlation Methods
Cannot process chunk/lines:
replace .libPath() by path.package('bioCancer') in portal.R file
* checking R files for non-ASCII characters ... OK
* checking R files for syntax errors ... OK
* checking whether the package can be loaded ... OK
* checking whether the package can be loaded with stated dependencies ... OK
* checking whether the package can be unloaded cleanly ... OK
* checking whether the namespace can be loaded with stated dependencies ... OK
* checking whether the namespace can be unloaded cleanly ... OK
* checking dependencies in R code ... NOTE
Namespaces in Imports field not imported from:
‘AlgDesign’ ‘GO.db’ ‘R.methodsS3’ ‘import’ ‘methods’ ‘org.Bt.eg.db’
‘shinythemes’
All declared Imports should be used.
* checking S3 generic/method consistency ... OK
* checking replacement functions ... OK
* checking foreign function calls ... OK
* checking R code for possible problems ... NOTE
getGenesClassification: no visible global function definition for ‘new’
Undefined global functions or variables:
new
Consider adding
importFrom("methods", "new")
to your NAMESPACE file (and ensure that your DESCRIPTION Imports field
contains 'methods').
* checking Rd files ... OK
* checking Rd metadata ... OK
* checking Rd cross-references ... OK
* checking for missing documentation entries ... OK
* checking for code/documentation mismatches ... OK
* checking Rd \usage sections ... NOTE
S3 methods shown with full name in documentation object 'getCancerStudies.CGDS':
‘getCancerStudies.CGDS’
S3 methods shown with full name in documentation object 'getCaseLists.CGDS':
‘getCaseLists.CGDS’
S3 methods shown with full name in documentation object 'getClinicalData.CGDS':
‘getClinicalData.CGDS’
S3 methods shown with full name in documentation object 'getGeneticProfiles.CGDS':
‘getGeneticProfiles.CGDS’
S3 methods shown with full name in documentation object 'getMutationData.CGDS':
‘getMutationData.CGDS’
S3 methods shown with full name in documentation object 'getProfileData.CGDS':
‘getProfileData.CGDS’
S3 methods shown with full name in documentation object 'processURL.CGDS':
‘processURL.CGDS’
S3 methods shown with full name in documentation object 'setVerbose.CGDS':
‘setVerbose.CGDS’
S3 methods shown with full name in documentation object 'test.CGDS':
‘test.CGDS’
The \usage entries for S3 methods should use the \method markup and not
their full name.
See chapter ‘Writing R documentation files’ in the ‘Writing R
Extensions’ manual.
* checking Rd contents ... OK
* checking for unstated dependencies in examples ... OK
* checking contents of ‘data’ directory ... OK
* checking data for non-ASCII characters ... OK
* checking LazyData ... OK
* checking data for ASCII and uncompressed saves ... OK
* checking files in ‘vignettes’ ... OK
* checking examples ... OK
* checking for unstated dependencies in ‘tests’ ... OK
* checking tests ...
Running ‘testthat.R’
OK
* checking for unstated dependencies in vignettes ... OK
* checking package vignettes in ‘inst/doc’ ... OK
* checking running R code from vignettes ... SKIPPED
* checking re-building of vignette outputs ... SKIPPED
* checking PDF version of manual ... OK
* DONE
Status: 5 NOTEs
See
‘/Users/biocbuild/bbs-3.17-bioc-mac-arm64/meat/bioCancer.Rcheck/00check.log’
for details.
bioCancer.Rcheck/00install.out
############################################################################## ############################################################################## ### ### Running command: ### ### /Library/Frameworks/R.framework/Resources/bin/R CMD INSTALL bioCancer ### ############################################################################## ############################################################################## * installing to library ‘/Library/Frameworks/R.framework/Versions/4.3-arm64/Resources/library’ * installing *source* package ‘bioCancer’ ... ** using staged installation ** R ** data *** moving datasets to lazyload DB ** inst ** byte-compile and prepare package for lazy loading ** help *** installing help indices ** building package indices ** installing vignettes ** testing if installed package can be loaded from temporary location ** testing if installed package can be loaded from final location ** testing if installed package keeps a record of temporary installation path * DONE (bioCancer)
bioCancer.Rcheck/tests/testthat.Rout
R version 4.3.1 (2023-06-16) -- "Beagle Scouts"
Copyright (C) 2023 The R Foundation for Statistical Computing
Platform: aarch64-apple-darwin20 (64-bit)
R is free software and comes with ABSOLUTELY NO WARRANTY.
You are welcome to redistribute it under certain conditions.
Type 'license()' or 'licence()' for distribution details.
R is a collaborative project with many contributors.
Type 'contributors()' for more information and
'citation()' on how to cite R or R packages in publications.
Type 'demo()' for some demos, 'help()' for on-line help, or
'help.start()' for an HTML browser interface to help.
Type 'q()' to quit R.
> library(testthat)
> library(bioCancer)
Loading required package: radiant.data
Loading required package: magrittr
Attaching package: 'magrittr'
The following objects are masked from 'package:testthat':
equals, is_less_than, not
Loading required package: ggplot2
Loading required package: lubridate
Attaching package: 'lubridate'
The following objects are masked from 'package:base':
date, intersect, setdiff, union
Loading required package: tidyr
Attaching package: 'tidyr'
The following object is masked from 'package:magrittr':
extract
The following object is masked from 'package:testthat':
matches
Loading required package: dplyr
Attaching package: 'dplyr'
The following object is masked from 'package:testthat':
matches
The following objects are masked from 'package:stats':
filter, lag
The following objects are masked from 'package:base':
intersect, setdiff, setequal, union
Attaching package: 'radiant.data'
The following objects are masked from 'package:lubridate':
month, wday
The following object is masked from 'package:ggplot2':
diamonds
The following object is masked from 'package:magrittr':
set_attr
The following object is masked from 'package:testthat':
describe
The following object is masked from 'package:base':
date
Loading required package: XML
>
> test_check("bioCancer")
getCancerStudies... OK
getCaseLists (1/2) ... OK
getCaseLists (2/2) ... OK
getGeneticProfiles (1/2) ... OK
getGeneticProfiles (2/2) ... OK
getClinicalData (1/1) ... OK
getProfileData (1/6) ... OK
getProfileData (2/6) ... OK
getProfileData (3/6) ... OK
getProfileData (4/6) ... OK
getProfileData (5/6) ... OK
getProfileData (6/6) ... OK
ReactomeFI connection... OK
[ FAIL 0 | WARN 0 | SKIP 2 | PASS 0 ]
══ Skipped tests (2) ═══════════════════════════════════════════════════════════
• empty test (2): 'test_funs.R:8:1', 'test_funs.R:14:1'
[ FAIL 0 | WARN 0 | SKIP 2 | PASS 0 ]
>
> proc.time()
user system elapsed
11.099 0.766 18.729
bioCancer.Rcheck/bioCancer-Ex.timings
| name | user | system | elapsed | |
| AnnotationFuncs-package | 0.464 | 0.029 | 0.700 | |
| Edges_Diseases_obj | 0.003 | 0.000 | 0.004 | |
| Mutation_obj | 0 | 0 | 0 | |
| Node_Diseases_obj | 0.002 | 0.000 | 0.002 | |
| Node_df_FreqIn | 0.000 | 0.000 | 0.001 | |
| Node_obj_CNA_ProfData | 0.000 | 0.001 | 0.000 | |
| Node_obj_FreqIn | 0.001 | 0.000 | 0.001 | |
| Node_obj_Met_ProfData | 0 | 0 | 0 | |
| Node_obj_mRNA_Classifier | 0.000 | 0.001 | 0.001 | |
| Studies_obj | 0.006 | 0.000 | 0.009 | |
| UnifyRowNames | 0 | 0 | 0 | |
| attriColorGene | 0 | 0 | 0 | |
| attriColorValue | 0 | 0 | 0 | |
| attriColorVector | 0 | 0 | 0 | |
| attriShape2Gene | 0.000 | 0.001 | 0.000 | |
| attriShape2Node | 0.001 | 0.000 | 0.000 | |
| bioCancer | 0 | 0 | 0 | |
| checkDimensions | 0 | 0 | 0 | |
| coffeewheel | 0 | 0 | 0 | |
| coffeewheelOutput | 0 | 0 | 0 | |
| displayTable | 0 | 0 | 0 | |
| findPhantom | 0.000 | 0.001 | 0.000 | |
| getCancerStudies.CGDS | 0.051 | 0.015 | 0.219 | |
| getCaseLists.CGDS | 0.023 | 0.002 | 0.101 | |
| getClinicalData.CGDS | 0.022 | 0.002 | 0.106 | |
| getEvidenceCodes | 0.000 | 0.001 | 0.001 | |
| getFreqMutData | 0 | 0 | 0 | |
| getGenesClassification | 0.000 | 0.000 | 0.001 | |
| getGeneticProfiles.CGDS | 0.040 | 0.004 | 0.222 | |
| getListProfData | 0 | 0 | 0 | |
| getList_Cases | 0 | 0 | 0 | |
| getList_GenProfs | 0.000 | 0.000 | 0.003 | |
| getMegaProfData | 0 | 0 | 0 | |
| getMutationData.CGDS | 0.011 | 0.001 | 0.114 | |
| getOrthologs | 0 | 0 | 0 | |
| getProfileData.CGDS | 0.048 | 0.005 | 0.223 | |
| getSequensed_SampleSize | 0.000 | 0.001 | 0.000 | |
| grepRef | 0 | 0 | 0 | |
| mapLists | 0.001 | 0.000 | 0.001 | |
| metabologram | 0 | 0 | 0 | |
| metabologramOutput | 0 | 0 | 0 | |
| pickGO | 0.208 | 0.017 | 0.347 | |
| pickRefSeq | 0.247 | 0.015 | 0.393 | |
| reStrColorGene | 0 | 0 | 0 | |
| reStrDimension | 0.001 | 0.000 | 0.000 | |
| reStrDisease | 0.000 | 0.001 | 0.001 | |
| removeNAs | 0.000 | 0.000 | 0.002 | |
| renderCoffeewheel | 0.001 | 0.000 | 0.000 | |
| renderMetabologram | 0 | 0 | 0 | |
| returnTextAreaInput | 0.000 | 0.000 | 0.004 | |
| setVerbose.CGDS | 0.001 | 0.000 | 0.001 | |
| translate | 0.277 | 0.013 | 0.435 | |
| whichGeneList | 0 | 0 | 0 | |
| widgetThumbnail | 0.000 | 0.001 | 0.001 | |