| Back to Mac ARM64 build report for BioC 3.17 |
|
This page was generated on 2023-10-20 09:37:58 -0400 (Fri, 20 Oct 2023).
| Hostname | OS | Arch (*) | R version | Installed pkgs |
|---|---|---|---|---|
| kjohnson2 | macOS 12.6.1 Monterey | arm64 | 4.3.1 (2023-06-16) -- "Beagle Scouts" | 4347 |
| Click on any hostname to see more info about the system (e.g. compilers) (*) as reported by 'uname -p', except on Windows and Mac OS X | ||||
| Package 76/2230 | Hostname | OS / Arch | INSTALL | BUILD | CHECK | BUILD BIN | ||||||||
| anota2seq 1.22.0 (landing page) Christian Oertlin
| kjohnson2 | macOS 12.6.1 Monterey / arm64 | OK | OK | OK | OK | ||||||||
|
To the developers/maintainers of the anota2seq package: - Use the following Renviron settings to reproduce errors and warnings. - If 'R CMD check' started to fail recently on the Linux builder(s) over a missing dependency, add the missing dependency to 'Suggests:' in your DESCRIPTION file. See Renviron.bioc for more information. |
| Package: anota2seq |
| Version: 1.22.0 |
| Command: /Library/Frameworks/R.framework/Resources/bin/R CMD check --install=check:anota2seq.install-out.txt --library=/Library/Frameworks/R.framework/Resources/library --no-vignettes --timings anota2seq_1.22.0.tar.gz |
| StartedAt: 2023-10-17 02:34:43 -0400 (Tue, 17 Oct 2023) |
| EndedAt: 2023-10-17 02:41:43 -0400 (Tue, 17 Oct 2023) |
| EllapsedTime: 419.2 seconds |
| RetCode: 0 |
| Status: OK |
| CheckDir: anota2seq.Rcheck |
| Warnings: 0 |
##############################################################################
##############################################################################
###
### Running command:
###
### /Library/Frameworks/R.framework/Resources/bin/R CMD check --install=check:anota2seq.install-out.txt --library=/Library/Frameworks/R.framework/Resources/library --no-vignettes --timings anota2seq_1.22.0.tar.gz
###
##############################################################################
##############################################################################
* using log directory ‘/Users/biocbuild/bbs-3.17-bioc-mac-arm64/meat/anota2seq.Rcheck’
* using R version 4.3.1 (2023-06-16)
* using platform: aarch64-apple-darwin20 (64-bit)
* R was compiled by
Apple clang version 14.0.0 (clang-1400.0.29.202)
GNU Fortran (GCC) 12.2.0
* running under: macOS Monterey 12.6.7
* using session charset: UTF-8
* using option ‘--no-vignettes’
* checking for file ‘anota2seq/DESCRIPTION’ ... OK
* this is package ‘anota2seq’ version ‘1.22.0’
* checking package namespace information ... OK
* checking package dependencies ... OK
* checking if this is a source package ... OK
* checking if there is a namespace ... OK
* checking for hidden files and directories ... OK
* checking for portable file names ... OK
* checking for sufficient/correct file permissions ... OK
* checking whether package ‘anota2seq’ can be installed ... OK
* checking installed package size ... OK
* checking package directory ... OK
* checking ‘build’ directory ... OK
* checking DESCRIPTION meta-information ... OK
* checking top-level files ... OK
* checking for left-over files ... OK
* checking index information ... OK
* checking package subdirectories ... OK
* checking R files for non-ASCII characters ... OK
* checking R files for syntax errors ... OK
* checking whether the package can be loaded ... OK
* checking whether the package can be loaded with stated dependencies ... OK
* checking whether the package can be unloaded cleanly ... OK
* checking whether the namespace can be loaded with stated dependencies ... OK
* checking whether the namespace can be unloaded cleanly ... OK
* checking dependencies in R code ... OK
* checking S3 generic/method consistency ... OK
* checking replacement functions ... OK
* checking foreign function calls ... OK
* checking R code for possible problems ... OK
* checking Rd files ... OK
* checking Rd metadata ... OK
* checking Rd cross-references ... OK
* checking for missing documentation entries ... OK
* checking for code/documentation mismatches ... OK
* checking Rd \usage sections ... OK
* checking Rd contents ... OK
* checking for unstated dependencies in examples ... OK
* checking contents of ‘data’ directory ... OK
* checking data for non-ASCII characters ... OK
* checking LazyData ... OK
* checking data for ASCII and uncompressed saves ... OK
* checking sizes of PDF files under ‘inst/doc’ ... OK
* checking files in ‘vignettes’ ... OK
* checking examples ... OK
Examples with CPU (user + system) or elapsed time > 5s
user system elapsed
anota2seqGetResidOutlierTest 45.567 0.470 59.224
anota2seqGetQualityControl 45.347 0.511 65.517
* checking for unstated dependencies in vignettes ... OK
* checking package vignettes in ‘inst/doc’ ... OK
* checking running R code from vignettes ... SKIPPED
* checking re-building of vignette outputs ... SKIPPED
* checking PDF version of manual ... OK
* DONE
Status: OK
anota2seq.Rcheck/00install.out
############################################################################## ############################################################################## ### ### Running command: ### ### /Library/Frameworks/R.framework/Resources/bin/R CMD INSTALL anota2seq ### ############################################################################## ############################################################################## * installing to library ‘/Library/Frameworks/R.framework/Versions/4.3-arm64/Resources/library’ * installing *source* package ‘anota2seq’ ... ** using staged installation ** R ** data *** moving datasets to lazyload DB ** inst ** byte-compile and prepare package for lazy loading ** help *** installing help indices ** building package indices ** installing vignettes ** testing if installed package can be loaded from temporary location ** testing if installed package can be loaded from final location ** testing if installed package keeps a record of temporary installation path * DONE (anota2seq)
anota2seq.Rcheck/anota2seq-Ex.timings
| name | user | system | elapsed | |
| anota2seq-plots | 0.000 | 0.000 | 0.001 | |
| anota2seqAnalyze | 1.708 | 0.070 | 2.678 | |
| anota2seqDataSetFromMatrix | 0.068 | 0.002 | 0.109 | |
| anota2seqGetContrasts | 0.691 | 0.054 | 1.124 | |
| anota2seqGetCovariates | 0.670 | 0.018 | 1.021 | |
| anota2seqGetDeltaData | 0.637 | 0.025 | 0.993 | |
| anota2seqGetNormalizedData | 0.035 | 0.002 | 0.057 | |
| anota2seqGetOutput | 0.586 | 0.008 | 0.876 | |
| anota2seqGetQualityControl | 45.347 | 0.511 | 65.517 | |
| anota2seqGetResidOutlierTest | 45.567 | 0.470 | 59.224 | |
| anota2seqGetThresholds | 0.641 | 0.018 | 0.969 | |
| anota2seqPerformQC | 0 | 0 | 0 | |
| anota2seqRegModes | 1.750 | 0.053 | 2.746 | |
| anota2seqResidOutlierTest | 0.000 | 0.001 | 0.000 | |
| anota2seqRun | 1.704 | 0.025 | 2.617 | |
| anota2seqSelSigGenes | 0.624 | 0.017 | 0.966 | |
| anota2seq_data | 0.015 | 0.003 | 0.025 | |
| show-Anota2seqDataSet-method | 0.122 | 0.003 | 0.185 | |