| Back to Mac ARM64 build report for BioC 3.17 |
|
This page was generated on 2023-10-20 09:37:57 -0400 (Fri, 20 Oct 2023).
| Hostname | OS | Arch (*) | R version | Installed pkgs |
|---|---|---|---|---|
| kjohnson2 | macOS 12.6.1 Monterey | arm64 | 4.3.1 (2023-06-16) -- "Beagle Scouts" | 4347 |
| Click on any hostname to see more info about the system (e.g. compilers) (*) as reported by 'uname -p', except on Windows and Mac OS X | ||||
| Package 24/2230 | Hostname | OS / Arch | INSTALL | BUILD | CHECK | BUILD BIN | ||||||||
| affyContam 1.58.0 (landing page) V. Carey
| kjohnson2 | macOS 12.6.1 Monterey / arm64 | OK | OK | OK | OK | ||||||||
|
To the developers/maintainers of the affyContam package: - Use the following Renviron settings to reproduce errors and warnings. - If 'R CMD check' started to fail recently on the Linux builder(s) over a missing dependency, add the missing dependency to 'Suggests:' in your DESCRIPTION file. See Renviron.bioc for more information. |
| Package: affyContam |
| Version: 1.58.0 |
| Command: rm -rf affyContam.buildbin-libdir && mkdir affyContam.buildbin-libdir && /Users/biocbuild/BBS/utils/build-universal.sh affyContam_1.58.0.tar.gz /Library/Frameworks/R.framework/Resources/bin/R affyContam.buildbin-libdir |
| StartedAt: 2023-10-19 11:04:57 -0400 (Thu, 19 Oct 2023) |
| EndedAt: 2023-10-19 11:05:07 -0400 (Thu, 19 Oct 2023) |
| EllapsedTime: 10.1 seconds |
| RetCode: 0 |
| Status: OK |
| PackageFile: affyContam_1.58.0.tgz |
| PackageFileSize: 303.4 KiB |
##############################################################################
##############################################################################
###
### Running command:
###
### rm -rf affyContam.buildbin-libdir && mkdir affyContam.buildbin-libdir && /Users/biocbuild/BBS/utils/build-universal.sh affyContam_1.58.0.tar.gz /Library/Frameworks/R.framework/Resources/bin/R affyContam.buildbin-libdir
###
##############################################################################
##############################################################################
>>>>>>>
>>>>>>> INSTALLATION WITH 'R CMD INSTALL --preclean --no-multiarch --library=affyContam.buildbin-libdir affyContam_1.58.0.tar.gz'
>>>>>>>
* installing *source* package ‘affyContam’ ...
** using staged installation
** R
** inst
** byte-compile and prepare package for lazy loading
Package
[1,] "affydata"
LibPath
[1,] "/Library/Frameworks/R.framework/Versions/4.3-arm64/Resources/library"
Item Title
[1,] "Dilution" "AffyBatch instance Dilution"
** help
*** installing help indices
** building package indices
** installing vignettes
** testing if installed package can be loaded from temporary location
Package
[1,] "affydata"
LibPath
[1,] "/Library/Frameworks/R.framework/Versions/4.3-arm64/Resources/library"
Item Title
[1,] "Dilution" "AffyBatch instance Dilution"
** testing if installed package can be loaded from final location
Package
[1,] "affydata"
LibPath
[1,] "/Library/Frameworks/R.framework/Versions/4.3-arm64/Resources/library"
Item Title
[1,] "Dilution" "AffyBatch instance Dilution"
** testing if installed package keeps a record of temporary installation path
* DONE (affyContam)