| Back to Mac ARM64 build report for BioC 3.17 |
|
This page was generated on 2023-10-20 09:38:14 -0400 (Fri, 20 Oct 2023).
| Hostname | OS | Arch (*) | R version | Installed pkgs |
|---|---|---|---|---|
| kjohnson2 | macOS 12.6.1 Monterey | arm64 | 4.3.1 (2023-06-16) -- "Beagle Scouts" | 4347 |
| Click on any hostname to see more info about the system (e.g. compilers) (*) as reported by 'uname -p', except on Windows and Mac OS X | ||||
| Package 2197/2230 | Hostname | OS / Arch | INSTALL | BUILD | CHECK | BUILD BIN | ||||||||
| Voyager 1.2.7 (landing page) Lambda Moses
| kjohnson2 | macOS 12.6.1 Monterey / arm64 | OK | OK | OK | OK | ||||||||
|
To the developers/maintainers of the Voyager package: - Use the following Renviron settings to reproduce errors and warnings. - If 'R CMD check' started to fail recently on the Linux builder(s) over a missing dependency, add the missing dependency to 'Suggests:' in your DESCRIPTION file. See Renviron.bioc for more information. |
| Package: Voyager |
| Version: 1.2.7 |
| Command: /Library/Frameworks/R.framework/Resources/bin/R CMD check --install=check:Voyager.install-out.txt --library=/Library/Frameworks/R.framework/Resources/library --no-vignettes --timings Voyager_1.2.7.tar.gz |
| StartedAt: 2023-10-19 09:48:23 -0400 (Thu, 19 Oct 2023) |
| EndedAt: 2023-10-19 10:14:13 -0400 (Thu, 19 Oct 2023) |
| EllapsedTime: 1549.5 seconds |
| RetCode: 0 |
| Status: OK |
| CheckDir: Voyager.Rcheck |
| Warnings: 0 |
##############################################################################
##############################################################################
###
### Running command:
###
### /Library/Frameworks/R.framework/Resources/bin/R CMD check --install=check:Voyager.install-out.txt --library=/Library/Frameworks/R.framework/Resources/library --no-vignettes --timings Voyager_1.2.7.tar.gz
###
##############################################################################
##############################################################################
* using log directory ‘/Users/biocbuild/bbs-3.17-bioc-mac-arm64/meat/Voyager.Rcheck’
* using R version 4.3.1 (2023-06-16)
* using platform: aarch64-apple-darwin20 (64-bit)
* R was compiled by
Apple clang version 14.0.0 (clang-1400.0.29.202)
GNU Fortran (GCC) 12.2.0
* running under: macOS Monterey 12.6.7
* using session charset: UTF-8
* using option ‘--no-vignettes’
* checking for file ‘Voyager/DESCRIPTION’ ... OK
* checking extension type ... Package
* this is package ‘Voyager’ version ‘1.2.7’
* package encoding: UTF-8
* checking package namespace information ... OK
* checking package dependencies ... OK
* checking if this is a source package ... OK
* checking if there is a namespace ... OK
* checking for hidden files and directories ... OK
* checking for portable file names ... OK
* checking for sufficient/correct file permissions ... OK
* checking whether package ‘Voyager’ can be installed ... OK
* checking installed package size ... OK
* checking package directory ... OK
* checking ‘build’ directory ... OK
* checking DESCRIPTION meta-information ... OK
* checking top-level files ... OK
* checking for left-over files ... OK
* checking index information ... OK
* checking package subdirectories ... OK
* checking R files for non-ASCII characters ... OK
* checking R files for syntax errors ... OK
* checking whether the package can be loaded ... OK
* checking whether the package can be loaded with stated dependencies ... OK
* checking whether the package can be unloaded cleanly ... OK
* checking whether the namespace can be loaded with stated dependencies ... OK
* checking whether the namespace can be unloaded cleanly ... OK
* checking dependencies in R code ... OK
* checking S3 generic/method consistency ... OK
* checking replacement functions ... OK
* checking foreign function calls ... OK
* checking R code for possible problems ... OK
* checking Rd files ... OK
* checking Rd metadata ... OK
* checking Rd cross-references ... OK
* checking for missing documentation entries ... OK
* checking for code/documentation mismatches ... OK
* checking Rd \usage sections ... OK
* checking Rd contents ... OK
* checking for unstated dependencies in examples ... OK
* checking contents of ‘data’ directory ... OK
* checking data for non-ASCII characters ... OK
* checking data for ASCII and uncompressed saves ... OK
* checking R/sysdata.rda ... OK
* checking files in ‘vignettes’ ... OK
* checking examples ... OK
Examples with CPU (user + system) or elapsed time > 5s
user system elapsed
calculateMultivariate 42.030 0.802 75.836
calculateBivariate 14.787 0.470 26.686
clusterVariograms 13.777 0.446 26.139
plotGeometry 11.096 0.432 21.537
ElbowPlot 8.559 2.188 26.232
plotVariogram 9.121 0.232 16.851
moranPlot 8.775 0.305 16.781
plotLocalResult 7.177 0.246 12.691
plotCrossVariogram 7.133 0.276 13.903
plotCrossVariogramMap 7.057 0.347 14.014
plotCellBin2D 6.570 0.327 12.970
plotCorrelogram 6.511 0.231 12.838
getParams 6.387 0.211 12.208
plotVariogramMap 6.337 0.217 12.004
plotColDataHistogram 6.244 0.275 12.225
plotSpatialFeature 6.204 0.219 11.878
calculateUnivariate 5.524 0.234 9.698
plotColDataBin2D 5.512 0.244 10.888
plotColDataFreqpoly 5.432 0.244 11.064
plotColGraph 5.388 0.220 10.850
spatialReducedDim 4.900 0.214 9.651
plotDimLoadings 4.841 0.222 9.679
moranBounds 4.817 0.180 9.557
multispati_rsp 4.632 0.201 9.441
plotMoranMC 4.482 0.187 8.635
clusterMoranPlot 4.469 0.193 8.983
colFeatureData 4.128 0.199 8.467
listw2sparse 4.008 0.166 8.126
clusterCorrelograms 3.680 0.183 7.040
* checking for unstated dependencies in ‘tests’ ... OK
* checking tests ...
Running ‘testthat.R’
OK
* checking for unstated dependencies in vignettes ... OK
* checking package vignettes in ‘inst/doc’ ... OK
* checking running R code from vignettes ... SKIPPED
* checking re-building of vignette outputs ... SKIPPED
* checking PDF version of manual ... OK
* DONE
Status: OK
Voyager.Rcheck/00install.out
############################################################################## ############################################################################## ### ### Running command: ### ### /Library/Frameworks/R.framework/Resources/bin/R CMD INSTALL Voyager ### ############################################################################## ############################################################################## * installing to library ‘/Library/Frameworks/R.framework/Versions/4.3-arm64/Resources/library’ * installing *source* package ‘Voyager’ ... ** using staged installation ** R ** data ** inst ** byte-compile and prepare package for lazy loading ** help *** installing help indices ** building package indices ** installing vignettes ** testing if installed package can be loaded from temporary location ** testing if installed package can be loaded from final location ** testing if installed package keeps a record of temporary installation path * DONE (Voyager)
Voyager.Rcheck/tests/testthat.Rout
R version 4.3.1 (2023-06-16) -- "Beagle Scouts"
Copyright (C) 2023 The R Foundation for Statistical Computing
Platform: aarch64-apple-darwin20 (64-bit)
R is free software and comes with ABSOLUTELY NO WARRANTY.
You are welcome to redistribute it under certain conditions.
Type 'license()' or 'licence()' for distribution details.
R is a collaborative project with many contributors.
Type 'contributors()' for more information and
'citation()' on how to cite R or R packages in publications.
Type 'demo()' for some demos, 'help()' for on-line help, or
'help.start()' for an HTML browser interface to help.
Type 'q()' to quit R.
> library(testthat)
> library(Voyager)
The legacy packages maptools, rgdal, and rgeos, underpinning the sp package,
which was just loaded, will retire in October 2023.
Please refer to R-spatial evolution reports for details, especially
https://r-spatial.org/r/2023/05/15/evolution4.html.
It may be desirable to make the sf package available;
package maintainers should consider adding sf to Suggests:.
The sp package is now running under evolution status 2
(status 2 uses the sf package in place of rgdal)
>
> test_check("Voyager")
Loading required package: spData
To access larger datasets in this package, install the spDataLarge
package with: `install.packages('spDataLarge',
repos='https://nowosad.github.io/drat/', type='source')`
Loading required package: sf
Linking to GEOS 3.11.0, GDAL 3.5.3, PROJ 9.1.0; sf_use_s2() is TRUE
Loading required package: SingleCellExperiment
Loading required package: SummarizedExperiment
Loading required package: MatrixGenerics
Loading required package: matrixStats
Attaching package: 'MatrixGenerics'
The following objects are masked from 'package:matrixStats':
colAlls, colAnyNAs, colAnys, colAvgsPerRowSet, colCollapse,
colCounts, colCummaxs, colCummins, colCumprods, colCumsums,
colDiffs, colIQRDiffs, colIQRs, colLogSumExps, colMadDiffs,
colMads, colMaxs, colMeans2, colMedians, colMins, colOrderStats,
colProds, colQuantiles, colRanges, colRanks, colSdDiffs, colSds,
colSums2, colTabulates, colVarDiffs, colVars, colWeightedMads,
colWeightedMeans, colWeightedMedians, colWeightedSds,
colWeightedVars, rowAlls, rowAnyNAs, rowAnys, rowAvgsPerColSet,
rowCollapse, rowCounts, rowCummaxs, rowCummins, rowCumprods,
rowCumsums, rowDiffs, rowIQRDiffs, rowIQRs, rowLogSumExps,
rowMadDiffs, rowMads, rowMaxs, rowMeans2, rowMedians, rowMins,
rowOrderStats, rowProds, rowQuantiles, rowRanges, rowRanks,
rowSdDiffs, rowSds, rowSums2, rowTabulates, rowVarDiffs, rowVars,
rowWeightedMads, rowWeightedMeans, rowWeightedMedians,
rowWeightedSds, rowWeightedVars
Loading required package: GenomicRanges
Loading required package: stats4
Loading required package: BiocGenerics
Attaching package: 'BiocGenerics'
The following objects are masked from 'package:stats':
IQR, mad, sd, var, xtabs
The following objects are masked from 'package:base':
Filter, Find, Map, Position, Reduce, anyDuplicated, aperm, append,
as.data.frame, basename, cbind, colnames, dirname, do.call,
duplicated, eval, evalq, get, grep, grepl, intersect, is.unsorted,
lapply, mapply, match, mget, order, paste, pmax, pmax.int, pmin,
pmin.int, rank, rbind, rownames, sapply, setdiff, sort, table,
tapply, union, unique, unsplit, which.max, which.min
Loading required package: S4Vectors
Attaching package: 'S4Vectors'
The following object is masked from 'package:utils':
findMatches
The following objects are masked from 'package:base':
I, expand.grid, unname
Loading required package: IRanges
Loading required package: GenomeInfoDb
Loading required package: Biobase
Welcome to Bioconductor
Vignettes contain introductory material; view with
'browseVignettes()'. To cite Bioconductor, see
'citation("Biobase")', and for packages 'citation("pkgname")'.
Attaching package: 'Biobase'
The following object is masked from 'package:MatrixGenerics':
rowMedians
The following objects are masked from 'package:matrixStats':
anyMissing, rowMedians
Loading required package: scuttle
Loading required package: ggplot2
Attaching package: 'SpatialFeatureExperiment'
The following object is masked from 'package:ggplot2':
unit
see ?SFEData and browseVignettes('SFEData') for documentation
loading from cache
see ?SFEData and browseVignettes('SFEData') for documentation
loading from cache
see ?SFEData and browseVignettes('SFEData') for documentation
loading from cache
Attaching package: 'Matrix'
The following object is masked from 'package:S4Vectors':
expand
see ?SFEData and browseVignettes('SFEData') for documentation
loading from cache
see ?SFEData and browseVignettes('SFEData') for documentation
loading from cache
gstat does not fit anisotropic variograms. Variogram model is fitted to the whole dataset.
Only one cluster is present. Not using color_by.
see ?SFEData and browseVignettes('SFEData') for documentation
loading from cache
see ?SFEData and browseVignettes('SFEData') for documentation
loading from cache
see ?SFEData and browseVignettes('SFEData') for documentation
loading from cache
see ?SFEData and browseVignettes('SFEData') for documentation
loading from cache
see ?SFEData and browseVignettes('SFEData') for documentation
loading from cache
see ?SFEData and browseVignettes('SFEData') for documentation
loading from cache
Coordinate system already present. Adding new coordinate system, which will replace the existing one.
see ?SFEData and browseVignettes('SFEData') for documentation
loading from cache
see ?SFEData and browseVignettes('SFEData') for documentation
loading from cache
beginning bbox testssee ?SFEData and browseVignettes('SFEData') for documentation
loading from cache
Please use linewidth instead of size for thickness of polygon outlines.
trying URL 'https://cf.10xgenomics.com/samples/spatial-exp/2.0.0/Visium_Mouse_Olfactory_Bulb/Visium_Mouse_Olfactory_Bulb_filtered_feature_bc_matrix.h5'
Content type 'binary/octet-stream' length 7521734 bytes (7.2 MB)
==================================================
downloaded 7.2 MB
trying URL 'https://cf.10xgenomics.com/samples/spatial-exp/2.0.0/Visium_Mouse_Olfactory_Bulb/Visium_Mouse_Olfactory_Bulb_spatial.tar.gz'
Content type 'application/x-tar' length 7806681 bytes (7.4 MB)
==================================================
downloaded 7.4 MB
see ?SFEData and browseVignettes('SFEData') for documentation
loading from cache
see ?SFEData and browseVignettes('SFEData') for documentation
loading from cache
see ?SFEData and browseVignettes('SFEData') for documentation
loading from cache
[ FAIL 0 | WARN 0 | SKIP 17 | PASS 578 ]
══ Skipped tests (17) ══════════════════════════════════════════════════════════
• On CRAN (17): 'test-bivariate.R:129:5', 'test-bivariate.R:150:5',
'test-gstat.R:187:5', 'test-plot.R:334:5', 'test-plot.R:380:5',
'test-plot.R:417:5', 'test-plot.R:435:5', 'test-plot.R:449:5',
'test-plot.R:493:5', 'test-plot.R:577:5', 'test-plot.R:610:5',
'test-plot.R:632:5', 'test-plot.R:792:5', 'test-plot.R:827:5',
'test-plot.R:838:5', 'test-plot.R:879:5', 'test-plot.R:900:5'
[ FAIL 0 | WARN 0 | SKIP 17 | PASS 578 ]
Deleting unused snapshots:
• bivariate/plot-cross-variograms-no-np.svg
• bivariate/plot-cross-variograms-with-anisotropy.svg
• gstat/multiple-samples-multiple-features.svg
• gstat/multiple-samples-one-feature.svg
• gstat/plot-np.svg
• plot/both-positive-and-negative.svg
• plot/change-the-number-of-columns.svg
• plot/cluster-by-gene-instead.svg
• plot/coldata-freqpoly-multiple-variables.svg
• plot/coldata-histogram-multiple-variables.svg
• plot/correlograms-for-multispati-pcs-one-component.svg
• plot/elbowplot-more-pcs-than-available.svg
• plot/elbowplot-with-10-of-the-20-pcs.svg
• plot/facetting-by-sample.svg
• plot/illegal-symbol-freqpoly.svg
• plot/illegal-symbol.svg
• plot/moran-plot-don-t-plot-influential.svg
• plot/multiple-samples.svg
• plot/multiple-variables-color-by.svg
• plot/multiple-variables-facetting.svg
• plot/multiple-variables-fill-by.svg
• plot/not-facetting-multispati-elbow-negative-only.svg
• plot/one-variable-color-by.svg
• plot/one-variable-facetting.svg
• plot/one-variable-fill-by.svg
• plot/plotcorrelogram-categorical-color-by.svg
• plot/plotcorrelogram-coldata-i.svg
• plot/plotcorrelogram-continuous-color-by.svg
• plot/plotcorrelogram-one-gene-c.svg
• plot/plotcorrelogram-one-gene-corr.svg
• plot/plotcorrelogram-specify-gene-and-coldata-i.svg
• plot/plotdimloadings-not-balanced.svg
• plot/with-subset-freqpoly.svg
• plot/with-subset.svg
>
> proc.time()
user system elapsed
257.335 12.693 486.038
Voyager.Rcheck/Voyager-Ex.timings
| name | user | system | elapsed | |
| ElbowPlot | 8.559 | 2.188 | 26.232 | |
| SFEMethod | 0.002 | 0.001 | 0.002 | |
| calculateBivariate | 14.787 | 0.470 | 26.686 | |
| calculateMultivariate | 42.030 | 0.802 | 75.836 | |
| calculateUnivariate | 5.524 | 0.234 | 9.698 | |
| clusterCorrelograms | 3.680 | 0.183 | 7.040 | |
| clusterMoranPlot | 4.469 | 0.193 | 8.983 | |
| clusterVariograms | 13.777 | 0.446 | 26.139 | |
| colFeatureData | 4.128 | 0.199 | 8.467 | |
| getDivergeRange | 0.001 | 0.000 | 0.000 | |
| getParams | 6.387 | 0.211 | 12.208 | |
| listSFEMethods | 0.002 | 0.000 | 0.005 | |
| listw2sparse | 4.008 | 0.166 | 8.126 | |
| moranBounds | 4.817 | 0.180 | 9.557 | |
| moranPlot | 8.775 | 0.305 | 16.781 | |
| multi_listw2sparse | 0.000 | 0.000 | 0.004 | |
| multispati_rsp | 4.632 | 0.201 | 9.441 | |
| plotCellBin2D | 6.570 | 0.327 | 12.970 | |
| plotColDataBin2D | 5.512 | 0.244 | 10.888 | |
| plotColDataFreqpoly | 5.432 | 0.244 | 11.064 | |
| plotColDataHistogram | 6.244 | 0.275 | 12.225 | |
| plotColGraph | 5.388 | 0.220 | 10.850 | |
| plotCorrelogram | 6.511 | 0.231 | 12.838 | |
| plotCrossVariogram | 7.133 | 0.276 | 13.903 | |
| plotCrossVariogramMap | 7.057 | 0.347 | 14.014 | |
| plotDimLoadings | 4.841 | 0.222 | 9.679 | |
| plotGeometry | 11.096 | 0.432 | 21.537 | |
| plotLocalResult | 7.177 | 0.246 | 12.691 | |
| plotMoranMC | 4.482 | 0.187 | 8.635 | |
| plotSpatialFeature | 6.204 | 0.219 | 11.878 | |
| plotVariogram | 9.121 | 0.232 | 16.851 | |
| plotVariogramMap | 6.337 | 0.217 | 12.004 | |
| spatialReducedDim | 4.900 | 0.214 | 9.651 | |