| Back to Mac ARM64 build report for BioC 3.17 |
|
This page was generated on 2023-10-20 09:38:14 -0400 (Fri, 20 Oct 2023).
| Hostname | OS | Arch (*) | R version | Installed pkgs |
|---|---|---|---|---|
| kjohnson2 | macOS 12.6.1 Monterey | arm64 | 4.3.1 (2023-06-16) -- "Beagle Scouts" | 4347 |
| Click on any hostname to see more info about the system (e.g. compilers) (*) as reported by 'uname -p', except on Windows and Mac OS X | ||||
| Package 2131/2230 | Hostname | OS / Arch | INSTALL | BUILD | CHECK | BUILD BIN | ||||||||
| TransView 1.44.0 (landing page) Julius Muller
| kjohnson2 | macOS 12.6.1 Monterey / arm64 | OK | OK | WARNINGS | OK | ||||||||
|
To the developers/maintainers of the TransView package: - Use the following Renviron settings to reproduce errors and warnings. - If 'R CMD check' started to fail recently on the Linux builder(s) over a missing dependency, add the missing dependency to 'Suggests:' in your DESCRIPTION file. See Renviron.bioc for more information. |
| Package: TransView |
| Version: 1.44.0 |
| Command: /Library/Frameworks/R.framework/Resources/bin/R CMD INSTALL TransView |
| StartedAt: 2023-10-15 15:43:40 -0400 (Sun, 15 Oct 2023) |
| EndedAt: 2023-10-15 15:44:09 -0400 (Sun, 15 Oct 2023) |
| EllapsedTime: 28.5 seconds |
| RetCode: 0 |
| Status: OK |
##############################################################################
##############################################################################
###
### Running command:
###
### /Library/Frameworks/R.framework/Resources/bin/R CMD INSTALL TransView
###
##############################################################################
##############################################################################
* installing to library ‘/Library/Frameworks/R.framework/Versions/4.3-arm64/Resources/library’
* installing *source* package ‘TransView’ ...
** using staged installation
** libs
using C compiler: ‘Apple clang version 14.0.0 (clang-1400.0.29.202)’
using SDK: ‘MacOSX11.3.sdk’
clang -arch arm64 -I"/Library/Frameworks/R.framework/Resources/include" -DNDEBUG -D_FILE_OFFSET_BITS=64 -I'/Library/Frameworks/R.framework/Versions/4.3-arm64/Resources/library/Rhtslib/include' -I/opt/R/arm64/include -fPIC -falign-functions=64 -Wall -g -O2 -c R_init_TransView.c -o R_init_TransView.o
clang -arch arm64 -I"/Library/Frameworks/R.framework/Resources/include" -DNDEBUG -D_FILE_OFFSET_BITS=64 -I'/Library/Frameworks/R.framework/Versions/4.3-arm64/Resources/library/Rhtslib/include' -I/opt/R/arm64/include -fPIC -falign-functions=64 -Wall -g -O2 -c bam_plbuf.c -o bam_plbuf.o
clang -arch arm64 -I"/Library/Frameworks/R.framework/Resources/include" -DNDEBUG -D_FILE_OFFSET_BITS=64 -I'/Library/Frameworks/R.framework/Versions/4.3-arm64/Resources/library/Rhtslib/include' -I/opt/R/arm64/include -fPIC -falign-functions=64 -Wall -g -O2 -c bin_density.c -o bin_density.o
clang -arch arm64 -I"/Library/Frameworks/R.framework/Resources/include" -DNDEBUG -D_FILE_OFFSET_BITS=64 -I'/Library/Frameworks/R.framework/Versions/4.3-arm64/Resources/library/Rhtslib/include' -I/opt/R/arm64/include -fPIC -falign-functions=64 -Wall -g -O2 -c construct_dc.c -o construct_dc.o
In file included from construct_dc.c:23:
In file included from ./parse_sam.h:4:
In file included from /Library/Frameworks/R.framework/Versions/4.3-arm64/Resources/library/Rhtslib/include/samtools-1.7-compat.h:5:
In file included from /Library/Frameworks/R.framework/Versions/4.3-arm64/Resources/library/Rhtslib/include/htslib/sam.h:33:
In file included from /Library/Frameworks/R.framework/Versions/4.3-arm64/Resources/library/Rhtslib/include/htslib/hts.h:36:
/Library/Frameworks/R.framework/Versions/4.3-arm64/Resources/library/Rhtslib/include/htslib/hts_log.h:75:1: warning: '__format__' attribute argument not supported: Rprintf [-Wignored-attributes]
HTS_FORMAT(HTS_PRINTF_FMT, 3, 4);
^
/Library/Frameworks/R.framework/Versions/4.3-arm64/Resources/library/Rhtslib/include/htslib/hts_defs.h:101:53: note: expanded from macro 'HTS_FORMAT'
#define HTS_FORMAT(type, idx, first) __attribute__((__format__ (type, idx, first)))
^
1 warning generated.
clang -arch arm64 -I"/Library/Frameworks/R.framework/Resources/include" -DNDEBUG -D_FILE_OFFSET_BITS=64 -I'/Library/Frameworks/R.framework/Versions/4.3-arm64/Resources/library/Rhtslib/include' -I/opt/R/arm64/include -fPIC -falign-functions=64 -Wall -g -O2 -c parse_sam.c -o parse_sam.o
clang -arch arm64 -I"/Library/Frameworks/R.framework/Resources/include" -DNDEBUG -D_FILE_OFFSET_BITS=64 -I'/Library/Frameworks/R.framework/Versions/4.3-arm64/Resources/library/Rhtslib/include' -I/opt/R/arm64/include -fPIC -falign-functions=64 -Wall -g -O2 -c slice_dc.c -o slice_dc.o
clang -arch arm64 -I"/Library/Frameworks/R.framework/Resources/include" -DNDEBUG -D_FILE_OFFSET_BITS=64 -I'/Library/Frameworks/R.framework/Versions/4.3-arm64/Resources/library/Rhtslib/include' -I/opt/R/arm64/include -fPIC -falign-functions=64 -Wall -g -O2 -c visuals.c -o visuals.o
clang -arch arm64 -dynamiclib -Wl,-headerpad_max_install_names -undefined dynamic_lookup -single_module -multiply_defined suppress -L/Library/Frameworks/R.framework/Resources/lib -L/opt/R/arm64/lib -o TransView.so R_init_TransView.o bam_plbuf.o bin_density.o construct_dc.o parse_sam.o slice_dc.o visuals.o /Library/Frameworks/R.framework/Versions/4.3-arm64/Resources/library/Rhtslib/usrlib/libhts.a -lcurl -F/Library/Frameworks/R.framework/.. -framework R -Wl,-framework -Wl,CoreFoundation
installing to /Library/Frameworks/R.framework/Versions/4.3-arm64/Resources/library/00LOCK-TransView/00new/TransView/libs
** R
** inst
** byte-compile and prepare package for lazy loading
** help
*** installing help indices
** building package indices
** installing vignettes
** testing if installed package can be loaded from temporary location
** checking absolute paths in shared objects and dynamic libraries
** testing if installed package can be loaded from final location
** testing if installed package keeps a record of temporary installation path
* DONE (TransView)