| Back to Mac ARM64 build report for BioC 3.17 |
|
This page was generated on 2023-10-20 09:38:14 -0400 (Fri, 20 Oct 2023).
| Hostname | OS | Arch (*) | R version | Installed pkgs |
|---|---|---|---|---|
| kjohnson2 | macOS 12.6.1 Monterey | arm64 | 4.3.1 (2023-06-16) -- "Beagle Scouts" | 4347 |
| Click on any hostname to see more info about the system (e.g. compilers) (*) as reported by 'uname -p', except on Windows and Mac OS X | ||||
| Package 2123/2230 | Hostname | OS / Arch | INSTALL | BUILD | CHECK | BUILD BIN | ||||||||
| TrajectoryGeometry 1.8.0 (landing page) Michael Shapiro
| kjohnson2 | macOS 12.6.1 Monterey / arm64 | OK | OK | OK | OK | ||||||||
|
To the developers/maintainers of the TrajectoryGeometry package: - Use the following Renviron settings to reproduce errors and warnings. - If 'R CMD check' started to fail recently on the Linux builder(s) over a missing dependency, add the missing dependency to 'Suggests:' in your DESCRIPTION file. See Renviron.bioc for more information. |
| Package: TrajectoryGeometry |
| Version: 1.8.0 |
| Command: /Library/Frameworks/R.framework/Resources/bin/R CMD check --install=check:TrajectoryGeometry.install-out.txt --library=/Library/Frameworks/R.framework/Resources/library --no-vignettes --timings TrajectoryGeometry_1.8.0.tar.gz |
| StartedAt: 2023-10-19 07:42:00 -0400 (Thu, 19 Oct 2023) |
| EndedAt: 2023-10-19 07:44:33 -0400 (Thu, 19 Oct 2023) |
| EllapsedTime: 152.6 seconds |
| RetCode: 0 |
| Status: OK |
| CheckDir: TrajectoryGeometry.Rcheck |
| Warnings: 0 |
##############################################################################
##############################################################################
###
### Running command:
###
### /Library/Frameworks/R.framework/Resources/bin/R CMD check --install=check:TrajectoryGeometry.install-out.txt --library=/Library/Frameworks/R.framework/Resources/library --no-vignettes --timings TrajectoryGeometry_1.8.0.tar.gz
###
##############################################################################
##############################################################################
* using log directory ‘/Users/biocbuild/bbs-3.17-bioc-mac-arm64/meat/TrajectoryGeometry.Rcheck’
* using R version 4.3.1 (2023-06-16)
* using platform: aarch64-apple-darwin20 (64-bit)
* R was compiled by
Apple clang version 14.0.0 (clang-1400.0.29.202)
GNU Fortran (GCC) 12.2.0
* running under: macOS Monterey 12.6.7
* using session charset: UTF-8
* using option ‘--no-vignettes’
* checking for file ‘TrajectoryGeometry/DESCRIPTION’ ... OK
* this is package ‘TrajectoryGeometry’ version ‘1.8.0’
* package encoding: UTF-8
* checking package namespace information ... OK
* checking package dependencies ... OK
* checking if this is a source package ... OK
* checking if there is a namespace ... OK
* checking for hidden files and directories ... OK
* checking for portable file names ... OK
* checking for sufficient/correct file permissions ... OK
* checking whether package ‘TrajectoryGeometry’ can be installed ... OK
* checking installed package size ... OK
* checking package directory ... OK
* checking ‘build’ directory ... OK
* checking DESCRIPTION meta-information ... OK
* checking top-level files ... OK
* checking for left-over files ... OK
* checking index information ... OK
* checking package subdirectories ... OK
* checking R files for non-ASCII characters ... OK
* checking R files for syntax errors ... OK
* checking whether the package can be loaded ... OK
* checking whether the package can be loaded with stated dependencies ... OK
* checking whether the package can be unloaded cleanly ... OK
* checking whether the namespace can be loaded with stated dependencies ... OK
* checking whether the namespace can be unloaded cleanly ... OK
* checking dependencies in R code ... OK
* checking S3 generic/method consistency ... OK
* checking replacement functions ... OK
* checking foreign function calls ... OK
* checking R code for possible problems ... NOTE
visualiseBranchPointStats: no visible binding for global variable
‘value’
visualiseBranchPointStats: no visible binding for global variable
‘logPValue’
visualiseTrajectoryStats: no visible binding for global variable ‘type’
visualiseTrajectoryStats: no visible binding for global variable
‘value’
Undefined global functions or variables:
logPValue type value
* checking Rd files ... OK
* checking Rd metadata ... OK
* checking Rd cross-references ... OK
* checking for missing documentation entries ... OK
* checking for code/documentation mismatches ... OK
* checking Rd \usage sections ... OK
* checking Rd contents ... OK
* checking for unstated dependencies in examples ... OK
* checking contents of ‘data’ directory ... OK
* checking data for non-ASCII characters ... OK
* checking LazyData ... OK
* checking data for ASCII and uncompressed saves ... OK
* checking files in ‘vignettes’ ... OK
* checking examples ... OK
Examples with CPU (user + system) or elapsed time > 5s
user system elapsed
testPathForDirectionality 14.780 0.122 26.568
analyseBranchPoint 14.038 0.121 25.198
visualiseTrajectoryStats 2.992 0.034 5.403
* checking for unstated dependencies in vignettes ... OK
* checking package vignettes in ‘inst/doc’ ... OK
* checking running R code from vignettes ... SKIPPED
* checking re-building of vignette outputs ... SKIPPED
* checking PDF version of manual ... OK
* DONE
Status: 1 NOTE
See
‘/Users/biocbuild/bbs-3.17-bioc-mac-arm64/meat/TrajectoryGeometry.Rcheck/00check.log’
for details.
TrajectoryGeometry.Rcheck/00install.out
############################################################################## ############################################################################## ### ### Running command: ### ### /Library/Frameworks/R.framework/Resources/bin/R CMD INSTALL TrajectoryGeometry ### ############################################################################## ############################################################################## * installing to library ‘/Library/Frameworks/R.framework/Versions/4.3-arm64/Resources/library’ * installing *source* package ‘TrajectoryGeometry’ ... ** using staged installation ** R ** data *** moving datasets to lazyload DB ** inst ** byte-compile and prepare package for lazy loading ** help *** installing help indices ** building package indices ** installing vignettes ** testing if installed package can be loaded from temporary location ** testing if installed package can be loaded from final location ** testing if installed package keeps a record of temporary installation path * DONE (TrajectoryGeometry)
TrajectoryGeometry.Rcheck/TrajectoryGeometry-Ex.timings
| name | user | system | elapsed | |
| analyseBranchPoint | 14.038 | 0.121 | 25.198 | |
| analyseSingleCellTrajectory | 2.708 | 0.023 | 4.875 | |
| circleOnTheUnitSphere | 0.002 | 0.000 | 0.002 | |
| distanceBetweenTrajectories | 1.407 | 0.017 | 2.529 | |
| findSphereClusterCenter | 0.078 | 0.001 | 0.142 | |
| findSphericalDistance | 0.001 | 0.000 | 0.001 | |
| generateRandomPaths | 0.001 | 0.000 | 0.005 | |
| generateRandomUnitVector | 0.000 | 0.001 | 0.000 | |
| getDistanceDataForPaths | 0.461 | 0.004 | 0.833 | |
| getSphericalData | 0.066 | 0.000 | 0.122 | |
| getStepLengths | 0.001 | 0.000 | 0.006 | |
| orthonormalBasis | 0.001 | 0.000 | 0.001 | |
| pathProgression | 0.002 | 0.001 | 0.005 | |
| pathToSphericalData | 0.072 | 0.001 | 0.127 | |
| plotPathProjectionCenterAndCircle | 0.025 | 0.002 | 0.054 | |
| projectPathToSphere | 0.001 | 0.000 | 0.001 | |
| samplePath | 0.002 | 0.001 | 0.007 | |
| testPathForDirectionality | 14.780 | 0.122 | 26.568 | |
| visualiseBranchPointStats | 1.138 | 0.011 | 2.069 | |
| visualiseTrajectoryStats | 2.992 | 0.034 | 5.403 | |