| Back to Mac ARM64 build report for BioC 3.17 |
|
This page was generated on 2023-10-20 09:38:12 -0400 (Fri, 20 Oct 2023).
| Hostname | OS | Arch (*) | R version | Installed pkgs |
|---|---|---|---|---|
| kjohnson2 | macOS 12.6.1 Monterey | arm64 | 4.3.1 (2023-06-16) -- "Beagle Scouts" | 4347 |
| Click on any hostname to see more info about the system (e.g. compilers) (*) as reported by 'uname -p', except on Windows and Mac OS X | ||||
| Package 1977/2230 | Hostname | OS / Arch | INSTALL | BUILD | CHECK | BUILD BIN | ||||||||
| SpatialOmicsOverlay 1.0.0 (landing page) Maddy Griswold
| kjohnson2 | macOS 12.6.1 Monterey / arm64 | OK | OK | OK | OK | ||||||||
|
To the developers/maintainers of the SpatialOmicsOverlay package: - Use the following Renviron settings to reproduce errors and warnings. - If 'R CMD check' started to fail recently on the Linux builder(s) over a missing dependency, add the missing dependency to 'Suggests:' in your DESCRIPTION file. See Renviron.bioc for more information. |
| Package: SpatialOmicsOverlay |
| Version: 1.0.0 |
| Command: /Library/Frameworks/R.framework/Resources/bin/R CMD check --install=check:SpatialOmicsOverlay.install-out.txt --library=/Library/Frameworks/R.framework/Resources/library --no-vignettes --timings SpatialOmicsOverlay_1.0.0.tar.gz |
| StartedAt: 2023-10-19 03:17:24 -0400 (Thu, 19 Oct 2023) |
| EndedAt: 2023-10-19 03:38:07 -0400 (Thu, 19 Oct 2023) |
| EllapsedTime: 1243.5 seconds |
| RetCode: 0 |
| Status: OK |
| CheckDir: SpatialOmicsOverlay.Rcheck |
| Warnings: 0 |
##############################################################################
##############################################################################
###
### Running command:
###
### /Library/Frameworks/R.framework/Resources/bin/R CMD check --install=check:SpatialOmicsOverlay.install-out.txt --library=/Library/Frameworks/R.framework/Resources/library --no-vignettes --timings SpatialOmicsOverlay_1.0.0.tar.gz
###
##############################################################################
##############################################################################
* using log directory ‘/Users/biocbuild/bbs-3.17-bioc-mac-arm64/meat/SpatialOmicsOverlay.Rcheck’
* using R version 4.3.1 (2023-06-16)
* using platform: aarch64-apple-darwin20 (64-bit)
* R was compiled by
Apple clang version 14.0.0 (clang-1400.0.29.202)
GNU Fortran (GCC) 12.2.0
* running under: macOS Monterey 12.6.7
* using session charset: UTF-8
* using option ‘--no-vignettes’
* checking for file ‘SpatialOmicsOverlay/DESCRIPTION’ ... OK
* this is package ‘SpatialOmicsOverlay’ version ‘1.0.0’
* package encoding: UTF-8
* checking package namespace information ... OK
* checking package dependencies ... OK
* checking if this is a source package ... OK
* checking if there is a namespace ... OK
* checking for hidden files and directories ... OK
* checking for portable file names ... OK
* checking for sufficient/correct file permissions ... OK
* checking whether package ‘SpatialOmicsOverlay’ can be installed ... OK
* checking installed package size ... OK
* checking package directory ... OK
* checking ‘build’ directory ... OK
* checking DESCRIPTION meta-information ... NOTE
License components which are templates and need '+ file LICENSE':
MIT
* checking top-level files ... NOTE
File
LICENSE
is not mentioned in the DESCRIPTION file.
* checking for left-over files ... OK
* checking index information ... OK
* checking package subdirectories ... OK
* checking R files for non-ASCII characters ... OK
* checking R files for syntax errors ... OK
* checking whether the package can be loaded ... OK
* checking whether the package can be loaded with stated dependencies ... OK
* checking whether the package can be unloaded cleanly ... OK
* checking whether the namespace can be loaded with stated dependencies ... OK
* checking whether the namespace can be unloaded cleanly ... OK
* checking dependencies in R code ... OK
* checking S3 generic/method consistency ... OK
* checking replacement functions ... OK
* checking foreign function calls ... OK
* checking R code for possible problems ... NOTE
plotSpatialOverlay: no visible binding for global variable ‘xcoor’
plotSpatialOverlay: no visible binding for global variable ‘ycoor’
plotSpatialOverlay: no visible binding for global variable ‘sampleID’
plotSpatialOverlay: no visible binding for global variable ‘Target’
scaleBarPrinting: no visible binding for global variable ‘X’
scaleBarPrinting: no visible binding for global variable ‘Y’
Undefined global functions or variables:
Target X Y sampleID xcoor ycoor
* checking Rd files ... OK
* checking Rd metadata ... OK
* checking Rd cross-references ... OK
* checking for missing documentation entries ... OK
* checking for code/documentation mismatches ... OK
* checking Rd \usage sections ... OK
* checking Rd contents ... OK
* checking for unstated dependencies in examples ... OK
* checking files in ‘vignettes’ ... OK
* checking examples ... OK
Examples with CPU (user + system) or elapsed time > 5s
user system elapsed
add4ChannelImage 19.798 1.306 39.961
readSpatialOverlay 16.301 0.790 35.152
cropSamples 15.721 1.279 33.937
addImageOmeTiff 15.304 1.345 33.201
changeColoringIntensity 15.313 1.303 33.420
flipX 14.621 1.697 34.877
flipY 13.866 1.339 30.721
changeImageColoring 14.249 0.873 30.910
cropTissue 13.882 1.231 31.387
recolor 13.572 1.128 30.536
createMask 7.356 0.450 15.981
parseOverlayAttrs 4.311 0.447 9.813
parseScanMetadata 4.306 0.252 9.240
xmlExtraction 3.979 0.285 8.646
checkValidRes 3.799 0.223 7.515
createCoordFile 2.951 0.052 6.098
* checking for unstated dependencies in ‘tests’ ... OK
* checking tests ...
Running ‘testthat.R’
OK
* checking for unstated dependencies in vignettes ... OK
* checking package vignettes in ‘inst/doc’ ... OK
* checking running R code from vignettes ... SKIPPED
* checking re-building of vignette outputs ... SKIPPED
* checking PDF version of manual ... OK
* DONE
Status: 3 NOTEs
See
‘/Users/biocbuild/bbs-3.17-bioc-mac-arm64/meat/SpatialOmicsOverlay.Rcheck/00check.log’
for details.
SpatialOmicsOverlay.Rcheck/00install.out
############################################################################## ############################################################################## ### ### Running command: ### ### /Library/Frameworks/R.framework/Resources/bin/R CMD INSTALL SpatialOmicsOverlay ### ############################################################################## ############################################################################## * installing to library ‘/Library/Frameworks/R.framework/Versions/4.3-arm64/Resources/library’ * installing *source* package ‘SpatialOmicsOverlay’ ... ** using staged installation ** R ** inst ** byte-compile and prepare package for lazy loading ** help *** installing help indices ** building package indices ** installing vignettes ** testing if installed package can be loaded from temporary location ** testing if installed package can be loaded from final location ** testing if installed package keeps a record of temporary installation path * DONE (SpatialOmicsOverlay)
SpatialOmicsOverlay.Rcheck/tests/testthat.Rout
R version 4.3.1 (2023-06-16) -- "Beagle Scouts"
Copyright (C) 2023 The R Foundation for Statistical Computing
Platform: aarch64-apple-darwin20 (64-bit)
R is free software and comes with ABSOLUTELY NO WARRANTY.
You are welcome to redistribute it under certain conditions.
Type 'license()' or 'licence()' for distribution details.
R is a collaborative project with many contributors.
Type 'contributors()' for more information and
'citation()' on how to cite R or R packages in publications.
Type 'demo()' for some demos, 'help()' for on-line help, or
'help.start()' for an HTML browser interface to help.
Type 'q()' to quit R.
> library(testthat)
> library(vdiffr)
>
> options( java.parameters = "-Xmx4g" )
> library( "RBioFormats" )
BioFormats library version 6.12.0
>
> library(SpatialOmicsOverlay)
The legacy packages maptools, rgdal, and rgeos, underpinning the sp package,
which was just loaded, will retire in October 2023.
Please refer to R-spatial evolution reports for details, especially
https://r-spatial.org/r/2023/05/15/evolution4.html.
It may be desirable to make the sf package available;
package maintainers should consider adding sf to Suggests:.
The sp package is now running under evolution status 2
(status 2 uses the sf package in place of rgdal)
>
> # #run tests
> test_check("SpatialOmicsOverlay")
Loading required package: Biobase
Loading required package: BiocGenerics
Attaching package: 'BiocGenerics'
The following objects are masked from 'package:stats':
IQR, mad, sd, var, xtabs
The following objects are masked from 'package:base':
Filter, Find, Map, Position, Reduce, anyDuplicated, aperm, append,
as.data.frame, basename, cbind, colnames, dirname, do.call,
duplicated, eval, evalq, get, grep, grepl, intersect, is.unsorted,
lapply, mapply, match, mget, order, paste, pmax, pmax.int, pmin,
pmin.int, rank, rbind, rownames, sapply, setdiff, sort, table,
tapply, union, unique, unsplit, which.max, which.min
Welcome to Bioconductor
Vignettes contain introductory material; view with
'browseVignettes()'. To cite Bioconductor, see
'citation("Biobase")', and for packages 'citation("pkgname")'.
Loading required package: NanoStringNCTools
Loading required package: S4Vectors
Loading required package: stats4
Attaching package: 'S4Vectors'
The following object is masked from 'package:utils':
findMatches
The following objects are masked from 'package:base':
I, expand.grid, unname
Loading required package: ggplot2
Extracting XML
Parsing XML - scan metadata
Parsing XML - overlay data
Generating Coordinates
Extracting XML
Parsing XML - scan metadata
Parsing XML - overlay data
Generating Coordinates
Calculating and scaling coordinates
Calculating and scaling coordinates
[ FAIL 0 | WARN 0 | SKIP 0 | PASS 422 ]
Deleting unused snapshots:
• all/4-channel-no-scalebar.svg
• all/add-ometiff-res-8.svg
• all/cropsamples-all-rois.svg
• all/cropsamples-sampsonly.svg
• all/croptissue.svg
• all/flipx.svg
• all/flipy.svg
• all/fluorlegend-2-row.svg
• all/image-scalebar.svg
• all/imagecoloring.svg
• all/lowres-fluorlegend.svg
• all/no-image-scalebar.svg
• all/recolor.svg
• all/scale-bar-check-1.svg
• all/scale-bar-check-2.svg
• all/scale-bar-check-3.svg
>
>
>
> proc.time()
user system elapsed
208.608 15.329 442.979
SpatialOmicsOverlay.Rcheck/SpatialOmicsOverlay-Ex.timings
| name | user | system | elapsed | |
| add4ChannelImage | 19.798 | 1.306 | 39.961 | |
| addImageOmeTiff | 15.304 | 1.345 | 33.201 | |
| addPlottingFactor | 0.571 | 0.024 | 1.152 | |
| bookendStr | 0.001 | 0.000 | 0.002 | |
| changeColoringIntensity | 15.313 | 1.303 | 33.420 | |
| changeImageColoring | 14.249 | 0.873 | 30.910 | |
| checkValidRes | 3.799 | 0.223 | 7.515 | |
| createCoordFile | 2.951 | 0.052 | 6.098 | |
| createMask | 7.356 | 0.450 | 15.981 | |
| cropSamples | 15.721 | 1.279 | 33.937 | |
| cropTissue | 13.882 | 1.231 | 31.387 | |
| downloadMouseBrainImage | 0.195 | 0.021 | 0.451 | |
| flipX | 14.621 | 1.697 | 34.877 | |
| flipY | 13.866 | 1.339 | 30.721 | |
| fluorLegend | 1.749 | 0.198 | 4.089 | |
| moveCoords | 0.209 | 0.006 | 0.436 | |
| parseOverlayAttrs | 4.311 | 0.447 | 9.813 | |
| parseScanMetadata | 4.306 | 0.252 | 9.240 | |
| plotSpatialOverlay | 1.856 | 0.220 | 4.037 | |
| readLabWorksheet | 0.005 | 0.002 | 0.015 | |
| readSpatialOverlay | 16.301 | 0.790 | 35.152 | |
| recolor | 13.572 | 1.128 | 30.536 | |
| removeSample | 0.266 | 0.015 | 0.557 | |
| xmlExtraction | 3.979 | 0.285 | 8.646 | |