| Back to Mac ARM64 build report for BioC 3.17 |
|
This page was generated on 2023-10-20 09:38:12 -0400 (Fri, 20 Oct 2023).
| Hostname | OS | Arch (*) | R version | Installed pkgs |
|---|---|---|---|---|
| kjohnson2 | macOS 12.6.1 Monterey | arm64 | 4.3.1 (2023-06-16) -- "Beagle Scouts" | 4347 |
| Click on any hostname to see more info about the system (e.g. compilers) (*) as reported by 'uname -p', except on Windows and Mac OS X | ||||
| Package 1986/2230 | Hostname | OS / Arch | INSTALL | BUILD | CHECK | BUILD BIN | ||||||||
| SPIAT 1.2.3 (landing page) Yuzhou Feng
| kjohnson2 | macOS 12.6.1 Monterey / arm64 | OK | OK | OK | OK | ||||||||
|
To the developers/maintainers of the SPIAT package: - Use the following Renviron settings to reproduce errors and warnings. - If 'R CMD check' started to fail recently on the Linux builder(s) over a missing dependency, add the missing dependency to 'Suggests:' in your DESCRIPTION file. See Renviron.bioc for more information. |
| Package: SPIAT |
| Version: 1.2.3 |
| Command: /Library/Frameworks/R.framework/Resources/bin/R CMD check --install=check:SPIAT.install-out.txt --library=/Library/Frameworks/R.framework/Resources/library --no-vignettes --timings SPIAT_1.2.3.tar.gz |
| StartedAt: 2023-10-19 03:39:31 -0400 (Thu, 19 Oct 2023) |
| EndedAt: 2023-10-19 03:53:31 -0400 (Thu, 19 Oct 2023) |
| EllapsedTime: 839.7 seconds |
| RetCode: 0 |
| Status: OK |
| CheckDir: SPIAT.Rcheck |
| Warnings: 0 |
##############################################################################
##############################################################################
###
### Running command:
###
### /Library/Frameworks/R.framework/Resources/bin/R CMD check --install=check:SPIAT.install-out.txt --library=/Library/Frameworks/R.framework/Resources/library --no-vignettes --timings SPIAT_1.2.3.tar.gz
###
##############################################################################
##############################################################################
* using log directory ‘/Users/biocbuild/bbs-3.17-bioc-mac-arm64/meat/SPIAT.Rcheck’
* using R version 4.3.1 (2023-06-16)
* using platform: aarch64-apple-darwin20 (64-bit)
* R was compiled by
Apple clang version 14.0.0 (clang-1400.0.29.202)
GNU Fortran (GCC) 12.2.0
* running under: macOS Monterey 12.6.7
* using session charset: UTF-8
* using option ‘--no-vignettes’
* checking for file ‘SPIAT/DESCRIPTION’ ... OK
* checking extension type ... Package
* this is package ‘SPIAT’ version ‘1.2.3’
* package encoding: UTF-8
* checking package namespace information ... OK
* checking package dependencies ... OK
* checking if this is a source package ... OK
* checking if there is a namespace ... OK
* checking for hidden files and directories ... OK
* checking for portable file names ... OK
* checking for sufficient/correct file permissions ... OK
* checking whether package ‘SPIAT’ can be installed ... OK
* checking installed package size ... OK
* checking package directory ... OK
* checking ‘build’ directory ... OK
* checking DESCRIPTION meta-information ... OK
* checking top-level files ... NOTE
File
LICENSE
is not mentioned in the DESCRIPTION file.
* checking for left-over files ... OK
* checking index information ... OK
* checking package subdirectories ... OK
* checking R files for non-ASCII characters ... OK
* checking R files for syntax errors ... OK
* checking whether the package can be loaded ... OK
* checking whether the package can be loaded with stated dependencies ... OK
* checking whether the package can be unloaded cleanly ... OK
* checking whether the namespace can be loaded with stated dependencies ... OK
* checking whether the namespace can be unloaded cleanly ... OK
* checking dependencies in R code ... OK
* checking S3 generic/method consistency ... OK
* checking replacement functions ... OK
* checking foreign function calls ... OK
* checking R code for possible problems ... OK
* checking Rd files ... OK
* checking Rd metadata ... OK
* checking Rd cross-references ... OK
* checking for missing documentation entries ... OK
* checking for code/documentation mismatches ... OK
* checking Rd \usage sections ... OK
* checking Rd contents ... OK
* checking for unstated dependencies in examples ... OK
* checking contents of ‘data’ directory ... OK
* checking data for non-ASCII characters ... OK
* checking LazyData ... OK
* checking data for ASCII and uncompressed saves ... OK
* checking files in ‘vignettes’ ... OK
* checking examples ... OK
Examples with CPU (user + system) or elapsed time > 5s
user system elapsed
dimensionality_reduction_plot 22.645 0.691 47.604
calculate_percentage_of_grids 11.044 0.222 23.924
calculate_spatial_autocorrelation 5.985 0.087 12.392
grid_metrics 5.473 0.150 11.213
calculate_pairwise_distances_between_celltypes 4.760 0.634 11.152
plot_composition_heatmap 3.665 0.172 7.257
plot_distance_heatmap 3.019 0.118 5.709
identify_neighborhoods 2.525 0.271 5.633
calculate_summary_distances_between_celltypes 2.547 0.208 5.642
* checking for unstated dependencies in ‘tests’ ... OK
* checking tests ...
Running ‘testthat.R’
OK
* checking for unstated dependencies in vignettes ... OK
* checking package vignettes in ‘inst/doc’ ... OK
* checking running R code from vignettes ... SKIPPED
* checking re-building of vignette outputs ... SKIPPED
* checking PDF version of manual ... OK
* DONE
Status: 1 NOTE
See
‘/Users/biocbuild/bbs-3.17-bioc-mac-arm64/meat/SPIAT.Rcheck/00check.log’
for details.
SPIAT.Rcheck/00install.out
############################################################################## ############################################################################## ### ### Running command: ### ### /Library/Frameworks/R.framework/Resources/bin/R CMD INSTALL SPIAT ### ############################################################################## ############################################################################## * installing to library ‘/Library/Frameworks/R.framework/Versions/4.3-arm64/Resources/library’ * installing *source* package ‘SPIAT’ ... ** using staged installation ** R ** data *** moving datasets to lazyload DB ** inst ** byte-compile and prepare package for lazy loading ** help *** installing help indices ** building package indices ** installing vignettes ** testing if installed package can be loaded from temporary location ** testing if installed package can be loaded from final location ** testing if installed package keeps a record of temporary installation path * DONE (SPIAT)
SPIAT.Rcheck/tests/testthat.Rout
R version 4.3.1 (2023-06-16) -- "Beagle Scouts"
Copyright (C) 2023 The R Foundation for Statistical Computing
Platform: aarch64-apple-darwin20 (64-bit)
R is free software and comes with ABSOLUTELY NO WARRANTY.
You are welcome to redistribute it under certain conditions.
Type 'license()' or 'licence()' for distribution details.
R is a collaborative project with many contributors.
Type 'contributors()' for more information and
'citation()' on how to cite R or R packages in publications.
Type 'demo()' for some demos, 'help()' for on-line help, or
'help.start()' for an HTML browser interface to help.
Type 'q()' to quit R.
> library(testthat)
> library(SPIAT)
Loading required package: SpatialExperiment
Loading required package: SingleCellExperiment
Loading required package: SummarizedExperiment
Loading required package: MatrixGenerics
Loading required package: matrixStats
Attaching package: 'MatrixGenerics'
The following objects are masked from 'package:matrixStats':
colAlls, colAnyNAs, colAnys, colAvgsPerRowSet, colCollapse,
colCounts, colCummaxs, colCummins, colCumprods, colCumsums,
colDiffs, colIQRDiffs, colIQRs, colLogSumExps, colMadDiffs,
colMads, colMaxs, colMeans2, colMedians, colMins, colOrderStats,
colProds, colQuantiles, colRanges, colRanks, colSdDiffs, colSds,
colSums2, colTabulates, colVarDiffs, colVars, colWeightedMads,
colWeightedMeans, colWeightedMedians, colWeightedSds,
colWeightedVars, rowAlls, rowAnyNAs, rowAnys, rowAvgsPerColSet,
rowCollapse, rowCounts, rowCummaxs, rowCummins, rowCumprods,
rowCumsums, rowDiffs, rowIQRDiffs, rowIQRs, rowLogSumExps,
rowMadDiffs, rowMads, rowMaxs, rowMeans2, rowMedians, rowMins,
rowOrderStats, rowProds, rowQuantiles, rowRanges, rowRanks,
rowSdDiffs, rowSds, rowSums2, rowTabulates, rowVarDiffs, rowVars,
rowWeightedMads, rowWeightedMeans, rowWeightedMedians,
rowWeightedSds, rowWeightedVars
Loading required package: GenomicRanges
Loading required package: stats4
Loading required package: BiocGenerics
Attaching package: 'BiocGenerics'
The following objects are masked from 'package:stats':
IQR, mad, sd, var, xtabs
The following objects are masked from 'package:base':
Filter, Find, Map, Position, Reduce, anyDuplicated, aperm, append,
as.data.frame, basename, cbind, colnames, dirname, do.call,
duplicated, eval, evalq, get, grep, grepl, intersect, is.unsorted,
lapply, mapply, match, mget, order, paste, pmax, pmax.int, pmin,
pmin.int, rank, rbind, rownames, sapply, setdiff, sort, table,
tapply, union, unique, unsplit, which.max, which.min
Loading required package: S4Vectors
Attaching package: 'S4Vectors'
The following object is masked from 'package:utils':
findMatches
The following objects are masked from 'package:base':
I, expand.grid, unname
Loading required package: IRanges
Loading required package: GenomeInfoDb
Loading required package: Biobase
Welcome to Bioconductor
Vignettes contain introductory material; view with
'browseVignettes()'. To cite Bioconductor, see
'citation("Biobase")', and for packages 'citation("pkgname")'.
Attaching package: 'Biobase'
The following object is masked from 'package:MatrixGenerics':
rowMedians
The following objects are masked from 'package:matrixStats':
anyMissing, rowMedians
>
> test_check("SPIAT")
[1] "Markers had been selected in minimum distance calculation: "
[1] "Immune1" "Tumour"
[1] "Crossing of cross K function is detected for this image, indicating a potential immune ring."
[1] "The crossing happens at the 50% of the specified distance."
[1] "The alpha of Polygon is: 63.24375"
[1] "Markers had been selected in minimum distance calculation: "
[1] "Non-border" "Border"
[1] "Tumour_marker"
[1] "Immune_marker1"
[1] "Immune_marker2"
[1] "Immune_marker3"
[1] "Immune_marker4"
[1] "Tumour_marker"
[1] "Immune_marker1"
[1] "Immune_marker2"
[1] "Immune_marker3"
[1] "Immune_marker4"
[1] "Tumour_marker threshold intensity: 0.445450443784465"
[1] "Immune_marker1 threshold intensity: 0.116980867970434"
[1] "Immune_marker2 threshold intensity: 0.124283809517202"
[1] "Immune_marker3 threshold intensity: 0.0166413130263845"
[1] "Immune_marker4 threshold intensity: 0.00989731350898589"
[ FAIL 0 | WARN 0 | SKIP 0 | PASS 80 ]
>
> proc.time()
user system elapsed
73.035 3.063 156.057
SPIAT.Rcheck/SPIAT-Ex.timings
| name | user | system | elapsed | |
| AUC_of_cross_function | 0.905 | 0.015 | 1.859 | |
| R_BC | 1.235 | 0.076 | 2.687 | |
| average_marker_intensity_within_radius | 0.068 | 0.006 | 0.179 | |
| average_minimum_distance | 0.021 | 0.003 | 0.045 | |
| average_nearest_neighbor_index | 0.401 | 0.017 | 0.849 | |
| average_percentage_of_cells_within_radius | 1.577 | 0.045 | 3.354 | |
| calculate_cell_proportions | 0.017 | 0.001 | 0.035 | |
| calculate_cross_functions | 0.199 | 0.008 | 0.418 | |
| calculate_distance_to_margin | 1.488 | 0.044 | 3.166 | |
| calculate_entropy | 0.014 | 0.001 | 0.032 | |
| calculate_minimum_distances_between_celltypes | 0.022 | 0.001 | 0.046 | |
| calculate_pairwise_distances_between_celltypes | 4.760 | 0.634 | 11.152 | |
| calculate_percentage_of_grids | 11.044 | 0.222 | 23.924 | |
| calculate_proportions_of_cells_in_structure | 1.637 | 0.027 | 3.416 | |
| calculate_spatial_autocorrelation | 5.985 | 0.087 | 12.392 | |
| calculate_summary_distances_between_celltypes | 2.547 | 0.208 | 5.642 | |
| calculate_summary_distances_of_cells_to_borders | 1.545 | 0.123 | 3.509 | |
| composition_of_neighborhoods | 1.148 | 0.193 | 2.812 | |
| compute_gradient | 0.075 | 0.002 | 0.155 | |
| crossing_of_crossK | 0.153 | 0.007 | 0.329 | |
| define_celltypes | 0.996 | 0.031 | 2.139 | |
| define_structure | 1.865 | 0.046 | 3.977 | |
| dimensionality_reduction_plot | 22.645 | 0.691 | 47.604 | |
| entropy_gradient_aggregated | 0.678 | 0.041 | 1.494 | |
| format_cellprofiler_to_spe | 0.22 | 0.01 | 0.49 | |
| format_codex_to_spe | 0.226 | 0.010 | 0.501 | |
| format_colData_to_spe | 0.258 | 0.019 | 0.583 | |
| format_halo_to_spe | 0.594 | 0.071 | 1.605 | |
| format_image_to_spe | 0.225 | 0.031 | 0.516 | |
| format_inform_to_spe | 0.338 | 0.037 | 0.886 | |
| format_spe_to_ppp | 0.022 | 0.002 | 0.049 | |
| grid_metrics | 5.473 | 0.150 | 11.213 | |
| identify_bordering_cells | 0.700 | 0.023 | 1.539 | |
| identify_neighborhoods | 2.525 | 0.271 | 5.633 | |
| image_splitter | 1.821 | 0.027 | 3.755 | |
| marker_intensity_boxplot | 0.333 | 0.007 | 0.679 | |
| marker_prediction_plot | 0.691 | 0.031 | 1.432 | |
| marker_surface_plot | 0.278 | 0.057 | 0.613 | |
| marker_surface_plot_stack | 0.225 | 0.031 | 0.514 | |
| measure_association_to_cell_properties | 0.535 | 0.009 | 1.118 | |
| mixing_score_summary | 0.024 | 0.001 | 0.048 | |
| number_of_cells_within_radius | 0.016 | 0.000 | 0.034 | |
| plot_average_intensity | 0.373 | 0.007 | 0.776 | |
| plot_cell_categories | 0.335 | 0.013 | 0.711 | |
| plot_cell_distances_violin | 1.211 | 0.074 | 2.608 | |
| plot_cell_marker_levels | 0.200 | 0.004 | 0.398 | |
| plot_cell_percentages | 0.788 | 0.014 | 1.632 | |
| plot_composition_heatmap | 3.665 | 0.172 | 7.257 | |
| plot_distance_heatmap | 3.019 | 0.118 | 5.709 | |
| plot_marker_level_heatmap | 1.283 | 0.049 | 2.640 | |
| predict_phenotypes | 1.201 | 0.021 | 2.400 | |
| select_celltypes | 0.063 | 0.001 | 0.133 | |