| Back to Mac ARM64 build report for BioC 3.17 |
|
This page was generated on 2023-10-20 09:38:12 -0400 (Fri, 20 Oct 2023).
| Hostname | OS | Arch (*) | R version | Installed pkgs |
|---|---|---|---|---|
| kjohnson2 | macOS 12.6.1 Monterey | arm64 | 4.3.1 (2023-06-16) -- "Beagle Scouts" | 4347 |
| Click on any hostname to see more info about the system (e.g. compilers) (*) as reported by 'uname -p', except on Windows and Mac OS X | ||||
| Package 1949/2230 | Hostname | OS / Arch | INSTALL | BUILD | CHECK | BUILD BIN | ||||||||
| SMITE 1.28.0 (landing page) Neil Ari Wijetunga
| kjohnson2 | macOS 12.6.1 Monterey / arm64 | OK | OK | OK | OK | ||||||||
|
To the developers/maintainers of the SMITE package: - Use the following Renviron settings to reproduce errors and warnings. - If 'R CMD check' started to fail recently on the Linux builder(s) over a missing dependency, add the missing dependency to 'Suggests:' in your DESCRIPTION file. See Renviron.bioc for more information. |
| Package: SMITE |
| Version: 1.28.0 |
| Command: /Library/Frameworks/R.framework/Resources/bin/R CMD check --install=check:SMITE.install-out.txt --library=/Library/Frameworks/R.framework/Resources/library --no-vignettes --timings SMITE_1.28.0.tar.gz |
| StartedAt: 2023-10-19 02:16:26 -0400 (Thu, 19 Oct 2023) |
| EndedAt: 2023-10-19 02:25:20 -0400 (Thu, 19 Oct 2023) |
| EllapsedTime: 533.9 seconds |
| RetCode: 0 |
| Status: OK |
| CheckDir: SMITE.Rcheck |
| Warnings: 0 |
##############################################################################
##############################################################################
###
### Running command:
###
### /Library/Frameworks/R.framework/Resources/bin/R CMD check --install=check:SMITE.install-out.txt --library=/Library/Frameworks/R.framework/Resources/library --no-vignettes --timings SMITE_1.28.0.tar.gz
###
##############################################################################
##############################################################################
* using log directory ‘/Users/biocbuild/bbs-3.17-bioc-mac-arm64/meat/SMITE.Rcheck’
* using R version 4.3.1 (2023-06-16)
* using platform: aarch64-apple-darwin20 (64-bit)
* R was compiled by
Apple clang version 14.0.0 (clang-1400.0.29.202)
GNU Fortran (GCC) 12.2.0
* running under: macOS Monterey 12.6.7
* using session charset: UTF-8
* using option ‘--no-vignettes’
* checking for file ‘SMITE/DESCRIPTION’ ... OK
* checking extension type ... Package
* this is package ‘SMITE’ version ‘1.28.0’
* checking package namespace information ... OK
* checking package dependencies ... OK
* checking if this is a source package ... OK
* checking if there is a namespace ... OK
* checking for hidden files and directories ... OK
* checking for portable file names ... OK
* checking for sufficient/correct file permissions ... OK
* checking whether package ‘SMITE’ can be installed ... OK
* checking installed package size ... OK
* checking package directory ... OK
* checking ‘build’ directory ... OK
* checking DESCRIPTION meta-information ... OK
* checking top-level files ... OK
* checking for left-over files ... OK
* checking index information ... OK
* checking package subdirectories ... OK
* checking R files for non-ASCII characters ... OK
* checking R files for syntax errors ... OK
* checking whether the package can be loaded ... OK
* checking whether the package can be loaded with stated dependencies ... OK
* checking whether the package can be unloaded cleanly ... OK
* checking whether the namespace can be loaded with stated dependencies ... OK
* checking whether the namespace can be unloaded cleanly ... OK
* checking dependencies in R code ... OK
* checking S3 generic/method consistency ... OK
* checking replacement functions ... OK
* checking foreign function calls ... OK
* checking R code for possible problems ... OK
* checking Rd files ... OK
* checking Rd metadata ... OK
* checking Rd cross-references ... OK
* checking for missing documentation entries ... OK
* checking for code/documentation mismatches ... OK
* checking Rd \usage sections ... OK
* checking Rd contents ... OK
* checking for unstated dependencies in examples ... OK
* checking contents of ‘data’ directory ... OK
* checking data for non-ASCII characters ... OK
* checking data for ASCII and uncompressed saves ... OK
* checking sizes of PDF files under ‘inst/doc’ ... OK
* checking files in ‘vignettes’ ... OK
* checking examples ... OK
* checking for unstated dependencies in vignettes ... OK
* checking package vignettes in ‘inst/doc’ ... OK
* checking running R code from vignettes ... SKIPPED
* checking re-building of vignette outputs ... SKIPPED
* checking PDF version of manual ... OK
* DONE
Status: OK
SMITE.Rcheck/00install.out
############################################################################## ############################################################################## ### ### Running command: ### ### /Library/Frameworks/R.framework/Resources/bin/R CMD INSTALL SMITE ### ############################################################################## ############################################################################## * installing to library ‘/Library/Frameworks/R.framework/Versions/4.3-arm64/Resources/library’ * installing *source* package ‘SMITE’ ... ** using staged installation ** R ** data ** inst ** byte-compile and prepare package for lazy loading ** help *** installing help indices ** building package indices ** installing vignettes ** testing if installed package can be loaded from temporary location ** testing if installed package can be loaded from final location ** testing if installed package keeps a record of temporary installation path * DONE (SMITE)
SMITE.Rcheck/SMITE-Ex.timings
| name | user | system | elapsed | |
| Reactome.Symbol.Igraph | 0.099 | 0.010 | 0.185 | |
| SMITE-package | 0.413 | 0.031 | 0.683 | |
| addShadowText | 0.004 | 0.001 | 0.005 | |
| annotateExpression | 0.301 | 0.017 | 0.485 | |
| annotateModification | 0 | 0 | 0 | |
| convertGeneIds | 2.555 | 0.206 | 4.260 | |
| curated_expression | 0.048 | 0.006 | 0.136 | |
| extractExpression | 0.220 | 0.014 | 0.381 | |
| extractGOseq | 0.087 | 0.007 | 0.141 | |
| extractModification | 1.789 | 0.031 | 2.781 | |
| extractModules | 0.087 | 0.006 | 0.140 | |
| extractScores | 0.087 | 0.006 | 0.137 | |
| genes_for_conversiontest | 1.386 | 0.012 | 2.137 | |
| hg19_gene_bed | 0.129 | 0.007 | 0.204 | |
| highScores | 0.087 | 0.007 | 0.144 | |
| histone_h3k4me1 | 0.072 | 0.006 | 0.117 | |
| makePvalueAnnotation | 0.775 | 0.018 | 1.213 | |
| makePvalueObject | 0.063 | 0.006 | 0.113 | |
| methylationdata | 0.059 | 0.005 | 0.094 | |
| normalizePval | 0.087 | 0.005 | 0.141 | |
| plotCompareScores | 0.567 | 0.037 | 0.921 | |
| plotDensityPval | 0.123 | 0.009 | 0.193 | |
| plotModule | 0.086 | 0.006 | 0.139 | |
| removeModification | 0.064 | 0.006 | 0.108 | |
| runBioNet | 0.086 | 0.007 | 0.144 | |
| runGOseq | 0.159 | 0.009 | 0.255 | |
| runSpinglass | 0.626 | 0.027 | 1.030 | |
| scorePval | 0.088 | 0.007 | 0.140 | |
| stoufferTest | 0.002 | 0.000 | 0.002 | |
| test_annotation_score_data | 0.125 | 0.009 | 0.209 | |