| Back to Mac ARM64 build report for BioC 3.17 |
|
This page was generated on 2023-10-20 09:38:12 -0400 (Fri, 20 Oct 2023).
| Hostname | OS | Arch (*) | R version | Installed pkgs |
|---|---|---|---|---|
| kjohnson2 | macOS 12.6.1 Monterey | arm64 | 4.3.1 (2023-06-16) -- "Beagle Scouts" | 4347 |
| Click on any hostname to see more info about the system (e.g. compilers) (*) as reported by 'uname -p', except on Windows and Mac OS X | ||||
| Package 1939/2230 | Hostname | OS / Arch | INSTALL | BUILD | CHECK | BUILD BIN | ||||||||
| SISPA 1.30.0 (landing page) Bhakti Dwivedi
| kjohnson2 | macOS 12.6.1 Monterey / arm64 | OK | OK | OK | OK | ||||||||
|
To the developers/maintainers of the SISPA package: - Use the following Renviron settings to reproduce errors and warnings. - If 'R CMD check' started to fail recently on the Linux builder(s) over a missing dependency, add the missing dependency to 'Suggests:' in your DESCRIPTION file. See Renviron.bioc for more information. |
| Package: SISPA |
| Version: 1.30.0 |
| Command: /Library/Frameworks/R.framework/Resources/bin/R CMD check --install=check:SISPA.install-out.txt --library=/Library/Frameworks/R.framework/Resources/library --no-vignettes --timings SISPA_1.30.0.tar.gz |
| StartedAt: 2023-10-19 01:57:45 -0400 (Thu, 19 Oct 2023) |
| EndedAt: 2023-10-19 02:05:19 -0400 (Thu, 19 Oct 2023) |
| EllapsedTime: 454.5 seconds |
| RetCode: 0 |
| Status: OK |
| CheckDir: SISPA.Rcheck |
| Warnings: 0 |
##############################################################################
##############################################################################
###
### Running command:
###
### /Library/Frameworks/R.framework/Resources/bin/R CMD check --install=check:SISPA.install-out.txt --library=/Library/Frameworks/R.framework/Resources/library --no-vignettes --timings SISPA_1.30.0.tar.gz
###
##############################################################################
##############################################################################
* using log directory ‘/Users/biocbuild/bbs-3.17-bioc-mac-arm64/meat/SISPA.Rcheck’
* using R version 4.3.1 (2023-06-16)
* using platform: aarch64-apple-darwin20 (64-bit)
* R was compiled by
Apple clang version 14.0.0 (clang-1400.0.29.202)
GNU Fortran (GCC) 12.2.0
* running under: macOS Monterey 12.6.7
* using session charset: UTF-8
* using option ‘--no-vignettes’
* checking for file ‘SISPA/DESCRIPTION’ ... OK
* checking extension type ... Package
* this is package ‘SISPA’ version ‘1.30.0’
* checking package namespace information ... OK
* checking package dependencies ... OK
* checking if this is a source package ... OK
* checking if there is a namespace ... OK
* checking for hidden files and directories ... OK
* checking for portable file names ... OK
* checking for sufficient/correct file permissions ... OK
* checking whether package ‘SISPA’ can be installed ... OK
* checking installed package size ... OK
* checking package directory ... OK
* checking ‘build’ directory ... OK
* checking DESCRIPTION meta-information ... OK
* checking top-level files ... OK
* checking for left-over files ... OK
* checking index information ... OK
* checking package subdirectories ... NOTE
Problems with news in ‘NEWS’:
Cannot process chunk/lines:
Version 0.99.1: Original
Cannot process chunk/lines:
Version 0.99.2:
Bugfix:
- Example ERROR fixed, generates ERROR message when no change points are identified.
Cannot process chunk/lines:
Version 0.99.3:
Bugfix:
- Example ERROR fixed, generates ERROR message when no change points are identified.
Cannot process chunk/lines:
Version 0.99.4:
Bugfix:
- Example ERROR fixed, generates ERROR message when no change points are identified.
Cannot process chunk/lines:
Version 1.1.0
First Release version
Cannot process chunk/lines:
Version 1.1.1:
New Features:
- For more than 3 genes, standard zscore is computed instead of GSVA enrichment scores
- For sample size less than 3, zscore can not be computed, program generates an error
- SISPA can now run on a single data type or any combination of two numeric data types
- changepoint R method options as input parameters
- implemented ggplot to create barplot in the freqplot function
- Updated vignettes as pdf file to perform 1D and 2D SISPA analysis
- SISPA.R numeric ERROR fixed
Cannot process chunk/lines:
Version 1.1.2:
New Features:
- cptSamples.R changepoint ERROR fixed
Cannot process chunk/lines:
Bhakti Dwivedi and Jeanne Kowalski
Cannot process chunk/lines:
The Winship Cancer Institute, Emory University
Cannot process chunk/lines:
https://bbisr.winship.emory.edu/
* checking R files for non-ASCII characters ... OK
* checking R files for syntax errors ... OK
* checking whether the package can be loaded ... OK
* checking whether the package can be loaded with stated dependencies ... OK
* checking whether the package can be unloaded cleanly ... OK
* checking whether the namespace can be loaded with stated dependencies ... OK
* checking whether the namespace can be unloaded cleanly ... OK
* checking dependencies in R code ... OK
* checking S3 generic/method consistency ... OK
* checking replacement functions ... OK
* checking foreign function calls ... OK
* checking R code for possible problems ... NOTE
cptSamples : cptsPlot: no visible global function definition for
‘abline’
cptSamples : cptsPlot: no visible global function definition for ‘text’
Undefined global functions or variables:
abline text
Consider adding
importFrom("graphics", "abline", "text")
to your NAMESPACE file.
* checking Rd files ... OK
* checking Rd metadata ... OK
* checking Rd cross-references ... OK
* checking for missing documentation entries ... OK
* checking for code/documentation mismatches ... OK
* checking Rd \usage sections ... OK
* checking Rd contents ... OK
* checking for unstated dependencies in examples ... OK
* checking contents of ‘data’ directory ... OK
* checking data for non-ASCII characters ... OK
* checking LazyData ... OK
* checking data for ASCII and uncompressed saves ... OK
* checking installed files from ‘inst/doc’ ... OK
* checking files in ‘vignettes’ ... OK
* checking examples ... OK
* checking for unstated dependencies in vignettes ... OK
* checking package vignettes in ‘inst/doc’ ... OK
* checking running R code from vignettes ... SKIPPED
* checking re-building of vignette outputs ... SKIPPED
* checking PDF version of manual ... OK
* DONE
Status: 2 NOTEs
See
‘/Users/biocbuild/bbs-3.17-bioc-mac-arm64/meat/SISPA.Rcheck/00check.log’
for details.
SISPA.Rcheck/00install.out
############################################################################## ############################################################################## ### ### Running command: ### ### /Library/Frameworks/R.framework/Resources/bin/R CMD INSTALL SISPA ### ############################################################################## ############################################################################## * installing to library ‘/Library/Frameworks/R.framework/Versions/4.3-arm64/Resources/library’ * installing *source* package ‘SISPA’ ... ** using staged installation ** R ** data *** moving datasets to lazyload DB ** inst ** byte-compile and prepare package for lazy loading ** help *** installing help indices ** building package indices ** installing vignettes ** testing if installed package can be loaded from temporary location ** testing if installed package can be loaded from final location ** testing if installed package keeps a record of temporary installation path * DONE (SISPA)
SISPA.Rcheck/SISPA-Ex.timings
| name | user | system | elapsed | |
| SISPA | 1.379 | 1.078 | 2.970 | |
| callGSVA | 1.028 | 0.898 | 2.642 | |
| callZSCORE | 0.003 | 0.003 | 0.011 | |
| cptSamples | 1.540 | 1.450 | 3.772 | |
| filterVars | 0.001 | 0.000 | 0.000 | |
| freqplot | 0.282 | 0.056 | 0.597 | |
| sortData | 0.001 | 0.001 | 0.005 | |
| waterfallplot | 0.237 | 0.025 | 0.452 | |