| Back to Mac ARM64 build report for BioC 3.17 |
|
This page was generated on 2023-10-20 09:38:12 -0400 (Fri, 20 Oct 2023).
| Hostname | OS | Arch (*) | R version | Installed pkgs |
|---|---|---|---|---|
| kjohnson2 | macOS 12.6.1 Monterey | arm64 | 4.3.1 (2023-06-16) -- "Beagle Scouts" | 4347 |
| Click on any hostname to see more info about the system (e.g. compilers) (*) as reported by 'uname -p', except on Windows and Mac OS X | ||||
| Package 1901/2230 | Hostname | OS / Arch | INSTALL | BUILD | CHECK | BUILD BIN | ||||||||
| SGCP 1.0.0 (landing page) Niloofar AghaieAbiane
| kjohnson2 | macOS 12.6.1 Monterey / arm64 | OK | OK | OK | OK | ||||||||
|
To the developers/maintainers of the SGCP package: - Use the following Renviron settings to reproduce errors and warnings. - If 'R CMD check' started to fail recently on the Linux builder(s) over a missing dependency, add the missing dependency to 'Suggests:' in your DESCRIPTION file. See Renviron.bioc for more information. |
| Package: SGCP |
| Version: 1.0.0 |
| Command: /Library/Frameworks/R.framework/Resources/bin/R CMD check --install=check:SGCP.install-out.txt --library=/Library/Frameworks/R.framework/Resources/library --no-vignettes --timings SGCP_1.0.0.tar.gz |
| StartedAt: 2023-10-19 00:40:43 -0400 (Thu, 19 Oct 2023) |
| EndedAt: 2023-10-19 00:50:55 -0400 (Thu, 19 Oct 2023) |
| EllapsedTime: 612.4 seconds |
| RetCode: 0 |
| Status: OK |
| CheckDir: SGCP.Rcheck |
| Warnings: 0 |
##############################################################################
##############################################################################
###
### Running command:
###
### /Library/Frameworks/R.framework/Resources/bin/R CMD check --install=check:SGCP.install-out.txt --library=/Library/Frameworks/R.framework/Resources/library --no-vignettes --timings SGCP_1.0.0.tar.gz
###
##############################################################################
##############################################################################
* using log directory ‘/Users/biocbuild/bbs-3.17-bioc-mac-arm64/meat/SGCP.Rcheck’
* using R version 4.3.1 (2023-06-16)
* using platform: aarch64-apple-darwin20 (64-bit)
* R was compiled by
Apple clang version 14.0.0 (clang-1400.0.29.202)
GNU Fortran (GCC) 12.2.0
* running under: macOS Monterey 12.6.7
* using session charset: UTF-8
* using option ‘--no-vignettes’
* checking for file ‘SGCP/DESCRIPTION’ ... OK
* checking extension type ... Package
* this is package ‘SGCP’ version ‘1.0.0’
* package encoding: UTF-8
* checking package namespace information ... OK
* checking package dependencies ... OK
* checking if this is a source package ... OK
* checking if there is a namespace ... OK
* checking for hidden files and directories ... OK
* checking for portable file names ... OK
* checking for sufficient/correct file permissions ... OK
* checking whether package ‘SGCP’ can be installed ... OK
* checking installed package size ... OK
* checking package directory ... OK
* checking ‘build’ directory ... OK
* checking DESCRIPTION meta-information ... OK
* checking top-level files ... OK
* checking for left-over files ... OK
* checking index information ... OK
* checking package subdirectories ... OK
* checking R files for non-ASCII characters ... OK
* checking R files for syntax errors ... OK
* checking whether the package can be loaded ... OK
* checking whether the package can be loaded with stated dependencies ... OK
* checking whether the package can be unloaded cleanly ... OK
* checking whether the namespace can be loaded with stated dependencies ... OK
* checking whether the namespace can be unloaded cleanly ... OK
* checking dependencies in R code ... OK
* checking S3 generic/method consistency ... OK
* checking replacement functions ... OK
* checking foreign function calls ... OK
* checking R code for possible problems ... OK
* checking Rd files ... OK
* checking Rd metadata ... OK
* checking Rd cross-references ... OK
* checking for missing documentation entries ... OK
* checking for code/documentation mismatches ... OK
* checking Rd \usage sections ... OK
* checking Rd contents ... OK
* checking for unstated dependencies in examples ... OK
* checking contents of ‘data’ directory ... OK
* checking data for non-ASCII characters ... OK
* checking data for ASCII and uncompressed saves ... OK
* checking files in ‘vignettes’ ... OK
* checking examples ... OK
Examples with CPU (user + system) or elapsed time > 5s
user system elapsed
SGCP_semiSupervised 2.775 0.112 5.184
* checking for unstated dependencies in vignettes ... OK
* checking package vignettes in ‘inst/doc’ ... OK
* checking running R code from vignettes ... SKIPPED
* checking re-building of vignette outputs ... SKIPPED
* checking PDF version of manual ... OK
* DONE
Status: OK
SGCP.Rcheck/00install.out
############################################################################## ############################################################################## ### ### Running command: ### ### /Library/Frameworks/R.framework/Resources/bin/R CMD INSTALL SGCP ### ############################################################################## ############################################################################## * installing to library ‘/Library/Frameworks/R.framework/Versions/4.3-arm64/Resources/library’ * installing *source* package ‘SGCP’ ... ** using staged installation ** R ** data ** inst ** byte-compile and prepare package for lazy loading ** help *** installing help indices ** building package indices ** installing vignettes ** testing if installed package can be loaded from temporary location ** testing if installed package can be loaded from final location ** testing if installed package keeps a record of temporary installation path * DONE (SGCP)
SGCP.Rcheck/SGCP-Ex.timings
| name | user | system | elapsed | |
| SGCP_adjacencyMatrix | 0.106 | 0.023 | 0.244 | |
| SGCP_clustering | 0.315 | 0.025 | 0.619 | |
| SGCP_ezPLOT | 0.394 | 0.027 | 0.753 | |
| SGCP_ezSGCP | 0.331 | 0.024 | 0.632 | |
| SGCP_go | 0.291 | 0.015 | 0.480 | |
| SGCP_plot_bar | 0.402 | 0.019 | 0.742 | |
| SGCP_plot_conductance | 0.313 | 0.019 | 0.595 | |
| SGCP_plot_density | 0.361 | 0.022 | 0.700 | |
| SGCP_plot_heatMap | 0.571 | 0.046 | 1.040 | |
| SGCP_plot_jitter | 0.284 | 0.020 | 0.529 | |
| SGCP_plot_pca | 0.198 | 0.007 | 0.362 | |
| SGCP_plot_pie | 0.623 | 0.012 | 1.058 | |
| SGCP_plot_silhouette | 1.275 | 0.019 | 2.333 | |
| SGCP_semiLabeling | 0.107 | 0.007 | 0.203 | |
| SGCP_semiSupervised | 2.775 | 0.112 | 5.184 | |
| cheng | 0.294 | 0.028 | 0.572 | |
| resClus | 0.683 | 0.131 | 1.480 | |
| resFinalGO | 0.066 | 0.007 | 0.128 | |
| resInitialGO | 0.062 | 0.007 | 0.117 | |
| resSemiLabel | 0.007 | 0.002 | 0.017 | |
| resSemiSupervised | 0.042 | 0.004 | 0.076 | |
| sgcp | 0.121 | 0.007 | 0.239 | |