| Back to Mac ARM64 build report for BioC 3.17 |
|
This page was generated on 2023-10-20 09:38:10 -0400 (Fri, 20 Oct 2023).
| Hostname | OS | Arch (*) | R version | Installed pkgs |
|---|---|---|---|---|
| kjohnson2 | macOS 12.6.1 Monterey | arm64 | 4.3.1 (2023-06-16) -- "Beagle Scouts" | 4347 |
| Click on any hostname to see more info about the system (e.g. compilers) (*) as reported by 'uname -p', except on Windows and Mac OS X | ||||
| Package 1732/2230 | Hostname | OS / Arch | INSTALL | BUILD | CHECK | BUILD BIN | ||||||||
| Rmagpie 1.56.0 (landing page) Camille Maumet
| kjohnson2 | macOS 12.6.1 Monterey / arm64 | OK | OK | OK | OK | ||||||||
|
To the developers/maintainers of the Rmagpie package: - Use the following Renviron settings to reproduce errors and warnings. - If 'R CMD check' started to fail recently on the Linux builder(s) over a missing dependency, add the missing dependency to 'Suggests:' in your DESCRIPTION file. See Renviron.bioc for more information. |
| Package: Rmagpie |
| Version: 1.56.0 |
| Command: /Library/Frameworks/R.framework/Resources/bin/R CMD check --install=check:Rmagpie.install-out.txt --library=/Library/Frameworks/R.framework/Resources/library --no-vignettes --timings Rmagpie_1.56.0.tar.gz |
| StartedAt: 2023-10-18 19:36:37 -0400 (Wed, 18 Oct 2023) |
| EndedAt: 2023-10-18 19:39:21 -0400 (Wed, 18 Oct 2023) |
| EllapsedTime: 164.0 seconds |
| RetCode: 0 |
| Status: OK |
| CheckDir: Rmagpie.Rcheck |
| Warnings: 0 |
##############################################################################
##############################################################################
###
### Running command:
###
### /Library/Frameworks/R.framework/Resources/bin/R CMD check --install=check:Rmagpie.install-out.txt --library=/Library/Frameworks/R.framework/Resources/library --no-vignettes --timings Rmagpie_1.56.0.tar.gz
###
##############################################################################
##############################################################################
* using log directory ‘/Users/biocbuild/bbs-3.17-bioc-mac-arm64/meat/Rmagpie.Rcheck’
* using R version 4.3.1 (2023-06-16)
* using platform: aarch64-apple-darwin20 (64-bit)
* R was compiled by
Apple clang version 14.0.0 (clang-1400.0.29.202)
GNU Fortran (GCC) 12.2.0
* running under: macOS Monterey 12.6.7
* using session charset: UTF-8
* using option ‘--no-vignettes’
* checking for file ‘Rmagpie/DESCRIPTION’ ... OK
* this is package ‘Rmagpie’ version ‘1.56.0’
* checking package namespace information ... OK
* checking package dependencies ... OK
* checking if this is a source package ... OK
* checking if there is a namespace ... OK
* checking for hidden files and directories ... OK
* checking for portable file names ... OK
* checking for sufficient/correct file permissions ... OK
* checking whether package ‘Rmagpie’ can be installed ... OK
* checking installed package size ... OK
* checking package directory ... OK
* checking ‘build’ directory ... OK
* checking DESCRIPTION meta-information ... NOTE
Package listed in more than one of Depends, Imports, Suggests, Enhances:
‘Biobase’
A package should be listed in only one of these fields.
* checking top-level files ... OK
* checking for left-over files ... OK
* checking index information ... OK
* checking package subdirectories ... OK
* checking R files for non-ASCII characters ... OK
* checking R files for syntax errors ... OK
* checking whether the package can be loaded ... OK
* checking whether the package can be loaded with stated dependencies ... OK
* checking whether the package can be unloaded cleanly ... OK
* checking whether the namespace can be loaded with stated dependencies ... OK
* checking whether the namespace can be unloaded cleanly ... OK
* checking dependencies in R code ... OK
* checking S3 generic/method consistency ... OK
* checking replacement functions ... OK
* checking foreign function calls ... OK
* checking R code for possible problems ... NOTE
twoLayerExtCV: warning in performAValidation(data = eset, trainIndices
= extInds[[i]], noGenes = upToBestSelectedFeature, classes = classes,
classifierName = classifierName, verbose = verbose, kernel = kernel,
featureSelectionFun = featureSelectionFun, trainTestFun =
trainTestFun): partial argument match of 'data' to 'dataset'
getFeatureSelectionOptions<-,assessment: no visible global function
definition for ‘getNoOfOptions<-’
getFeatureSelectionOptions<-,assessment: no visible global function
definition for ‘getNoModels<-’
Undefined global functions or variables:
getNoModels<- getNoOfOptions<-
* checking Rd files ... OK
* checking Rd metadata ... OK
* checking Rd cross-references ... OK
* checking for missing documentation entries ... OK
* checking for code/documentation mismatches ... OK
* checking Rd \usage sections ... OK
* checking Rd contents ... OK
* checking for unstated dependencies in examples ... OK
* checking contents of ‘data’ directory ... OK
* checking data for non-ASCII characters ... OK
* checking data for ASCII and uncompressed saves ... OK
* checking sizes of PDF files under ‘inst/doc’ ... OK
* checking files in ‘vignettes’ ... OK
* checking examples ... OK
Examples with CPU (user + system) or elapsed time > 5s
user system elapsed
runTwoLayerExtCV-methods 7.524 0.084 10.999
plotErrorsFoldTwoLayerCV-methods 4.596 0.055 7.903
getResults-methods 4.000 0.139 7.406
* checking for unstated dependencies in vignettes ... OK
* checking package vignettes in ‘inst/doc’ ... OK
* checking running R code from vignettes ... SKIPPED
* checking re-building of vignette outputs ... SKIPPED
* checking PDF version of manual ... OK
* DONE
Status: 2 NOTEs
See
‘/Users/biocbuild/bbs-3.17-bioc-mac-arm64/meat/Rmagpie.Rcheck/00check.log’
for details.
Rmagpie.Rcheck/00install.out
############################################################################## ############################################################################## ### ### Running command: ### ### /Library/Frameworks/R.framework/Resources/bin/R CMD INSTALL Rmagpie ### ############################################################################## ############################################################################## * installing to library ‘/Library/Frameworks/R.framework/Versions/4.3-arm64/Resources/library’ * installing *source* package ‘Rmagpie’ ... ** using staged installation ** R ** data ** demo ** inst ** byte-compile and prepare package for lazy loading ** help *** installing help indices ** building package indices ** installing vignettes ** testing if installed package can be loaded from temporary location ** testing if installed package can be loaded from final location ** testing if installed package keeps a record of temporary installation path * DONE (Rmagpie)
Rmagpie.Rcheck/Rmagpie-Ex.timings
| name | user | system | elapsed | |
| classifyNewSamples-methods | 1.390 | 0.065 | 2.245 | |
| experiment-class | 0.081 | 0.007 | 0.136 | |
| finalClassifier-class | 0.071 | 0.008 | 0.124 | |
| findFinalClassifier-methods | 0.129 | 0.009 | 0.224 | |
| geneSubsets-class | 0.004 | 0.001 | 0.008 | |
| getDataset-methods | 0.013 | 0.003 | 0.021 | |
| getFeatureSelectionOptions-methods | 0.006 | 0.002 | 0.014 | |
| getFinalClassifier | 0.093 | 0.013 | 0.163 | |
| getResults-methods | 4.000 | 0.139 | 7.406 | |
| plotErrorsFoldTwoLayerCV-methods | 4.596 | 0.055 | 7.903 | |
| plotErrorsRepeatedOneLayerCV | 0.758 | 0.014 | 1.408 | |
| plotErrorsSummaryOneLayerCV-methods | 0.743 | 0.014 | 1.306 | |
| rankedGenesImg-methods | 0.001 | 0.000 | 0.000 | |
| runOneLayerExtCV-methods | 0.669 | 0.013 | 1.216 | |
| runTwoLayerExtCV-methods | 7.524 | 0.084 | 10.999 | |
| setDataset-methods | 0 | 0 | 0 | |
| setFeatureSelectionOptions-methods | 0.006 | 0.003 | 0.012 | |
| thresholds-class | 0.001 | 0.001 | 0.001 | |
| vV70genes | 0.003 | 0.001 | 0.007 | |