| Back to Mac ARM64 build report for BioC 3.17 |
|
This page was generated on 2023-10-20 09:38:10 -0400 (Fri, 20 Oct 2023).
| Hostname | OS | Arch (*) | R version | Installed pkgs |
|---|---|---|---|---|
| kjohnson2 | macOS 12.6.1 Monterey | arm64 | 4.3.1 (2023-06-16) -- "Beagle Scouts" | 4347 |
| Click on any hostname to see more info about the system (e.g. compilers) (*) as reported by 'uname -p', except on Windows and Mac OS X | ||||
| Package 1701/2230 | Hostname | OS / Arch | INSTALL | BUILD | CHECK | BUILD BIN | ||||||||
| RgnTX 1.2.0 (landing page) Yue Wang
| kjohnson2 | macOS 12.6.1 Monterey / arm64 | OK | OK | OK | OK | ||||||||
|
To the developers/maintainers of the RgnTX package: - Use the following Renviron settings to reproduce errors and warnings. - If 'R CMD check' started to fail recently on the Linux builder(s) over a missing dependency, add the missing dependency to 'Suggests:' in your DESCRIPTION file. See Renviron.bioc for more information. |
| Package: RgnTX |
| Version: 1.2.0 |
| Command: /Library/Frameworks/R.framework/Resources/bin/R CMD check --install=check:RgnTX.install-out.txt --library=/Library/Frameworks/R.framework/Resources/library --no-vignettes --timings RgnTX_1.2.0.tar.gz |
| StartedAt: 2023-10-18 18:43:11 -0400 (Wed, 18 Oct 2023) |
| EndedAt: 2023-10-18 18:56:31 -0400 (Wed, 18 Oct 2023) |
| EllapsedTime: 799.5 seconds |
| RetCode: 0 |
| Status: OK |
| CheckDir: RgnTX.Rcheck |
| Warnings: 0 |
##############################################################################
##############################################################################
###
### Running command:
###
### /Library/Frameworks/R.framework/Resources/bin/R CMD check --install=check:RgnTX.install-out.txt --library=/Library/Frameworks/R.framework/Resources/library --no-vignettes --timings RgnTX_1.2.0.tar.gz
###
##############################################################################
##############################################################################
* using log directory ‘/Users/biocbuild/bbs-3.17-bioc-mac-arm64/meat/RgnTX.Rcheck’
* using R version 4.3.1 (2023-06-16)
* using platform: aarch64-apple-darwin20 (64-bit)
* R was compiled by
Apple clang version 14.0.0 (clang-1400.0.29.202)
GNU Fortran (GCC) 12.2.0
* running under: macOS Monterey 12.6.7
* using session charset: UTF-8
* using option ‘--no-vignettes’
* checking for file ‘RgnTX/DESCRIPTION’ ... OK
* this is package ‘RgnTX’ version ‘1.2.0’
* package encoding: UTF-8
* checking package namespace information ... OK
* checking package dependencies ... OK
* checking if this is a source package ... OK
* checking if there is a namespace ... OK
* checking for hidden files and directories ... OK
* checking for portable file names ... OK
* checking for sufficient/correct file permissions ... OK
* checking whether package ‘RgnTX’ can be installed ... OK
* checking installed package size ... OK
* checking package directory ... OK
* checking ‘build’ directory ... OK
* checking DESCRIPTION meta-information ... OK
* checking top-level files ... OK
* checking for left-over files ... OK
* checking index information ... OK
* checking package subdirectories ... OK
* checking R files for non-ASCII characters ... OK
* checking R files for syntax errors ... OK
* checking whether the package can be loaded ... OK
* checking whether the package can be loaded with stated dependencies ... OK
* checking whether the package can be unloaded cleanly ... OK
* checking whether the namespace can be loaded with stated dependencies ... OK
* checking whether the namespace can be unloaded cleanly ... OK
* checking dependencies in R code ... OK
* checking S3 generic/method consistency ... OK
* checking replacement functions ... OK
* checking foreign function calls ... OK
* checking R code for possible problems ... OK
* checking Rd files ... OK
* checking Rd metadata ... OK
* checking Rd cross-references ... OK
* checking for missing documentation entries ... OK
* checking for code/documentation mismatches ... OK
* checking Rd \usage sections ... OK
* checking Rd contents ... OK
* checking for unstated dependencies in examples ... OK
* checking files in ‘vignettes’ ... OK
* checking examples ... OK
Examples with CPU (user + system) or elapsed time > 5s
user system elapsed
shiftedZScoreTx 44.947 0.816 61.550
permTestTxIA_customPick 25.881 0.303 34.783
permTestTxIA 24.605 0.316 33.659
permTestTx 23.078 0.289 31.035
permTestTx_customPick 20.026 0.245 27.695
permTestTx_customAll 18.491 0.240 24.880
overlapCountsTxIA 10.323 0.174 13.966
overlapWidthTx 9.173 0.131 12.378
distanceTx 8.609 0.130 11.340
randomizeFeaturesTx 7.693 0.104 10.341
getStopCodon 7.342 0.103 9.920
GRangesList2GRanges 6.623 0.281 9.049
randomizeFeaturesTxIA 5.290 0.096 7.174
randomizeTransByOrder 5.031 0.066 6.754
getPermSpaceByFeatures 4.847 0.088 6.000
overlapCountsTx 4.513 0.082 6.079
randomizeTx 4.022 0.056 5.436
getPermSpaceByType 3.471 0.059 5.193
* checking for unstated dependencies in ‘tests’ ... OK
* checking tests ...
Running ‘testthat.R’
OK
* checking for unstated dependencies in vignettes ... OK
* checking package vignettes in ‘inst/doc’ ... OK
* checking running R code from vignettes ... SKIPPED
* checking re-building of vignette outputs ... SKIPPED
* checking PDF version of manual ... OK
* DONE
Status: OK
RgnTX.Rcheck/00install.out
############################################################################## ############################################################################## ### ### Running command: ### ### /Library/Frameworks/R.framework/Resources/bin/R CMD INSTALL RgnTX ### ############################################################################## ############################################################################## * installing to library ‘/Library/Frameworks/R.framework/Versions/4.3-arm64/Resources/library’ * installing *source* package ‘RgnTX’ ... ** using staged installation ** R ** inst ** byte-compile and prepare package for lazy loading ** help *** installing help indices ** building package indices ** installing vignettes ** testing if installed package can be loaded from temporary location ** testing if installed package can be loaded from final location ** testing if installed package keeps a record of temporary installation path * DONE (RgnTX)
RgnTX.Rcheck/tests/testthat.Rout
R version 4.3.1 (2023-06-16) -- "Beagle Scouts"
Copyright (C) 2023 The R Foundation for Statistical Computing
Platform: aarch64-apple-darwin20 (64-bit)
R is free software and comes with ABSOLUTELY NO WARRANTY.
You are welcome to redistribute it under certain conditions.
Type 'license()' or 'licence()' for distribution details.
R is a collaborative project with many contributors.
Type 'contributors()' for more information and
'citation()' on how to cite R or R packages in publications.
Type 'demo()' for some demos, 'help()' for on-line help, or
'help.start()' for an HTML browser interface to help.
Type 'q()' to quit R.
> library(testthat)
> library(RgnTX)
>
> test_check("RgnTX")
Loading required package: GenomicFeatures
Loading required package: BiocGenerics
Attaching package: 'BiocGenerics'
The following objects are masked from 'package:stats':
IQR, mad, sd, var, xtabs
The following objects are masked from 'package:base':
Filter, Find, Map, Position, Reduce, anyDuplicated, aperm, append,
as.data.frame, basename, cbind, colnames, dirname, do.call,
duplicated, eval, evalq, get, grep, grepl, intersect, is.unsorted,
lapply, mapply, match, mget, order, paste, pmax, pmax.int, pmin,
pmin.int, rank, rbind, rownames, sapply, setdiff, sort, table,
tapply, union, unique, unsplit, which.max, which.min
Loading required package: S4Vectors
Loading required package: stats4
Attaching package: 'S4Vectors'
The following object is masked from 'package:utils':
findMatches
The following objects are masked from 'package:base':
I, expand.grid, unname
Loading required package: IRanges
Loading required package: GenomeInfoDb
Loading required package: GenomicRanges
Loading required package: AnnotationDbi
Loading required package: Biobase
Welcome to Bioconductor
Vignettes contain introductory material; view with
'browseVignettes()'. To cite Bioconductor, see
'citation("Biobase")', and for packages 'citation("pkgname")'.
[ FAIL 0 | WARN 0 | SKIP 0 | PASS 42 ]
>
> proc.time()
user system elapsed
60.048 1.430 77.639
RgnTX.Rcheck/RgnTX-Ex.timings
| name | user | system | elapsed | |
| GRanges2GRangesList | 0.286 | 0.019 | 0.407 | |
| GRangesList2GRanges | 6.623 | 0.281 | 9.049 | |
| calculateShift | 2.983 | 0.113 | 4.105 | |
| distanceTx | 8.609 | 0.130 | 11.340 | |
| extractRegions | 3.025 | 0.048 | 4.013 | |
| getPermSpaceByFeatures | 4.847 | 0.088 | 6.000 | |
| getPermSpaceByTxID | 3.373 | 0.047 | 3.720 | |
| getPermSpaceByType | 3.471 | 0.059 | 5.193 | |
| getStopCodon | 7.342 | 0.103 | 9.920 | |
| getTransInfo | 1.653 | 0.070 | 2.285 | |
| overlapCountsTx | 4.513 | 0.082 | 6.079 | |
| overlapCountsTxIA | 10.323 | 0.174 | 13.966 | |
| overlapWidthTx | 9.173 | 0.131 | 12.378 | |
| permTestTx | 23.078 | 0.289 | 31.035 | |
| permTestTxIA | 24.605 | 0.316 | 33.659 | |
| permTestTxIA_customPick | 25.881 | 0.303 | 34.783 | |
| permTestTx_customAll | 18.491 | 0.240 | 24.880 | |
| permTestTx_customPick | 20.026 | 0.245 | 27.695 | |
| plotPermResults | 0.643 | 0.016 | 0.896 | |
| plotShiftedZScoreTx | 0.200 | 0.004 | 0.257 | |
| randomizeFeaturesTx | 7.693 | 0.104 | 10.341 | |
| randomizeFeaturesTxIA | 5.290 | 0.096 | 7.174 | |
| randomizeTransByOrder | 5.031 | 0.066 | 6.754 | |
| randomizeTx | 4.022 | 0.056 | 5.436 | |
| shiftTx | 3.207 | 0.060 | 4.337 | |
| shiftedZScoreTx | 44.947 | 0.816 | 61.550 | |