| Back to Mac ARM64 build report for BioC 3.17 |
|
This page was generated on 2023-10-20 09:38:10 -0400 (Fri, 20 Oct 2023).
| Hostname | OS | Arch (*) | R version | Installed pkgs |
|---|---|---|---|---|
| kjohnson2 | macOS 12.6.1 Monterey | arm64 | 4.3.1 (2023-06-16) -- "Beagle Scouts" | 4347 |
| Click on any hostname to see more info about the system (e.g. compilers) (*) as reported by 'uname -p', except on Windows and Mac OS X | ||||
| Package 1663/2230 | Hostname | OS / Arch | INSTALL | BUILD | CHECK | BUILD BIN | ||||||||
| ReactomeGSA 1.14.0 (landing page) Johannes Griss
| kjohnson2 | macOS 12.6.1 Monterey / arm64 | OK | OK | OK | OK | ||||||||
|
To the developers/maintainers of the ReactomeGSA package: - Use the following Renviron settings to reproduce errors and warnings. - If 'R CMD check' started to fail recently on the Linux builder(s) over a missing dependency, add the missing dependency to 'Suggests:' in your DESCRIPTION file. See Renviron.bioc for more information. |
| Package: ReactomeGSA |
| Version: 1.14.0 |
| Command: /Library/Frameworks/R.framework/Resources/bin/R CMD check --install=check:ReactomeGSA.install-out.txt --library=/Library/Frameworks/R.framework/Resources/library --no-vignettes --timings ReactomeGSA_1.14.0.tar.gz |
| StartedAt: 2023-10-18 17:48:55 -0400 (Wed, 18 Oct 2023) |
| EndedAt: 2023-10-18 18:13:43 -0400 (Wed, 18 Oct 2023) |
| EllapsedTime: 1487.3 seconds |
| RetCode: 0 |
| Status: OK |
| CheckDir: ReactomeGSA.Rcheck |
| Warnings: 0 |
##############################################################################
##############################################################################
###
### Running command:
###
### /Library/Frameworks/R.framework/Resources/bin/R CMD check --install=check:ReactomeGSA.install-out.txt --library=/Library/Frameworks/R.framework/Resources/library --no-vignettes --timings ReactomeGSA_1.14.0.tar.gz
###
##############################################################################
##############################################################################
* using log directory ‘/Users/biocbuild/bbs-3.17-bioc-mac-arm64/meat/ReactomeGSA.Rcheck’
* using R version 4.3.1 (2023-06-16)
* using platform: aarch64-apple-darwin20 (64-bit)
* R was compiled by
Apple clang version 14.0.0 (clang-1400.0.29.202)
GNU Fortran (GCC) 12.2.0
* running under: macOS Monterey 12.6.7
* using session charset: UTF-8
* using option ‘--no-vignettes’
* checking for file ‘ReactomeGSA/DESCRIPTION’ ... OK
* checking extension type ... Package
* this is package ‘ReactomeGSA’ version ‘1.14.0’
* package encoding: UTF-8
* checking package namespace information ... OK
* checking package dependencies ... OK
* checking if this is a source package ... OK
* checking if there is a namespace ... OK
* checking for hidden files and directories ... OK
* checking for portable file names ... OK
* checking for sufficient/correct file permissions ... OK
* checking whether package ‘ReactomeGSA’ can be installed ... OK
* checking installed package size ... OK
* checking package directory ... OK
* checking ‘build’ directory ... OK
* checking DESCRIPTION meta-information ... OK
* checking top-level files ... OK
* checking for left-over files ... OK
* checking index information ... OK
* checking package subdirectories ... OK
* checking R files for non-ASCII characters ... OK
* checking R files for syntax errors ... OK
* checking whether the package can be loaded ... OK
* checking whether the package can be loaded with stated dependencies ... OK
* checking whether the package can be unloaded cleanly ... OK
* checking whether the namespace can be loaded with stated dependencies ... OK
* checking whether the namespace can be unloaded cleanly ... OK
* checking startup messages can be suppressed ... OK
* checking dependencies in R code ... OK
* checking S3 generic/method consistency ... OK
* checking replacement functions ... OK
* checking foreign function calls ... OK
* checking R code for possible problems ... NOTE
plot_correlations,ReactomeAnalysisResult: no visible binding for global
variable ‘combined_sig’
plot_correlations,ReactomeAnalysisResult: no visible binding for global
variable ‘alpha’
plot_gsva_pathway,ReactomeAnalysisResult: no visible binding for global
variable ‘cluster_id’
plot_gsva_pathway,ReactomeAnalysisResult: no visible binding for global
variable ‘expr’
plot_gsva_pca,ReactomeAnalysisResult: no visible binding for global
variable ‘gsva_result’
plot_gsva_pca,ReactomeAnalysisResult: no visible binding for global
variable ‘PC1’
plot_gsva_pca,ReactomeAnalysisResult: no visible binding for global
variable ‘PC2’
plot_heatmap,ReactomeAnalysisResult: no visible global function
definition for ‘desc’
plot_heatmap,ReactomeAnalysisResult: no visible binding for global
variable ‘n_sig’
plot_heatmap,ReactomeAnalysisResult: no visible binding for global
variable ‘dataset’
plot_heatmap,ReactomeAnalysisResult: no visible binding for global
variable ‘Name’
plot_volcano,ReactomeAnalysisResult: no visible binding for global
variable ‘av_foldchange’
plot_volcano,ReactomeAnalysisResult: no visible binding for global
variable ‘FDR’
Undefined global functions or variables:
FDR Name PC1 PC2 alpha av_foldchange cluster_id combined_sig dataset
desc expr gsva_result n_sig
* checking Rd files ... OK
* checking Rd metadata ... OK
* checking Rd cross-references ... OK
* checking for missing documentation entries ... OK
* checking for code/documentation mismatches ... OK
* checking Rd \usage sections ... OK
* checking Rd contents ... OK
* checking for unstated dependencies in examples ... OK
* checking files in ‘vignettes’ ... OK
* checking examples ... OK
Examples with CPU (user + system) or elapsed time > 5s
user system elapsed
plot_gsva_heatmap 56.306 1.664 146.488
plot_gsva_heatmap-ReactomeAnalysisResult-method 56.103 1.781 152.278
plot_gsva_pathway 55.999 1.846 153.946
plot_gsva_pathway-ReactomeAnalysisResult-method 54.630 1.923 145.321
plot_gsva_pca 54.845 1.706 150.372
plot_gsva_pca-ReactomeAnalysisResult-method 54.811 1.651 148.343
analyse_sc_clusters-Seurat-method 53.551 1.633 153.632
analyse_sc_clusters-SingleCellExperiment-method 53.481 1.503 151.470
analyse_sc_clusters 53.137 1.789 149.040
ReactomeAnalysisRequest 4.938 0.373 7.985
perform_reactome_analysis 2.757 0.123 22.980
* checking for unstated dependencies in ‘tests’ ... OK
* checking tests ...
Running ‘testthat.R’
OK
* checking for unstated dependencies in vignettes ... OK
* checking package vignettes in ‘inst/doc’ ... OK
* checking running R code from vignettes ... SKIPPED
* checking re-building of vignette outputs ... SKIPPED
* checking PDF version of manual ... OK
* DONE
Status: 1 NOTE
See
‘/Users/biocbuild/bbs-3.17-bioc-mac-arm64/meat/ReactomeGSA.Rcheck/00check.log’
for details.
ReactomeGSA.Rcheck/00install.out
############################################################################## ############################################################################## ### ### Running command: ### ### /Library/Frameworks/R.framework/Resources/bin/R CMD INSTALL ReactomeGSA ### ############################################################################## ############################################################################## * installing to library ‘/Library/Frameworks/R.framework/Versions/4.3-arm64/Resources/library’ * installing *source* package ‘ReactomeGSA’ ... ** using staged installation ** R ** inst ** byte-compile and prepare package for lazy loading in method for ‘analyse_sc_clusters’ with signature ‘object="Seurat"’: no definition for class “Seurat” in method for ‘analyse_sc_clusters’ with signature ‘object="SingleCellExperiment"’: no definition for class “SingleCellExperiment” in method for ‘add_dataset’ with signature ‘request="ReactomeAnalysisRequest",expression_values="EList"’: no definition for class “EList” in method for ‘add_dataset’ with signature ‘request="ReactomeAnalysisRequest",expression_values="DGEList"’: no definition for class “DGEList” in method for ‘add_dataset’ with signature ‘request="ReactomeAnalysisRequest",expression_values="ExpressionSet"’: no definition for class “ExpressionSet” ** help *** installing help indices ** building package indices ** installing vignettes ** testing if installed package can be loaded from temporary location ** testing if installed package can be loaded from final location ** testing if installed package keeps a record of temporary installation path * DONE (ReactomeGSA)
ReactomeGSA.Rcheck/tests/testthat.Rout
R version 4.3.1 (2023-06-16) -- "Beagle Scouts"
Copyright (C) 2023 The R Foundation for Statistical Computing
Platform: aarch64-apple-darwin20 (64-bit)
R is free software and comes with ABSOLUTELY NO WARRANTY.
You are welcome to redistribute it under certain conditions.
Type 'license()' or 'licence()' for distribution details.
R is a collaborative project with many contributors.
Type 'contributors()' for more information and
'citation()' on how to cite R or R packages in publications.
Type 'demo()' for some demos, 'help()' for on-line help, or
'help.start()' for an HTML browser interface to help.
Type 'q()' to quit R.
> library(testthat)
> library(ReactomeGSA)
>
> test_check("ReactomeGSA")
[ FAIL 0 | WARN 0 | SKIP 0 | PASS 17 ]
>
> proc.time()
user system elapsed
1.366 0.155 2.358
ReactomeGSA.Rcheck/ReactomeGSA-Ex.timings
| name | user | system | elapsed | |
| ReactomeAnalysisRequest | 4.938 | 0.373 | 7.985 | |
| ReactomeAnalysisResult-class | 1.378 | 0.023 | 2.090 | |
| add_dataset-ReactomeAnalysisRequest-DGEList-method | 0.887 | 0.034 | 1.377 | |
| add_dataset-ReactomeAnalysisRequest-EList-method | 0.840 | 0.033 | 1.351 | |
| add_dataset-ReactomeAnalysisRequest-ExpressionSet-method | 0.893 | 0.026 | 1.408 | |
| add_dataset-ReactomeAnalysisRequest-data.frame-method | 0.832 | 0.024 | 1.319 | |
| add_dataset-ReactomeAnalysisRequest-matrix-method | 1.062 | 0.032 | 1.659 | |
| add_dataset | 0.789 | 0.030 | 1.188 | |
| analyse_sc_clusters-Seurat-method | 53.551 | 1.633 | 153.632 | |
| analyse_sc_clusters-SingleCellExperiment-method | 53.481 | 1.503 | 151.470 | |
| analyse_sc_clusters | 53.137 | 1.789 | 149.040 | |
| get_reactome_data_types | 0.057 | 0.010 | 2.001 | |
| get_reactome_methods | 0.097 | 0.016 | 2.932 | |
| get_result-ReactomeAnalysisResult-method | 0.216 | 0.011 | 0.353 | |
| get_result | 0.211 | 0.011 | 0.352 | |
| names-ReactomeAnalysisResult-method | 0.211 | 0.011 | 0.344 | |
| open_reactome-ReactomeAnalysisResult-method | 0.210 | 0.010 | 0.314 | |
| open_reactome | 0.209 | 0.010 | 0.298 | |
| pathways-ReactomeAnalysisResult-method | 1.602 | 0.062 | 2.352 | |
| pathways | 1.465 | 0.022 | 2.002 | |
| perform_reactome_analysis | 2.757 | 0.123 | 22.980 | |
| plot_correlations-ReactomeAnalysisResult-method | 1.619 | 0.027 | 2.524 | |
| plot_correlations | 1.604 | 0.023 | 2.534 | |
| plot_gsva_heatmap-ReactomeAnalysisResult-method | 56.103 | 1.781 | 152.278 | |
| plot_gsva_heatmap | 56.306 | 1.664 | 146.488 | |
| plot_gsva_pathway-ReactomeAnalysisResult-method | 54.630 | 1.923 | 145.321 | |
| plot_gsva_pathway | 55.999 | 1.846 | 153.946 | |
| plot_gsva_pca-ReactomeAnalysisResult-method | 54.811 | 1.651 | 148.343 | |
| plot_gsva_pca | 54.845 | 1.706 | 150.372 | |
| plot_heatmap-ReactomeAnalysisResult-method | 1.951 | 0.071 | 3.065 | |
| plot_heatmap | 2.200 | 0.061 | 3.446 | |
| plot_volcano-ReactomeAnalysisResult-method | 0.222 | 0.010 | 0.366 | |
| plot_volcano | 0.238 | 0.011 | 0.381 | |
| print-ReactomeAnalysisRequest-method | 0.002 | 0.001 | 0.003 | |
| print-ReactomeAnalysisResult-method | 0.212 | 0.011 | 0.335 | |
| reactome_links-ReactomeAnalysisResult-method | 0.215 | 0.011 | 0.331 | |
| reactome_links | 0.215 | 0.011 | 0.349 | |
| result_types-ReactomeAnalysisResult-method | 0.210 | 0.010 | 0.338 | |
| result_types | 0.211 | 0.011 | 0.344 | |
| set_method-ReactomeAnalysisRequest-method | 0.003 | 0.002 | 0.011 | |
| set_method | 0.002 | 0.001 | 0.005 | |
| set_parameters-ReactomeAnalysisRequest-method | 0.002 | 0.000 | 0.005 | |
| set_parameters | 0.002 | 0.000 | 0.003 | |
| show-ReactomeAnalysisRequest-method | 0.002 | 0.000 | 0.002 | |
| show-ReactomeAnalysisResult-method | 0.213 | 0.011 | 0.342 | |