| Back to Mac ARM64 build report for BioC 3.17 |
|
This page was generated on 2023-10-20 09:38:09 -0400 (Fri, 20 Oct 2023).
| Hostname | OS | Arch (*) | R version | Installed pkgs |
|---|---|---|---|---|
| kjohnson2 | macOS 12.6.1 Monterey | arm64 | 4.3.1 (2023-06-16) -- "Beagle Scouts" | 4347 |
| Click on any hostname to see more info about the system (e.g. compilers) (*) as reported by 'uname -p', except on Windows and Mac OS X | ||||
| Package 1633/2230 | Hostname | OS / Arch | INSTALL | BUILD | CHECK | BUILD BIN | ||||||||
| RbcBook1 1.68.0 (landing page) Vince Carey
| kjohnson2 | macOS 12.6.1 Monterey / arm64 | OK | OK | OK | OK | ||||||||
|
To the developers/maintainers of the RbcBook1 package: - Use the following Renviron settings to reproduce errors and warnings. - If 'R CMD check' started to fail recently on the Linux builder(s) over a missing dependency, add the missing dependency to 'Suggests:' in your DESCRIPTION file. See Renviron.bioc for more information. |
| Package: RbcBook1 |
| Version: 1.68.0 |
| Command: /Library/Frameworks/R.framework/Resources/bin/R CMD check --install=check:RbcBook1.install-out.txt --library=/Library/Frameworks/R.framework/Resources/library --no-vignettes --timings RbcBook1_1.68.0.tar.gz |
| StartedAt: 2023-10-18 17:24:28 -0400 (Wed, 18 Oct 2023) |
| EndedAt: 2023-10-18 17:25:23 -0400 (Wed, 18 Oct 2023) |
| EllapsedTime: 55.0 seconds |
| RetCode: 0 |
| Status: OK |
| CheckDir: RbcBook1.Rcheck |
| Warnings: 0 |
##############################################################################
##############################################################################
###
### Running command:
###
### /Library/Frameworks/R.framework/Resources/bin/R CMD check --install=check:RbcBook1.install-out.txt --library=/Library/Frameworks/R.framework/Resources/library --no-vignettes --timings RbcBook1_1.68.0.tar.gz
###
##############################################################################
##############################################################################
* using log directory ‘/Users/biocbuild/bbs-3.17-bioc-mac-arm64/meat/RbcBook1.Rcheck’
* using R version 4.3.1 (2023-06-16)
* using platform: aarch64-apple-darwin20 (64-bit)
* R was compiled by
Apple clang version 14.0.0 (clang-1400.0.29.202)
GNU Fortran (GCC) 12.2.0
* running under: macOS Monterey 12.6.7
* using session charset: UTF-8
* using option ‘--no-vignettes’
* checking for file ‘RbcBook1/DESCRIPTION’ ... OK
* this is package ‘RbcBook1’ version ‘1.68.0’
* checking package namespace information ... OK
* checking package dependencies ... OK
* checking if this is a source package ... OK
* checking if there is a namespace ... OK
* checking for hidden files and directories ... OK
* checking for portable file names ... OK
* checking for sufficient/correct file permissions ... OK
* checking whether package ‘RbcBook1’ can be installed ... OK
* checking installed package size ... NOTE
installed size is 6.5Mb
sub-directories of 1Mb or more:
data 6.4Mb
* checking package directory ... OK
* checking ‘build’ directory ... OK
* checking DESCRIPTION meta-information ... NOTE
Malformed Description field: should contain one or more complete sentences.
* checking top-level files ... OK
* checking for left-over files ... OK
* checking index information ... OK
* checking package subdirectories ... OK
* checking R files for non-ASCII characters ... OK
* checking R files for syntax errors ... OK
* checking whether the package can be loaded ... OK
* checking whether the package can be loaded with stated dependencies ... OK
* checking whether the package can be unloaded cleanly ... OK
* checking whether the namespace can be loaded with stated dependencies ... OK
* checking whether the namespace can be unloaded cleanly ... OK
* checking startup messages can be suppressed ... OK
* checking dependencies in R code ... NOTE
'library' or 'require' call to ‘graph’ which was already attached by Depends.
Please remove these calls from your code.
Packages in Depends field not imported from:
‘Biobase’ ‘graph’ ‘rpart’
These packages need to be imported from (in the NAMESPACE file)
for when this namespace is loaded but not attached.
* checking S3 generic/method consistency ... OK
* checking replacement functions ... OK
* checking foreign function calls ... OK
* checking R code for possible problems ... NOTE
bcSweave: no visible global function definition for
‘Sweave’
remapAff: no visible binding for global variable
‘hgu95av2SYMBOL’
rpart2gNEL: no visible global function definition for
‘new’
rpart2gNEL: no visible global function definition for
‘edgemode<-’
rpart2gNEL: no visible global function definition for
‘addEdge’
Undefined global functions or variables:
Sweave addEdge edgemode<- hgu95av2SYMBOL new
Consider adding
importFrom("methods", "new")
importFrom("utils", "Sweave")
to your NAMESPACE file (and ensure that your DESCRIPTION Imports field
contains 'methods').
* checking Rd files ... NOTE
prepare_Rd: requireAllBook1.Rd:9-10: Dropping empty section \arguments
* checking Rd metadata ... OK
* checking Rd cross-references ... OK
* checking for missing documentation entries ... OK
* checking for code/documentation mismatches ... OK
* checking Rd \usage sections ... OK
* checking Rd contents ... OK
* checking for unstated dependencies in examples ... OK
* checking contents of ‘data’ directory ... OK
* checking data for non-ASCII characters ... OK
* checking data for ASCII and uncompressed saves ... OK
* checking sizes of PDF files under ‘inst/doc’ ... OK
* checking files in ‘vignettes’ ... OK
* checking examples ... OK
* checking for unstated dependencies in vignettes ... OK
* checking package vignettes in ‘inst/doc’ ... OK
* checking running R code from vignettes ... SKIPPED
* checking re-building of vignette outputs ... SKIPPED
* checking PDF version of manual ... OK
* DONE
Status: 5 NOTEs
See
‘/Users/biocbuild/bbs-3.17-bioc-mac-arm64/meat/RbcBook1.Rcheck/00check.log’
for details.
RbcBook1.Rcheck/00install.out
############################################################################## ############################################################################## ### ### Running command: ### ### /Library/Frameworks/R.framework/Resources/bin/R CMD INSTALL RbcBook1 ### ############################################################################## ############################################################################## * installing to library ‘/Library/Frameworks/R.framework/Versions/4.3-arm64/Resources/library’ * installing *source* package ‘RbcBook1’ ... ** using staged installation ** R ** data ** inst ** byte-compile and prepare package for lazy loading ** help *** installing help indices ** building package indices ** installing vignettes ** testing if installed package can be loaded from temporary location ** testing if installed package can be loaded from final location ** testing if installed package keeps a record of temporary installation path * DONE (RbcBook1)
RbcBook1.Rcheck/RbcBook1-Ex.timings
| name | user | system | elapsed | |
| bcStangle | 0 | 0 | 0 | |
| bcSweave | 0.000 | 0.000 | 0.001 | |
| bcr | 0.624 | 0.030 | 0.858 | |
| checkVerbatimLines | 0.013 | 0.003 | 0.024 | |
| imageSize | 0 | 0 | 0 | |
| perf | 0.001 | 0.001 | 0.002 | |
| requireAllBook1 | 0.000 | 0.001 | 0.001 | |
| rpart2gNEL | 0.096 | 0.008 | 0.153 | |