| Back to Mac ARM64 build report for BioC 3.17 |
|
This page was generated on 2023-10-20 09:38:11 -0400 (Fri, 20 Oct 2023).
| Hostname | OS | Arch (*) | R version | Installed pkgs |
|---|---|---|---|---|
| kjohnson2 | macOS 12.6.1 Monterey | arm64 | 4.3.1 (2023-06-16) -- "Beagle Scouts" | 4347 |
| Click on any hostname to see more info about the system (e.g. compilers) (*) as reported by 'uname -p', except on Windows and Mac OS X | ||||
| Package 1760/2230 | Hostname | OS / Arch | INSTALL | BUILD | CHECK | BUILD BIN | ||||||||
| RPA 1.56.0 (landing page) Leo Lahti
| kjohnson2 | macOS 12.6.1 Monterey / arm64 | OK | OK | OK | OK | ||||||||
|
To the developers/maintainers of the RPA package: - Use the following Renviron settings to reproduce errors and warnings. - If 'R CMD check' started to fail recently on the Linux builder(s) over a missing dependency, add the missing dependency to 'Suggests:' in your DESCRIPTION file. See Renviron.bioc for more information. |
| Package: RPA |
| Version: 1.56.0 |
| Command: /Library/Frameworks/R.framework/Resources/bin/R CMD check --install=check:RPA.install-out.txt --library=/Library/Frameworks/R.framework/Resources/library --no-vignettes --timings RPA_1.56.0.tar.gz |
| StartedAt: 2023-10-18 20:25:35 -0400 (Wed, 18 Oct 2023) |
| EndedAt: 2023-10-18 20:29:23 -0400 (Wed, 18 Oct 2023) |
| EllapsedTime: 227.9 seconds |
| RetCode: 0 |
| Status: OK |
| CheckDir: RPA.Rcheck |
| Warnings: 0 |
##############################################################################
##############################################################################
###
### Running command:
###
### /Library/Frameworks/R.framework/Resources/bin/R CMD check --install=check:RPA.install-out.txt --library=/Library/Frameworks/R.framework/Resources/library --no-vignettes --timings RPA_1.56.0.tar.gz
###
##############################################################################
##############################################################################
* using log directory ‘/Users/biocbuild/bbs-3.17-bioc-mac-arm64/meat/RPA.Rcheck’
* using R version 4.3.1 (2023-06-16)
* using platform: aarch64-apple-darwin20 (64-bit)
* R was compiled by
Apple clang version 14.0.0 (clang-1400.0.29.202)
GNU Fortran (GCC) 12.2.0
* running under: macOS Monterey 12.6.7
* using session charset: UTF-8
* using option ‘--no-vignettes’
* checking for file ‘RPA/DESCRIPTION’ ... OK
* checking extension type ... Package
* this is package ‘RPA’ version ‘1.56.0’
* package encoding: UTF-8
* checking package namespace information ... OK
* checking package dependencies ... OK
* checking if this is a source package ... OK
* checking if there is a namespace ... OK
* checking for hidden files and directories ... OK
* checking for portable file names ... OK
* checking for sufficient/correct file permissions ... OK
* checking whether package ‘RPA’ can be installed ... OK
* checking installed package size ... OK
* checking package directory ... OK
* checking ‘build’ directory ... OK
* checking DESCRIPTION meta-information ... OK
* checking top-level files ... OK
* checking for left-over files ... OK
* checking index information ... OK
* checking package subdirectories ... OK
* checking R files for non-ASCII characters ... OK
* checking R files for syntax errors ... OK
* checking whether the package can be loaded ... OK
* checking whether the package can be loaded with stated dependencies ... OK
* checking whether the package can be unloaded cleanly ... OK
* checking whether the namespace can be loaded with stated dependencies ... OK
* checking whether the namespace can be unloaded cleanly ... OK
* checking startup messages can be suppressed ... OK
* checking dependencies in R code ... OK
* checking S3 generic/method consistency ... OK
* checking replacement functions ... OK
* checking foreign function calls ... OK
* checking R code for possible problems ... OK
* checking Rd files ... OK
* checking Rd metadata ... OK
* checking Rd cross-references ... OK
* checking for missing documentation entries ... OK
* checking for code/documentation mismatches ... OK
* checking Rd \usage sections ... OK
* checking Rd contents ... OK
* checking for unstated dependencies in examples ... OK
* checking files in ‘vignettes’ ... OK
* checking examples ... OK
* checking for unstated dependencies in ‘tests’ ... OK
* checking tests ...
Running ‘rpa.R’
OK
* checking for unstated dependencies in vignettes ... OK
* checking package vignettes in ‘inst/doc’ ... OK
* checking running R code from vignettes ... SKIPPED
* checking re-building of vignette outputs ... SKIPPED
* checking PDF version of manual ... OK
* DONE
Status: OK
RPA.Rcheck/00install.out
############################################################################## ############################################################################## ### ### Running command: ### ### /Library/Frameworks/R.framework/Resources/bin/R CMD INSTALL RPA ### ############################################################################## ############################################################################## * installing to library ‘/Library/Frameworks/R.framework/Versions/4.3-arm64/Resources/library’ * installing *source* package ‘RPA’ ... ** using staged installation ** R ** inst ** byte-compile and prepare package for lazy loading ** help *** installing help indices ** building package indices ** installing vignettes ** testing if installed package can be loaded from temporary location ** testing if installed package can be loaded from final location ** testing if installed package keeps a record of temporary installation path * DONE (RPA)
RPA.Rcheck/tests/rpa.Rout
R version 4.3.1 (2023-06-16) -- "Beagle Scouts" Copyright (C) 2023 The R Foundation for Statistical Computing Platform: aarch64-apple-darwin20 (64-bit) R is free software and comes with ABSOLUTELY NO WARRANTY. You are welcome to redistribute it under certain conditions. Type 'license()' or 'licence()' for distribution details. R is a collaborative project with many contributors. Type 'contributors()' for more information and 'citation()' on how to cite R or R packages in publications. Type 'demo()' for some demos, 'help()' for on-line help, or 'help.start()' for an HTML browser interface to help. Type 'q()' to quit R. > #library(affy) > #library(affydata) > #library(RPA) > #data(Dilution) > #eset <- rpa(Dilution) > > proc.time() user system elapsed 0.209 0.063 0.351
RPA.Rcheck/RPA-Ex.timings
| name | user | system | elapsed | |
| RPA-package | 0.000 | 0.000 | 0.001 | |
| RPA.iteration | 0 | 0 | 0 | |
| RPA.preprocess | 0 | 0 | 0 | |
| collect.hyperparameters | 0.000 | 0.000 | 0.001 | |
| d.update.fast | 0 | 0 | 0 | |
| estimate.affinities | 0 | 0 | 0 | |
| estimate.hyperparameters | 0.000 | 0.000 | 0.001 | |
| frpa | 0 | 0 | 0 | |
| get.batches | 0 | 0 | 0 | |
| get.probe.matrix | 0 | 0 | 0 | |
| get.probe.parameters | 0.001 | 0.000 | 0.000 | |
| get.probeset | 0 | 0 | 0 | |
| hyperparameter.update | 0 | 0 | 0 | |
| online.quantile | 0 | 0 | 0 | |
| probe.parameters.tolist | 0.000 | 0.001 | 0.000 | |
| probeplot | 0.001 | 0.000 | 0.000 | |
| probetable | 0.000 | 0.001 | 0.000 | |
| retrieve.probesets | 0.001 | 0.000 | 0.001 | |
| rpa | 0 | 0 | 0 | |
| rpa.complete | 0 | 0 | 0 | |
| rpa.fit | 0 | 0 | 0 | |
| rpa.online | 0 | 0 | 0 | |
| rpa.plot | 0.001 | 0.000 | 0.000 | |
| rpa.summarize | 0 | 0 | 0 | |
| rpaplot | 0.001 | 0.000 | 0.000 | |
| sample.probeset | 0 | 0 | 0 | |
| summarize.batch | 0 | 0 | 0 | |
| summarize.batches | 0 | 0 | 0 | |
| summarize_probedata | 0.000 | 0.000 | 0.001 | |
| updating.hyperparameters | 0 | 0 | 0 | |