| Back to Mac ARM64 build report for BioC 3.17 |
|
This page was generated on 2023-02-17 11:02:12 -0500 (Fri, 17 Feb 2023).
| Hostname | OS | Arch (*) | R version | Installed pkgs |
|---|---|---|---|---|
| kjohnson2 | macOS 12.6.1 Monterey | arm64 | R Under development (unstable) (2023-01-10 r83596) -- "Unsuffered Consequences" | 4204 |
| Click on any hostname to see more info about the system (e.g. compilers) (*) as reported by 'uname -p', except on Windows and Mac OS X | ||||
|
To the developers/maintainers of the RLSeq package: Make sure to use the following settings in order to reproduce any error or warning you see on this page. |
| Package 1680/2164 | Hostname | OS / Arch | INSTALL | BUILD | BUILD BIN | ||||||||
| RLSeq 1.5.2 (landing page) Henry Miller
| kjohnson2 | macOS 12.6.1 Monterey / arm64 | OK | OK | OK | ||||||||
| Package: RLSeq |
| Version: 1.5.2 |
| Command: rm -rf RLSeq.buildbin-libdir && mkdir RLSeq.buildbin-libdir && /Users/biocbuild/BBS/utils/build-universal.sh RLSeq_1.5.2.tar.gz /Library/Frameworks/R.framework/Resources/bin/R RLSeq.buildbin-libdir |
| StartedAt: 2023-02-17 09:12:06 -0500 (Fri, 17 Feb 2023) |
| EndedAt: 2023-02-17 09:13:58 -0500 (Fri, 17 Feb 2023) |
| EllapsedTime: 112.3 seconds |
| RetCode: 0 |
| Status: OK |
| PackageFile: RLSeq_1.5.2.tgz |
| PackageFileSize: 3.87 MiB |
############################################################################## ############################################################################## ### ### Running command: ### ### rm -rf RLSeq.buildbin-libdir && mkdir RLSeq.buildbin-libdir && /Users/biocbuild/BBS/utils/build-universal.sh RLSeq_1.5.2.tar.gz /Library/Frameworks/R.framework/Resources/bin/R RLSeq.buildbin-libdir ### ############################################################################## ############################################################################## >>>>>>> >>>>>>> INSTALLATION WITH 'R CMD INSTALL --preclean --no-multiarch --library=RLSeq.buildbin-libdir RLSeq_1.5.2.tar.gz' >>>>>>> * installing *source* package ‘RLSeq’ ... ** using staged installation ** R ** data ** inst ** byte-compile and prepare package for lazy loading ** help *** installing help indices ** building package indices ** installing vignettes ** testing if installed package can be loaded from temporary location ** testing if installed package can be loaded from final location ** testing if installed package keeps a record of temporary installation path * DONE (RLSeq)