| Back to Mac ARM64 build report for BioC 3.17 |
|
This page was generated on 2023-10-20 09:38:08 -0400 (Fri, 20 Oct 2023).
| Hostname | OS | Arch (*) | R version | Installed pkgs |
|---|---|---|---|---|
| kjohnson2 | macOS 12.6.1 Monterey | arm64 | 4.3.1 (2023-06-16) -- "Beagle Scouts" | 4347 |
| Click on any hostname to see more info about the system (e.g. compilers) (*) as reported by 'uname -p', except on Windows and Mac OS X | ||||
| Package 1515/2230 | Hostname | OS / Arch | INSTALL | BUILD | CHECK | BUILD BIN | ||||||||
| PhyloProfile 1.14.6 (landing page) Vinh Tran
| kjohnson2 | macOS 12.6.1 Monterey / arm64 | OK | OK | OK | OK | ||||||||
|
To the developers/maintainers of the PhyloProfile package: - Use the following Renviron settings to reproduce errors and warnings. - If 'R CMD check' started to fail recently on the Linux builder(s) over a missing dependency, add the missing dependency to 'Suggests:' in your DESCRIPTION file. See Renviron.bioc for more information. |
| Package: PhyloProfile |
| Version: 1.14.6 |
| Command: /Library/Frameworks/R.framework/Resources/bin/R CMD check --install=check:PhyloProfile.install-out.txt --library=/Library/Frameworks/R.framework/Resources/library --no-vignettes --timings PhyloProfile_1.14.6.tar.gz |
| StartedAt: 2023-10-18 14:43:49 -0400 (Wed, 18 Oct 2023) |
| EndedAt: 2023-10-18 14:48:06 -0400 (Wed, 18 Oct 2023) |
| EllapsedTime: 256.2 seconds |
| RetCode: 0 |
| Status: OK |
| CheckDir: PhyloProfile.Rcheck |
| Warnings: 0 |
##############################################################################
##############################################################################
###
### Running command:
###
### /Library/Frameworks/R.framework/Resources/bin/R CMD check --install=check:PhyloProfile.install-out.txt --library=/Library/Frameworks/R.framework/Resources/library --no-vignettes --timings PhyloProfile_1.14.6.tar.gz
###
##############################################################################
##############################################################################
* using log directory ‘/Users/biocbuild/bbs-3.17-bioc-mac-arm64/meat/PhyloProfile.Rcheck’
* using R version 4.3.1 (2023-06-16)
* using platform: aarch64-apple-darwin20 (64-bit)
* R was compiled by
Apple clang version 14.0.0 (clang-1400.0.29.202)
GNU Fortran (GCC) 12.2.0
* running under: macOS Monterey 12.6.7
* using session charset: UTF-8
* using option ‘--no-vignettes’
* checking for file ‘PhyloProfile/DESCRIPTION’ ... OK
* this is package ‘PhyloProfile’ version ‘1.14.6’
* package encoding: UTF-8
* checking package namespace information ... OK
* checking package dependencies ... OK
* checking if this is a source package ... OK
* checking if there is a namespace ... OK
* checking for hidden files and directories ... OK
* checking for portable file names ... OK
* checking for sufficient/correct file permissions ... OK
* checking whether package ‘PhyloProfile’ can be installed ... OK
* checking installed package size ... OK
* checking package directory ... OK
* checking ‘build’ directory ... OK
* checking DESCRIPTION meta-information ... OK
* checking top-level files ... OK
* checking for left-over files ... OK
* checking index information ... OK
* checking package subdirectories ... OK
* checking R files for non-ASCII characters ... OK
* checking R files for syntax errors ... OK
* checking whether the package can be loaded ... OK
* checking whether the package can be loaded with stated dependencies ... OK
* checking whether the package can be unloaded cleanly ... OK
* checking whether the namespace can be loaded with stated dependencies ... OK
* checking whether the namespace can be unloaded cleanly ... OK
* checking dependencies in R code ... OK
* checking S3 generic/method consistency ... OK
* checking replacement functions ... OK
* checking foreign function calls ... OK
* checking R code for possible problems ... OK
* checking Rd files ... OK
* checking Rd metadata ... OK
* checking Rd cross-references ... OK
* checking for missing documentation entries ... OK
* checking for code/documentation mismatches ... OK
* checking Rd \usage sections ... OK
* checking Rd contents ... OK
* checking for unstated dependencies in examples ... OK
* checking contents of ‘data’ directory ... OK
* checking data for non-ASCII characters ... OK
* checking data for ASCII and uncompressed saves ... OK
* checking files in ‘vignettes’ ... OK
* checking examples ... OK
* checking for unstated dependencies in ‘tests’ ... OK
* checking tests ...
Running ‘testthat.R’
OK
* checking for unstated dependencies in vignettes ... OK
* checking package vignettes in ‘inst/doc’ ... OK
* checking running R code from vignettes ... SKIPPED
* checking re-building of vignette outputs ... SKIPPED
* checking PDF version of manual ... OK
* DONE
Status: OK
PhyloProfile.Rcheck/00install.out
############################################################################## ############################################################################## ### ### Running command: ### ### /Library/Frameworks/R.framework/Resources/bin/R CMD INSTALL PhyloProfile ### ############################################################################## ############################################################################## * installing to library ‘/Library/Frameworks/R.framework/Versions/4.3-arm64/Resources/library’ * installing *source* package ‘PhyloProfile’ ... ** using staged installation ** R ** data ** inst ** byte-compile and prepare package for lazy loading ** help *** installing help indices ** building package indices ** installing vignettes ** testing if installed package can be loaded from temporary location ** testing if installed package can be loaded from final location ** testing if installed package keeps a record of temporary installation path * DONE (PhyloProfile)
PhyloProfile.Rcheck/tests/testthat.Rout
R version 4.3.1 (2023-06-16) -- "Beagle Scouts"
Copyright (C) 2023 The R Foundation for Statistical Computing
Platform: aarch64-apple-darwin20 (64-bit)
R is free software and comes with ABSOLUTELY NO WARRANTY.
You are welcome to redistribute it under certain conditions.
Type 'license()' or 'licence()' for distribution details.
R is a collaborative project with many contributors.
Type 'contributors()' for more information and
'citation()' on how to cite R or R packages in publications.
Type 'demo()' for some demos, 'help()' for on-line help, or
'help.start()' for an HTML browser interface to help.
Type 'q()' to quit R.
> library(testthat)
> library(PhyloProfile)
>
> test_check("PhyloProfile")
[ FAIL 0 | WARN 0 | SKIP 0 | PASS 20 ]
>
> proc.time()
user system elapsed
7.556 0.469 12.222
PhyloProfile.Rcheck/PhyloProfile-Ex.timings
| name | user | system | elapsed | |
| calcPresSpec | 0.051 | 0.005 | 0.087 | |
| checkInputValidity | 0.010 | 0.001 | 0.015 | |
| checkNewick | 0.003 | 0.001 | 0.005 | |
| checkOmaID | 0.000 | 0.000 | 0.003 | |
| clusterDataDend | 0.032 | 0.002 | 0.045 | |
| compareMedianTaxonGroups | 0.027 | 0.003 | 0.046 | |
| compareTaxonGroups | 0.037 | 0.004 | 0.064 | |
| createArchiPlot | 1.114 | 0.019 | 1.714 | |
| createGeneAgePlot | 0.230 | 0.022 | 0.386 | |
| createLongMatrix | 0.028 | 0.008 | 0.056 | |
| createPercentageDistributionData | 0.066 | 0.017 | 0.124 | |
| createProfileFromOma | 0.001 | 0.000 | 0.001 | |
| createUnrootedTree | 0.015 | 0.003 | 0.027 | |
| createVarDistPlot | 0.187 | 0.020 | 0.315 | |
| createVariableDistributionData | 0.009 | 0.004 | 0.027 | |
| createVariableDistributionDataSubset | 0.008 | 0.002 | 0.015 | |
| dataCustomizedPlot | 0.022 | 0.003 | 0.036 | |
| dataFeatureTaxGroup | 0.016 | 0.004 | 0.028 | |
| dataMainPlot | 0.024 | 0.009 | 0.055 | |
| dataVarDistTaxGroup | 0.006 | 0.002 | 0.012 | |
| estimateGeneAge | 0.096 | 0.019 | 0.176 | |
| fastaParser | 0.045 | 0.005 | 0.079 | |
| featureDistTaxPlot | 0.238 | 0.010 | 0.378 | |
| filterProfileData | 0.078 | 0.025 | 0.158 | |
| fromInputToProfile | 0.081 | 0.013 | 0.140 | |
| geneAgePlotDf | 0.005 | 0.000 | 0.006 | |
| generateSinglePlot | 0.558 | 0.017 | 0.888 | |
| getAllDomainsOma | 0 | 0 | 0 | |
| getAllFastaOma | 0 | 0 | 0 | |
| getCommonAncestor | 0.035 | 0.004 | 0.063 | |
| getCoreGene | 0.057 | 0.008 | 0.099 | |
| getDataClustering | 0.014 | 0.002 | 0.024 | |
| getDataForOneOma | 0.000 | 0.000 | 0.002 | |
| getDendrogram | 0.044 | 0.003 | 0.075 | |
| getDistanceMatrix | 0.013 | 0.002 | 0.021 | |
| getDomainFolder | 0 | 0 | 0 | |
| getFastaFromFasInput | 0.017 | 0.001 | 0.027 | |
| getFastaFromFile | 0.011 | 0.001 | 0.017 | |
| getFastaFromFolder | 0.008 | 0.001 | 0.017 | |
| getIDsRank | 0.025 | 0.002 | 0.048 | |
| getInputTaxaID | 0.002 | 0.001 | 0.006 | |
| getInputTaxaName | 0.011 | 0.002 | 0.019 | |
| getNameList | 0.022 | 0.018 | 0.062 | |
| getOmaDataForOneOrtholog | 0 | 0 | 0 | |
| getOmaDomainFromURL | 0 | 0 | 0 | |
| getOmaMembers | 0 | 0 | 0 | |
| getQualColForVector | 0.000 | 0.000 | 0.001 | |
| getSelectedFastaOma | 0 | 0 | 0 | |
| getSelectedTaxonNames | 0.017 | 0.004 | 0.032 | |
| getTaxonomyInfo | 0.012 | 0.002 | 0.021 | |
| getTaxonomyMatrix | 0.098 | 0.073 | 0.259 | |
| getTaxonomyRanks | 0 | 0 | 0 | |
| gridArrangeSharedLegend | 0.669 | 0.012 | 1.042 | |
| heatmapPlotting | 0.377 | 0.006 | 0.592 | |
| highlightProfilePlot | 0.412 | 0.006 | 0.642 | |
| mainTaxonomyRank | 0.001 | 0.001 | 0.003 | |
| pairDomainPlotting | 0.000 | 0.001 | 0.000 | |
| parseDomainInput | 0.017 | 0.010 | 0.042 | |
| parseInfoProfile | 0.056 | 0.018 | 0.116 | |
| processNcbiTaxonomy | 0.099 | 0.062 | 0.287 | |
| processOrthoID | 0.089 | 0.038 | 0.231 | |
| qualitativeColours | 0 | 0 | 0 | |
| rankIndexing | 0 | 0 | 0 | |
| reduceProfile | 0.016 | 0.006 | 0.034 | |
| runPhyloProfile | 0.083 | 0.037 | 0.211 | |
| singleDomainPlotting | 0 | 0 | 0 | |
| sortDomains | 0.000 | 0.001 | 0.000 | |
| sortInputTaxa | 0.032 | 0.006 | 0.057 | |
| sortTaxaFromTree | 0.013 | 0.001 | 0.023 | |
| taxonomyTableCreator | 0.114 | 0.007 | 0.185 | |
| varDistTaxPlot | 0.892 | 0.014 | 1.391 | |
| wideToLong | 0.017 | 0.006 | 0.038 | |
| xmlParser | 0.019 | 0.003 | 0.041 | |