| Back to Mac ARM64 build report for BioC 3.17 | 
 | 
This page was generated on 2023-10-20 09:38:08 -0400 (Fri, 20 Oct 2023).
| Hostname | OS | Arch (*) | R version | Installed pkgs | 
|---|---|---|---|---|
| kjohnson2 | macOS 12.6.1 Monterey | arm64 | 4.3.1 (2023-06-16) -- "Beagle Scouts" | 4347 | 
| Click on any hostname to see more info about the system (e.g. compilers) (*) as reported by 'uname -p', except on Windows and Mac OS X | ||||
| Package 1466/2230 | Hostname | OS / Arch | INSTALL | BUILD | CHECK | BUILD BIN | ||||||||
| PanomiR 1.4.0  (landing page) Pourya Naderi 
 | kjohnson2 | macOS 12.6.1 Monterey / arm64 | OK | OK | OK | OK |  | |||||||
| To the developers/maintainers of the PanomiR package: - Use the following Renviron settings to reproduce errors and warnings. - If 'R CMD check' started to fail recently on the Linux builder(s) over a missing dependency, add the missing dependency to 'Suggests:' in your DESCRIPTION file. See Renviron.bioc for more information. | 
| Package: PanomiR | 
| Version: 1.4.0 | 
| Command: /Library/Frameworks/R.framework/Resources/bin/R CMD check --install=check:PanomiR.install-out.txt --library=/Library/Frameworks/R.framework/Resources/library --no-vignettes --timings PanomiR_1.4.0.tar.gz | 
| StartedAt: 2023-10-18 13:30:24 -0400 (Wed, 18 Oct 2023) | 
| EndedAt: 2023-10-18 13:32:18 -0400 (Wed, 18 Oct 2023) | 
| EllapsedTime: 114.2 seconds | 
| RetCode: 0 | 
| Status: OK | 
| CheckDir: PanomiR.Rcheck | 
| Warnings: 0 | 
##############################################################################
##############################################################################
###
### Running command:
###
###   /Library/Frameworks/R.framework/Resources/bin/R CMD check --install=check:PanomiR.install-out.txt --library=/Library/Frameworks/R.framework/Resources/library --no-vignettes --timings PanomiR_1.4.0.tar.gz
###
##############################################################################
##############################################################################
* using log directory ‘/Users/biocbuild/bbs-3.17-bioc-mac-arm64/meat/PanomiR.Rcheck’
* using R version 4.3.1 (2023-06-16)
* using platform: aarch64-apple-darwin20 (64-bit)
* R was compiled by
    Apple clang version 14.0.0 (clang-1400.0.29.202)
    GNU Fortran (GCC) 12.2.0
* running under: macOS Monterey 12.6.7
* using session charset: UTF-8
* using option ‘--no-vignettes’
* checking for file ‘PanomiR/DESCRIPTION’ ... OK
* this is package ‘PanomiR’ version ‘1.4.0’
* package encoding: UTF-8
* checking package namespace information ... OK
* checking package dependencies ... OK
* checking if this is a source package ... OK
* checking if there is a namespace ... OK
* checking for hidden files and directories ... OK
* checking for portable file names ... OK
* checking for sufficient/correct file permissions ... OK
* checking whether package ‘PanomiR’ can be installed ... OK
* checking installed package size ... OK
* checking package directory ... OK
* checking ‘build’ directory ... OK
* checking DESCRIPTION meta-information ... OK
* checking top-level files ... OK
* checking for left-over files ... OK
* checking index information ... OK
* checking package subdirectories ... OK
* checking R files for non-ASCII characters ... OK
* checking R files for syntax errors ... OK
* checking whether the package can be loaded ... OK
* checking whether the package can be loaded with stated dependencies ... OK
* checking whether the package can be unloaded cleanly ... OK
* checking whether the namespace can be loaded with stated dependencies ... OK
* checking whether the namespace can be unloaded cleanly ... OK
* checking dependencies in R code ... OK
* checking S3 generic/method consistency ... OK
* checking replacement functions ... OK
* checking foreign function calls ... OK
* checking R code for possible problems ... OK
* checking Rd files ... OK
* checking Rd metadata ... OK
* checking Rd cross-references ... OK
* checking for missing documentation entries ... OK
* checking for code/documentation mismatches ... OK
* checking Rd \usage sections ... OK
* checking Rd contents ... OK
* checking for unstated dependencies in examples ... OK
* checking contents of ‘data’ directory ... OK
* checking data for non-ASCII characters ... OK
* checking data for ASCII and uncompressed saves ... OK
* checking files in ‘vignettes’ ... OK
* checking examples ... OK
Examples with CPU (user + system) or elapsed time > 5s
                user system elapsed
pathwayGeneTab 8.814  0.394  13.134
* checking for unstated dependencies in ‘tests’ ... OK
* checking tests ...
  Running ‘testthat.R’
 OK
* checking for unstated dependencies in vignettes ... OK
* checking package vignettes in ‘inst/doc’ ... OK
* checking running R code from vignettes ... SKIPPED
* checking re-building of vignette outputs ... SKIPPED
* checking PDF version of manual ... OK
* DONE
Status: OK
PanomiR.Rcheck/00install.out
############################################################################## ############################################################################## ### ### Running command: ### ### /Library/Frameworks/R.framework/Resources/bin/R CMD INSTALL PanomiR ### ############################################################################## ############################################################################## * installing to library ‘/Library/Frameworks/R.framework/Versions/4.3-arm64/Resources/library’ * installing *source* package ‘PanomiR’ ... ** using staged installation ** R ** data ** byte-compile and prepare package for lazy loading ** help *** installing help indices ** building package indices ** installing vignettes ** testing if installed package can be loaded from temporary location ** testing if installed package can be loaded from final location ** testing if installed package keeps a record of temporary installation path * DONE (PanomiR)
PanomiR.Rcheck/tests/testthat.Rout
R version 4.3.1 (2023-06-16) -- "Beagle Scouts"
Copyright (C) 2023 The R Foundation for Statistical Computing
Platform: aarch64-apple-darwin20 (64-bit)
R is free software and comes with ABSOLUTELY NO WARRANTY.
You are welcome to redistribute it under certain conditions.
Type 'license()' or 'licence()' for distribution details.
R is a collaborative project with many contributors.
Type 'contributors()' for more information and
'citation()' on how to cite R or R packages in publications.
Type 'demo()' for some demos, 'help()' for on-line help, or
'help.start()' for an HTML browser interface to help.
Type 'q()' to quit R.
> library(testthat)
> library(PanomiR)
> 
> test_check("PanomiR")
'select()' returned 1:1 mapping between keys and columns
'select()' returned 1:1 mapping between keys and columns
[ FAIL 0 | WARN 1 | SKIP 0 | PASS 6 ]
[ FAIL 0 | WARN 1 | SKIP 0 | PASS 6 ]
> 
> proc.time()
   user  system elapsed 
  9.174   0.539  13.977 
PanomiR.Rcheck/PanomiR-Ex.timings
| name | user | system | elapsed | |
| clusterPlot | 1.339 | 0.048 | 1.994 | |
| differentialPathwayAnalysis | 2.277 | 0.190 | 3.589 | |
| getDesignMatrix | 0.010 | 0.011 | 0.029 | |
| gscExample | 0.002 | 0.001 | 0.005 | |
| linColumnFinder | 0.005 | 0.001 | 0.011 | |
| mappingPathwaysClusters | 0.607 | 0.018 | 0.822 | |
| miRNAPathwayEnrichment | 0.537 | 0.016 | 0.845 | |
| miniTestsPanomiR | 0.502 | 0.008 | 0.781 | |
| msigdb_c2 | 0.129 | 0.004 | 0.197 | |
| path_gene_table | 0.447 | 0.006 | 0.672 | |
| pathwayGeneTab | 8.814 | 0.394 | 13.134 | |
| pathwaySummary | 0.036 | 0.002 | 0.063 | |
| prioritizeMicroRNA | 3.131 | 0.092 | 4.790 | |
| reportEnrichment | 0.528 | 0.010 | 0.745 | |
| tableFromGSC | 1.188 | 0.036 | 1.784 | |
| targetScan_03 | 0.356 | 0.006 | 0.463 | |