| Back to Mac ARM64 build report for BioC 3.17 |
|
This page was generated on 2023-10-20 09:38:08 -0400 (Fri, 20 Oct 2023).
| Hostname | OS | Arch (*) | R version | Installed pkgs |
|---|---|---|---|---|
| kjohnson2 | macOS 12.6.1 Monterey | arm64 | 4.3.1 (2023-06-16) -- "Beagle Scouts" | 4347 |
| Click on any hostname to see more info about the system (e.g. compilers) (*) as reported by 'uname -p', except on Windows and Mac OS X | ||||
| Package 1485/2230 | Hostname | OS / Arch | INSTALL | BUILD | CHECK | BUILD BIN | ||||||||
| PCAN 1.28.0 (landing page) Matthew Page
| kjohnson2 | macOS 12.6.1 Monterey / arm64 | OK | OK | OK | OK | ||||||||
|
To the developers/maintainers of the PCAN package: - Use the following Renviron settings to reproduce errors and warnings. - If 'R CMD check' started to fail recently on the Linux builder(s) over a missing dependency, add the missing dependency to 'Suggests:' in your DESCRIPTION file. See Renviron.bioc for more information. |
| Package: PCAN |
| Version: 1.28.0 |
| Command: /Library/Frameworks/R.framework/Resources/bin/R CMD check --install=check:PCAN.install-out.txt --library=/Library/Frameworks/R.framework/Resources/library --no-vignettes --timings PCAN_1.28.0.tar.gz |
| StartedAt: 2023-10-18 13:50:00 -0400 (Wed, 18 Oct 2023) |
| EndedAt: 2023-10-18 13:57:14 -0400 (Wed, 18 Oct 2023) |
| EllapsedTime: 434.5 seconds |
| RetCode: 0 |
| Status: OK |
| CheckDir: PCAN.Rcheck |
| Warnings: 0 |
##############################################################################
##############################################################################
###
### Running command:
###
### /Library/Frameworks/R.framework/Resources/bin/R CMD check --install=check:PCAN.install-out.txt --library=/Library/Frameworks/R.framework/Resources/library --no-vignettes --timings PCAN_1.28.0.tar.gz
###
##############################################################################
##############################################################################
* using log directory ‘/Users/biocbuild/bbs-3.17-bioc-mac-arm64/meat/PCAN.Rcheck’
* using R version 4.3.1 (2023-06-16)
* using platform: aarch64-apple-darwin20 (64-bit)
* R was compiled by
Apple clang version 14.0.0 (clang-1400.0.29.202)
GNU Fortran (GCC) 12.2.0
* running under: macOS Monterey 12.6.7
* using session charset: UTF-8
* using option ‘--no-vignettes’
* checking for file ‘PCAN/DESCRIPTION’ ... OK
* this is package ‘PCAN’ version ‘1.28.0’
* checking package namespace information ... OK
* checking package dependencies ... OK
* checking if this is a source package ... OK
* checking if there is a namespace ... OK
* checking for hidden files and directories ... OK
* checking for portable file names ... OK
* checking for sufficient/correct file permissions ... OK
* checking whether package ‘PCAN’ can be installed ... OK
* checking installed package size ... OK
* checking package directory ... OK
* checking ‘build’ directory ... OK
* checking DESCRIPTION meta-information ... OK
* checking top-level files ... OK
* checking for left-over files ... OK
* checking index information ... OK
* checking package subdirectories ... OK
* checking R files for non-ASCII characters ... OK
* checking R files for syntax errors ... OK
* checking whether the package can be loaded ... OK
* checking whether the package can be loaded with stated dependencies ... OK
* checking whether the package can be unloaded cleanly ... OK
* checking whether the namespace can be loaded with stated dependencies ... OK
* checking whether the namespace can be unloaded cleanly ... OK
* checking dependencies in R code ... OK
* checking S3 generic/method consistency ... OK
* checking replacement functions ... OK
* checking foreign function calls ... OK
* checking R code for possible problems ... OK
* checking Rd files ... OK
* checking Rd metadata ... OK
* checking Rd cross-references ... OK
* checking for missing documentation entries ... OK
* checking for code/documentation mismatches ... OK
* checking Rd \usage sections ... OK
* checking Rd contents ... OK
* checking for unstated dependencies in examples ... OK
* checking contents of ‘data’ directory ... OK
* checking data for non-ASCII characters ... OK
* checking data for ASCII and uncompressed saves ... OK
* checking files in ‘vignettes’ ... OK
* checking examples ... OK
Examples with CPU (user + system) or elapsed time > 5s
user system elapsed
hpGeneListComp 71.399 3.026 112.316
hpGeneHeatmap 70.600 3.019 110.445
compareHPSets 69.472 3.176 110.650
* checking for unstated dependencies in vignettes ... OK
* checking package vignettes in ‘inst/doc’ ... OK
* checking running R code from vignettes ... SKIPPED
* checking re-building of vignette outputs ... SKIPPED
* checking PDF version of manual ... OK
* DONE
Status: OK
PCAN.Rcheck/00install.out
############################################################################## ############################################################################## ### ### Running command: ### ### /Library/Frameworks/R.framework/Resources/bin/R CMD INSTALL PCAN ### ############################################################################## ############################################################################## * installing to library ‘/Library/Frameworks/R.framework/Versions/4.3-arm64/Resources/library’ * installing *source* package ‘PCAN’ ... ** using staged installation ** R ** data ** inst ** byte-compile and prepare package for lazy loading ** help *** installing help indices ** building package indices ** installing vignettes ** testing if installed package can be loaded from temporary location ** testing if installed package can be loaded from final location ** testing if installed package keeps a record of temporary installation path * DONE (PCAN)
PCAN.Rcheck/PCAN-Ex.timings
| name | user | system | elapsed | |
| calcHpSim | 2.062 | 0.201 | 3.137 | |
| compareHPSets | 69.472 | 3.176 | 110.650 | |
| computeHpIC | 2.013 | 0.120 | 3.096 | |
| geneByHp | 2.108 | 0.098 | 3.204 | |
| geneByTrait | 0.046 | 0.005 | 0.073 | |
| geneDef | 3.114 | 0.190 | 4.626 | |
| hpByTrait | 2.972 | 0.174 | 4.604 | |
| hpDef | 2.137 | 0.114 | 3.407 | |
| hpGeneHeatmap | 70.600 | 3.019 | 110.445 | |
| hpGeneListComp | 71.399 | 3.026 | 112.316 | |
| hpSetCompBestMatch | 2.908 | 0.211 | 4.784 | |
| hpSetCompSummary | 2.921 | 0.207 | 4.750 | |
| hp_ancestors | 2.066 | 0.139 | 3.341 | |
| hp_class | 0.050 | 0.005 | 0.083 | |
| hp_descendants | 1.966 | 0.124 | 3.181 | |
| hqStrNw | 0.000 | 0.000 | 0.001 | |
| hsEntrezByRPath | 0 | 0 | 0 | |
| rPath | 0 | 0 | 0 | |
| traitDef | 3.059 | 0.155 | 4.900 | |