| Back to Mac ARM64 build report for BioC 3.17 |
|
This page was generated on 2023-10-20 09:38:08 -0400 (Fri, 20 Oct 2023).
| Hostname | OS | Arch (*) | R version | Installed pkgs |
|---|---|---|---|---|
| kjohnson2 | macOS 12.6.1 Monterey | arm64 | 4.3.1 (2023-06-16) -- "Beagle Scouts" | 4347 |
| Click on any hostname to see more info about the system (e.g. compilers) (*) as reported by 'uname -p', except on Windows and Mac OS X | ||||
| Package 1468/2230 | Hostname | OS / Arch | INSTALL | BUILD | CHECK | BUILD BIN | ||||||||
| PANR 1.46.0 (landing page) Xin Wang
| kjohnson2 | macOS 12.6.1 Monterey / arm64 | OK | OK | OK | OK | ||||||||
|
To the developers/maintainers of the PANR package: - Use the following Renviron settings to reproduce errors and warnings. - If 'R CMD check' started to fail recently on the Linux builder(s) over a missing dependency, add the missing dependency to 'Suggests:' in your DESCRIPTION file. See Renviron.bioc for more information. |
| Package: PANR |
| Version: 1.46.0 |
| Command: /Library/Frameworks/R.framework/Resources/bin/R CMD check --install=check:PANR.install-out.txt --library=/Library/Frameworks/R.framework/Resources/library --no-vignettes --timings PANR_1.46.0.tar.gz |
| StartedAt: 2023-10-18 13:32:53 -0400 (Wed, 18 Oct 2023) |
| EndedAt: 2023-10-18 13:34:15 -0400 (Wed, 18 Oct 2023) |
| EllapsedTime: 81.6 seconds |
| RetCode: 0 |
| Status: OK |
| CheckDir: PANR.Rcheck |
| Warnings: 0 |
##############################################################################
##############################################################################
###
### Running command:
###
### /Library/Frameworks/R.framework/Resources/bin/R CMD check --install=check:PANR.install-out.txt --library=/Library/Frameworks/R.framework/Resources/library --no-vignettes --timings PANR_1.46.0.tar.gz
###
##############################################################################
##############################################################################
* using log directory ‘/Users/biocbuild/bbs-3.17-bioc-mac-arm64/meat/PANR.Rcheck’
* using R version 4.3.1 (2023-06-16)
* using platform: aarch64-apple-darwin20 (64-bit)
* R was compiled by
Apple clang version 14.0.0 (clang-1400.0.29.202)
GNU Fortran (GCC) 12.2.0
* running under: macOS Monterey 12.6.7
* using session charset: UTF-8
* using option ‘--no-vignettes’
* checking for file ‘PANR/DESCRIPTION’ ... OK
* checking extension type ... Package
* this is package ‘PANR’ version ‘1.46.0’
* checking package namespace information ... OK
* checking package dependencies ... OK
* checking if this is a source package ... OK
* checking if there is a namespace ... OK
* checking for hidden files and directories ... OK
* checking for portable file names ... OK
* checking for sufficient/correct file permissions ... OK
* checking whether package ‘PANR’ can be installed ... OK
* checking installed package size ... OK
* checking package directory ... OK
* checking ‘build’ directory ... OK
* checking DESCRIPTION meta-information ... OK
* checking top-level files ... OK
* checking for left-over files ... OK
* checking index information ... OK
* checking package subdirectories ... OK
* checking R files for non-ASCII characters ... OK
* checking R files for syntax errors ... OK
* checking whether the package can be loaded ... OK
* checking whether the package can be loaded with stated dependencies ... OK
* checking whether the package can be unloaded cleanly ... OK
* checking whether the namespace can be loaded with stated dependencies ... OK
* checking whether the namespace can be unloaded cleanly ... OK
* checking dependencies in R code ... OK
* checking S3 generic/method consistency ... OK
* checking replacement functions ... OK
* checking foreign function calls ... OK
* checking R code for possible problems ... NOTE
SNR2p,BetaMixture-numeric_Or_integer: no visible global function
definition for ‘runif’
SNR2p,BetaMixture-numeric_Or_integer: no visible global function
definition for ‘pbeta’
p2SNR,BetaMixture-numeric_Or_integer: no visible global function
definition for ‘qbeta’
Undefined global functions or variables:
pbeta qbeta runif
Consider adding
importFrom("stats", "pbeta", "qbeta", "runif")
to your NAMESPACE file.
* checking Rd files ... OK
* checking Rd metadata ... OK
* checking Rd cross-references ... OK
* checking for missing documentation entries ... OK
* checking for code/documentation mismatches ... OK
* checking Rd \usage sections ... OK
* checking Rd contents ... OK
* checking for unstated dependencies in examples ... OK
* checking contents of ‘data’ directory ... OK
* checking data for non-ASCII characters ... OK
* checking data for ASCII and uncompressed saves ... OK
* checking sizes of PDF files under ‘inst/doc’ ... OK
* checking files in ‘vignettes’ ... OK
* checking examples ... OK
Examples with CPU (user + system) or elapsed time > 5s
user system elapsed
fitNULL 19 0.184 25.362
* checking for unstated dependencies in vignettes ... OK
* checking package vignettes in ‘inst/doc’ ... OK
* checking running R code from vignettes ... SKIPPED
* checking re-building of vignette outputs ... SKIPPED
* checking PDF version of manual ... OK
* DONE
Status: 1 NOTE
See
‘/Users/biocbuild/bbs-3.17-bioc-mac-arm64/meat/PANR.Rcheck/00check.log’
for details.
PANR.Rcheck/00install.out
############################################################################## ############################################################################## ### ### Running command: ### ### /Library/Frameworks/R.framework/Resources/bin/R CMD INSTALL PANR ### ############################################################################## ############################################################################## * installing to library ‘/Library/Frameworks/R.framework/Versions/4.3-arm64/Resources/library’ * installing *source* package ‘PANR’ ... ** using staged installation ** R ** data ** inst ** byte-compile and prepare package for lazy loading ** help *** installing help indices ** building package indices ** installing vignettes ** testing if installed package can be loaded from temporary location ** testing if installed package can be loaded from final location ** testing if installed package keeps a record of temporary installation path * DONE (PANR)
PANR.Rcheck/PANR-Ex.timings
| name | user | system | elapsed | |
| BetaMixture-class | 0 | 0 | 0 | |
| PAN-class | 0.000 | 0.000 | 0.001 | |
| SNR2p | 0.000 | 0.000 | 0.001 | |
| assoScore | 0.006 | 0.000 | 0.010 | |
| buildPAN | 0.364 | 0.026 | 0.596 | |
| cosineSim | 0.002 | 0.000 | 0.003 | |
| data-Bakal2007 | 0.015 | 0.003 | 0.027 | |
| exportPAN | 0 | 0 | 0 | |
| fitBM | 0 | 0 | 0 | |
| fitNULL | 19.000 | 0.184 | 25.362 | |
| infer | 0.264 | 0.006 | 0.401 | |
| p2SNR | 0 | 0 | 0 | |
| permNULL | 0.014 | 0.002 | 0.024 | |
| pvclustModule | 0.000 | 0.001 | 0.004 | |
| sigModules | 0 | 0 | 0 | |
| summarize | 0.030 | 0.002 | 0.045 | |
| view | 0.210 | 0.014 | 0.338 | |
| viewLegend | 0 | 0 | 0 | |
| viewNestedModules | 0 | 0 | 0 | |
| viewPAN | 0 | 0 | 0 | |