| Back to Mac ARM64 build report for BioC 3.17 |
|
This page was generated on 2023-10-20 09:38:08 -0400 (Fri, 20 Oct 2023).
| Hostname | OS | Arch (*) | R version | Installed pkgs |
|---|---|---|---|---|
| kjohnson2 | macOS 12.6.1 Monterey | arm64 | 4.3.1 (2023-06-16) -- "Beagle Scouts" | 4347 |
| Click on any hostname to see more info about the system (e.g. compilers) (*) as reported by 'uname -p', except on Windows and Mac OS X | ||||
| Package 1415/2230 | Hostname | OS / Arch | INSTALL | BUILD | CHECK | BUILD BIN | ||||||||
| OmaDB 2.16.0 (landing page) Klara Kaleb
| kjohnson2 | macOS 12.6.1 Monterey / arm64 | OK | OK | OK | OK | ||||||||
|
To the developers/maintainers of the OmaDB package: - Use the following Renviron settings to reproduce errors and warnings. - If 'R CMD check' started to fail recently on the Linux builder(s) over a missing dependency, add the missing dependency to 'Suggests:' in your DESCRIPTION file. See Renviron.bioc for more information. |
| Package: OmaDB |
| Version: 2.16.0 |
| Command: /Library/Frameworks/R.framework/Resources/bin/R CMD check --install=check:OmaDB.install-out.txt --library=/Library/Frameworks/R.framework/Resources/library --no-vignettes --timings OmaDB_2.16.0.tar.gz |
| StartedAt: 2023-10-18 12:16:07 -0400 (Wed, 18 Oct 2023) |
| EndedAt: 2023-10-18 12:27:39 -0400 (Wed, 18 Oct 2023) |
| EllapsedTime: 692.2 seconds |
| RetCode: 0 |
| Status: OK |
| CheckDir: OmaDB.Rcheck |
| Warnings: 0 |
##############################################################################
##############################################################################
###
### Running command:
###
### /Library/Frameworks/R.framework/Resources/bin/R CMD check --install=check:OmaDB.install-out.txt --library=/Library/Frameworks/R.framework/Resources/library --no-vignettes --timings OmaDB_2.16.0.tar.gz
###
##############################################################################
##############################################################################
* using log directory ‘/Users/biocbuild/bbs-3.17-bioc-mac-arm64/meat/OmaDB.Rcheck’
* using R version 4.3.1 (2023-06-16)
* using platform: aarch64-apple-darwin20 (64-bit)
* R was compiled by
Apple clang version 14.0.0 (clang-1400.0.29.202)
GNU Fortran (GCC) 12.2.0
* running under: macOS Monterey 12.6.7
* using session charset: UTF-8
* using option ‘--no-vignettes’
* checking for file ‘OmaDB/DESCRIPTION’ ... OK
* this is package ‘OmaDB’ version ‘2.16.0’
* package encoding: UTF-8
* checking package namespace information ... OK
* checking package dependencies ... OK
* checking if this is a source package ... OK
* checking if there is a namespace ... OK
* checking for hidden files and directories ... OK
* checking for portable file names ... OK
* checking for sufficient/correct file permissions ... OK
* checking whether package ‘OmaDB’ can be installed ... OK
* checking installed package size ... OK
* checking package directory ... OK
* checking ‘build’ directory ... OK
* checking DESCRIPTION meta-information ... OK
* checking top-level files ... OK
* checking for left-over files ... OK
* checking index information ... OK
* checking package subdirectories ... OK
* checking R files for non-ASCII characters ... OK
* checking R files for syntax errors ... OK
* checking whether the package can be loaded ... OK
* checking whether the package can be loaded with stated dependencies ... OK
* checking whether the package can be unloaded cleanly ... OK
* checking whether the namespace can be loaded with stated dependencies ... OK
* checking whether the namespace can be unloaded cleanly ... OK
* checking dependencies in R code ... OK
* checking S3 generic/method consistency ... OK
* checking replacement functions ... OK
* checking foreign function calls ... OK
* checking R code for possible problems ... OK
* checking Rd files ... OK
* checking Rd metadata ... OK
* checking Rd cross-references ... OK
* checking for missing documentation entries ... OK
* checking for code/documentation mismatches ... OK
* checking Rd \usage sections ... OK
* checking Rd contents ... OK
* checking for unstated dependencies in examples ... OK
* checking contents of ‘data’ directory ... OK
* checking data for non-ASCII characters ... OK
* checking LazyData ... OK
* checking data for ASCII and uncompressed saves ... OK
* checking files in ‘vignettes’ ... OK
* checking examples ... OK
Examples with CPU (user + system) or elapsed time > 5s
user system elapsed
getGenome 207.444 2.751 400.038
getGenomePairs 18.797 0.809 35.165
getOMAGroup 2.195 0.121 10.005
mapSequence 1.279 0.076 6.831
getProtein 0.203 0.008 5.827
* checking for unstated dependencies in ‘tests’ ... OK
* checking tests ...
Running ‘testthat.R’
OK
* checking for unstated dependencies in vignettes ... OK
* checking package vignettes in ‘inst/doc’ ... OK
* checking running R code from vignettes ... SKIPPED
* checking re-building of vignette outputs ... SKIPPED
* checking PDF version of manual ... OK
* DONE
Status: OK
OmaDB.Rcheck/00install.out
############################################################################## ############################################################################## ### ### Running command: ### ### /Library/Frameworks/R.framework/Resources/bin/R CMD INSTALL OmaDB ### ############################################################################## ############################################################################## * installing to library ‘/Library/Frameworks/R.framework/Versions/4.3-arm64/Resources/library’ * installing *source* package ‘OmaDB’ ... ** using staged installation ** R ** data *** moving datasets to lazyload DB ** inst ** byte-compile and prepare package for lazy loading ** help *** installing help indices ** building package indices ** installing vignettes ** testing if installed package can be loaded from temporary location ** testing if installed package can be loaded from final location ** testing if installed package keeps a record of temporary installation path * DONE (OmaDB)
OmaDB.Rcheck/tests/testthat.Rout
R version 4.3.1 (2023-06-16) -- "Beagle Scouts"
Copyright (C) 2023 The R Foundation for Statistical Computing
Platform: aarch64-apple-darwin20 (64-bit)
R is free software and comes with ABSOLUTELY NO WARRANTY.
You are welcome to redistribute it under certain conditions.
Type 'license()' or 'licence()' for distribution details.
R is a collaborative project with many contributors.
Type 'contributors()' for more information and
'citation()' on how to cite R or R packages in publications.
Type 'demo()' for some demos, 'help()' for on-line help, or
'help.start()' for an HTML browser interface to help.
Type 'q()' to quit R.
> library(testthat)
>
> test_that("Testing the URL validity", {
+ expect_equal(httr::status_code(httr::GET("https://omabrowser.org/api")), 200 ) #checking that the server is live and accesible
+
+ })
Test passed 🌈
>
>
>
>
> proc.time()
user system elapsed
1.238 0.162 3.551
OmaDB.Rcheck/OmaDB-Ex.timings
| name | user | system | elapsed | |
| annotateSequence | 0.160 | 0.060 | 2.113 | |
| formatTopGO | 0.099 | 0.003 | 4.832 | |
| getAttribute | 0.426 | 0.046 | 2.339 | |
| getGenome | 207.444 | 2.751 | 400.038 | |
| getGenomePairs | 18.797 | 0.809 | 35.165 | |
| getHOG | 0.113 | 0.007 | 0.865 | |
| getLocus | 0.450 | 0.005 | 2.208 | |
| getOMAGroup | 2.195 | 0.121 | 10.005 | |
| getObjectAttributes | 0.414 | 0.005 | 1.971 | |
| getProtein | 0.203 | 0.008 | 5.827 | |
| getTaxonomy | 0.079 | 0.002 | 0.864 | |
| getTopGO | 1.248 | 0.043 | 4.822 | |
| getTree | 0.010 | 0.000 | 0.184 | |
| getVersion | 0.008 | 0.000 | 0.126 | |
| mapSequence | 1.279 | 0.076 | 6.831 | |
| resolveURL | 0.060 | 0.007 | 0.468 | |
| searchProtein | 0.008 | 0.001 | 0.398 | |