| Back to Mac ARM64 build report for BioC 3.17 |
|
This page was generated on 2023-10-20 09:38:08 -0400 (Fri, 20 Oct 2023).
| Hostname | OS | Arch (*) | R version | Installed pkgs |
|---|---|---|---|---|
| kjohnson2 | macOS 12.6.1 Monterey | arm64 | 4.3.1 (2023-06-16) -- "Beagle Scouts" | 4347 |
| Click on any hostname to see more info about the system (e.g. compilers) (*) as reported by 'uname -p', except on Windows and Mac OS X | ||||
| Package 1444/2230 | Hostname | OS / Arch | INSTALL | BUILD | CHECK | BUILD BIN | ||||||||
| ORFhunteR 1.8.0 (landing page) Vasily V. Grinev
| kjohnson2 | macOS 12.6.1 Monterey / arm64 | OK | OK | OK | OK | ||||||||
|
To the developers/maintainers of the ORFhunteR package: - Use the following Renviron settings to reproduce errors and warnings. - If 'R CMD check' started to fail recently on the Linux builder(s) over a missing dependency, add the missing dependency to 'Suggests:' in your DESCRIPTION file. See Renviron.bioc for more information. |
| Package: ORFhunteR |
| Version: 1.8.0 |
| Command: /Library/Frameworks/R.framework/Resources/bin/R CMD check --install=check:ORFhunteR.install-out.txt --library=/Library/Frameworks/R.framework/Resources/library --no-vignettes --timings ORFhunteR_1.8.0.tar.gz |
| StartedAt: 2023-10-18 12:52:54 -0400 (Wed, 18 Oct 2023) |
| EndedAt: 2023-10-18 13:00:57 -0400 (Wed, 18 Oct 2023) |
| EllapsedTime: 482.5 seconds |
| RetCode: 0 |
| Status: OK |
| CheckDir: ORFhunteR.Rcheck |
| Warnings: 0 |
##############################################################################
##############################################################################
###
### Running command:
###
### /Library/Frameworks/R.framework/Resources/bin/R CMD check --install=check:ORFhunteR.install-out.txt --library=/Library/Frameworks/R.framework/Resources/library --no-vignettes --timings ORFhunteR_1.8.0.tar.gz
###
##############################################################################
##############################################################################
* using log directory ‘/Users/biocbuild/bbs-3.17-bioc-mac-arm64/meat/ORFhunteR.Rcheck’
* using R version 4.3.1 (2023-06-16)
* using platform: aarch64-apple-darwin20 (64-bit)
* R was compiled by
Apple clang version 14.0.0 (clang-1400.0.29.202)
GNU Fortran (GCC) 12.2.0
* running under: macOS Monterey 12.6.7
* using session charset: UTF-8
* using option ‘--no-vignettes’
* checking for file ‘ORFhunteR/DESCRIPTION’ ... OK
* checking extension type ... Package
* this is package ‘ORFhunteR’ version ‘1.8.0’
* package encoding: UTF-8
* checking package namespace information ... OK
* checking package dependencies ... OK
* checking if this is a source package ... OK
* checking if there is a namespace ... OK
* checking for hidden files and directories ... OK
* checking for portable file names ... OK
* checking for sufficient/correct file permissions ... OK
* checking whether package ‘ORFhunteR’ can be installed ... OK
* used C++ compiler: ‘Apple clang version 14.0.0 (clang-1400.0.29.202)’
* used SDK: ‘MacOSX11.3.sdk’
* checking installed package size ... OK
* checking package directory ... OK
* checking ‘build’ directory ... OK
* checking DESCRIPTION meta-information ... NOTE
License components which are templates and need '+ file LICENSE':
MIT License
* checking top-level files ... OK
* checking for left-over files ... OK
* checking index information ... OK
* checking package subdirectories ... OK
* checking R files for non-ASCII characters ... OK
* checking R files for syntax errors ... OK
* checking whether the package can be loaded ... OK
* checking whether the package can be loaded with stated dependencies ... OK
* checking whether the package can be unloaded cleanly ... OK
* checking whether the namespace can be loaded with stated dependencies ... OK
* checking whether the namespace can be unloaded cleanly ... OK
* checking dependencies in R code ... OK
* checking S3 generic/method consistency ... OK
* checking replacement functions ... OK
* checking foreign function calls ... OK
* checking R code for possible problems ... OK
* checking Rd files ... OK
* checking Rd metadata ... OK
* checking Rd cross-references ... OK
* checking for missing documentation entries ... OK
* checking for code/documentation mismatches ... OK
* checking Rd \usage sections ... OK
* checking Rd contents ... OK
* checking for unstated dependencies in examples ... OK
* checking line endings in C/C++/Fortran sources/headers ... OK
* checking compiled code ... NOTE
Note: information on .o files is not available
* checking files in ‘vignettes’ ... OK
* checking examples ... OK
Examples with CPU (user + system) or elapsed time > 5s
user system elapsed
annotateORFs 0.457 0.173 95.248
findPTCs 0.264 0.099 39.299
* checking for unstated dependencies in vignettes ... OK
* checking package vignettes in ‘inst/doc’ ... OK
* checking running R code from vignettes ... SKIPPED
* checking re-building of vignette outputs ... SKIPPED
* checking PDF version of manual ... OK
* DONE
Status: 2 NOTEs
See
‘/Users/biocbuild/bbs-3.17-bioc-mac-arm64/meat/ORFhunteR.Rcheck/00check.log’
for details.
ORFhunteR.Rcheck/00install.out
############################################################################## ############################################################################## ### ### Running command: ### ### /Library/Frameworks/R.framework/Resources/bin/R CMD INSTALL ORFhunteR ### ############################################################################## ############################################################################## * installing to library ‘/Library/Frameworks/R.framework/Versions/4.3-arm64/Resources/library’ * installing *source* package ‘ORFhunteR’ ... ** using staged installation ** libs using C++ compiler: ‘Apple clang version 14.0.0 (clang-1400.0.29.202)’ using SDK: ‘MacOSX11.3.sdk’ clang++ -arch arm64 -std=gnu++17 -I"/Library/Frameworks/R.framework/Resources/include" -DNDEBUG -I'/Library/Frameworks/R.framework/Versions/4.3-arm64/Resources/library/Rcpp/include' -I/opt/R/arm64/include -fPIC -falign-functions=64 -Wall -g -O2 -c RcppExports.cpp -o RcppExports.o clang++ -arch arm64 -std=gnu++17 -I"/Library/Frameworks/R.framework/Resources/include" -DNDEBUG -I'/Library/Frameworks/R.framework/Versions/4.3-arm64/Resources/library/Rcpp/include' -I/opt/R/arm64/include -fPIC -falign-functions=64 -Wall -g -O2 -c getBaoMetrics.cpp -o getBaoMetrics.o clang++ -arch arm64 -std=gnu++17 -I"/Library/Frameworks/R.framework/Resources/include" -DNDEBUG -I'/Library/Frameworks/R.framework/Versions/4.3-arm64/Resources/library/Rcpp/include' -I/opt/R/arm64/include -fPIC -falign-functions=64 -Wall -g -O2 -c getCorrelationFactors.cpp -o getCorrelationFactors.o clang++ -arch arm64 -std=gnu++17 -I"/Library/Frameworks/R.framework/Resources/include" -DNDEBUG -I'/Library/Frameworks/R.framework/Versions/4.3-arm64/Resources/library/Rcpp/include' -I/opt/R/arm64/include -fPIC -falign-functions=64 -Wall -g -O2 -c getPatternCount_V.cpp -o getPatternCount_V.o clang++ -arch arm64 -std=gnu++17 -dynamiclib -Wl,-headerpad_max_install_names -undefined dynamic_lookup -single_module -multiply_defined suppress -L/Library/Frameworks/R.framework/Resources/lib -L/opt/R/arm64/lib -o ORFhunteR.so RcppExports.o getBaoMetrics.o getCorrelationFactors.o getPatternCount_V.o -F/Library/Frameworks/R.framework/.. -framework R -Wl,-framework -Wl,CoreFoundation installing to /Library/Frameworks/R.framework/Versions/4.3-arm64/Resources/library/00LOCK-ORFhunteR/00new/ORFhunteR/libs ** R ** inst ** byte-compile and prepare package for lazy loading ** help *** installing help indices ** building package indices ** installing vignettes ** testing if installed package can be loaded from temporary location ** checking absolute paths in shared objects and dynamic libraries ** testing if installed package can be loaded from final location ** testing if installed package keeps a record of temporary installation path * DONE (ORFhunteR)
ORFhunteR.Rcheck/ORFhunteR-Ex.timings
| name | user | system | elapsed | |
| annotateORFs | 0.457 | 0.173 | 95.248 | |
| classifyORFsCandidates | 0 | 0 | 0 | |
| codonStartStop | 0.114 | 0.181 | 0.559 | |
| findORFs | 0.015 | 0.004 | 0.027 | |
| findPTCs | 0.264 | 0.099 | 39.299 | |
| getSeqORFs | 0.016 | 0.014 | 0.116 | |
| loadTrExper | 0.009 | 0.004 | 0.026 | |
| predictORF | 0.001 | 0.000 | 0.001 | |
| translateORFs | 0.206 | 0.066 | 0.374 | |
| vectorizeORFs | 0.034 | 0.014 | 0.072 | |