| Back to Mac ARM64 build report for BioC 3.17 |
|
This page was generated on 2023-10-20 09:38:07 -0400 (Fri, 20 Oct 2023).
| Hostname | OS | Arch (*) | R version | Installed pkgs |
|---|---|---|---|---|
| kjohnson2 | macOS 12.6.1 Monterey | arm64 | 4.3.1 (2023-06-16) -- "Beagle Scouts" | 4347 |
| Click on any hostname to see more info about the system (e.g. compilers) (*) as reported by 'uname -p', except on Windows and Mac OS X | ||||
| Package 1296/2230 | Hostname | OS / Arch | INSTALL | BUILD | CHECK | BUILD BIN | ||||||||
| MsBackendMsp 1.4.0 (landing page) Johannes Rainer
| kjohnson2 | macOS 12.6.1 Monterey / arm64 | OK | OK | OK | OK | ||||||||
|
To the developers/maintainers of the MsBackendMsp package: - Use the following Renviron settings to reproduce errors and warnings. - If 'R CMD check' started to fail recently on the Linux builder(s) over a missing dependency, add the missing dependency to 'Suggests:' in your DESCRIPTION file. See Renviron.bioc for more information. |
| Package: MsBackendMsp |
| Version: 1.4.0 |
| Command: /Library/Frameworks/R.framework/Resources/bin/R CMD check --install=check:MsBackendMsp.install-out.txt --library=/Library/Frameworks/R.framework/Resources/library --no-vignettes --timings MsBackendMsp_1.4.0.tar.gz |
| StartedAt: 2023-10-18 09:28:02 -0400 (Wed, 18 Oct 2023) |
| EndedAt: 2023-10-18 09:30:20 -0400 (Wed, 18 Oct 2023) |
| EllapsedTime: 137.2 seconds |
| RetCode: 0 |
| Status: OK |
| CheckDir: MsBackendMsp.Rcheck |
| Warnings: 0 |
##############################################################################
##############################################################################
###
### Running command:
###
### /Library/Frameworks/R.framework/Resources/bin/R CMD check --install=check:MsBackendMsp.install-out.txt --library=/Library/Frameworks/R.framework/Resources/library --no-vignettes --timings MsBackendMsp_1.4.0.tar.gz
###
##############################################################################
##############################################################################
* using log directory ‘/Users/biocbuild/bbs-3.17-bioc-mac-arm64/meat/MsBackendMsp.Rcheck’
* using R version 4.3.1 (2023-06-16)
* using platform: aarch64-apple-darwin20 (64-bit)
* R was compiled by
Apple clang version 14.0.0 (clang-1400.0.29.202)
GNU Fortran (GCC) 12.2.0
* running under: macOS Monterey 12.6.7
* using session charset: UTF-8
* using option ‘--no-vignettes’
* checking for file ‘MsBackendMsp/DESCRIPTION’ ... OK
* this is package ‘MsBackendMsp’ version ‘1.4.0’
* package encoding: UTF-8
* checking package namespace information ... OK
* checking package dependencies ... OK
* checking if this is a source package ... OK
* checking if there is a namespace ... OK
* checking for hidden files and directories ... OK
* checking for portable file names ... OK
* checking for sufficient/correct file permissions ... OK
* checking whether package ‘MsBackendMsp’ can be installed ... OK
* checking installed package size ... OK
* checking package directory ... OK
* checking ‘build’ directory ... OK
* checking DESCRIPTION meta-information ... OK
* checking top-level files ... OK
* checking for left-over files ... OK
* checking index information ... OK
* checking package subdirectories ... OK
* checking R files for non-ASCII characters ... OK
* checking R files for syntax errors ... OK
* checking whether the package can be loaded ... OK
* checking whether the package can be loaded with stated dependencies ... OK
* checking whether the package can be unloaded cleanly ... OK
* checking whether the namespace can be loaded with stated dependencies ... OK
* checking whether the namespace can be unloaded cleanly ... OK
* checking dependencies in R code ... OK
* checking S3 generic/method consistency ... OK
* checking replacement functions ... OK
* checking foreign function calls ... OK
* checking R code for possible problems ... OK
* checking Rd files ... OK
* checking Rd metadata ... OK
* checking Rd cross-references ... OK
* checking for missing documentation entries ... OK
* checking for code/documentation mismatches ... OK
* checking Rd \usage sections ... OK
* checking Rd contents ... OK
* checking for unstated dependencies in examples ... OK
* checking files in ‘vignettes’ ... OK
* checking examples ... OK
* checking for unstated dependencies in ‘tests’ ... OK
* checking tests ...
Running ‘testthat.R’
OK
* checking for unstated dependencies in vignettes ... OK
* checking package vignettes in ‘inst/doc’ ... OK
* checking running R code from vignettes ... SKIPPED
* checking re-building of vignette outputs ... SKIPPED
* checking PDF version of manual ... OK
* DONE
Status: OK
MsBackendMsp.Rcheck/00install.out
############################################################################## ############################################################################## ### ### Running command: ### ### /Library/Frameworks/R.framework/Resources/bin/R CMD INSTALL MsBackendMsp ### ############################################################################## ############################################################################## * installing to library ‘/Library/Frameworks/R.framework/Versions/4.3-arm64/Resources/library’ * installing *source* package ‘MsBackendMsp’ ... ** using staged installation ** R ** inst ** byte-compile and prepare package for lazy loading ** help *** installing help indices *** copying figures ** building package indices ** installing vignettes ** testing if installed package can be loaded from temporary location ** testing if installed package can be loaded from final location ** testing if installed package keeps a record of temporary installation path * DONE (MsBackendMsp)
MsBackendMsp.Rcheck/tests/testthat.Rout
R version 4.3.1 (2023-06-16) -- "Beagle Scouts"
Copyright (C) 2023 The R Foundation for Statistical Computing
Platform: aarch64-apple-darwin20 (64-bit)
R is free software and comes with ABSOLUTELY NO WARRANTY.
You are welcome to redistribute it under certain conditions.
Type 'license()' or 'licence()' for distribution details.
R is a collaborative project with many contributors.
Type 'contributors()' for more information and
'citation()' on how to cite R or R packages in publications.
Type 'demo()' for some demos, 'help()' for on-line help, or
'help.start()' for an HTML browser interface to help.
Type 'q()' to quit R.
> library(testthat)
> library(MsBackendMsp)
Loading required package: Spectra
Loading required package: S4Vectors
Loading required package: stats4
Loading required package: BiocGenerics
Attaching package: 'BiocGenerics'
The following objects are masked from 'package:stats':
IQR, mad, sd, var, xtabs
The following objects are masked from 'package:base':
Filter, Find, Map, Position, Reduce, anyDuplicated, aperm, append,
as.data.frame, basename, cbind, colnames, dirname, do.call,
duplicated, eval, evalq, get, grep, grepl, intersect, is.unsorted,
lapply, mapply, match, mget, order, paste, pmax, pmax.int, pmin,
pmin.int, rank, rbind, rownames, sapply, setdiff, sort, table,
tapply, union, unique, unsplit, which.max, which.min
Attaching package: 'S4Vectors'
The following object is masked from 'package:utils':
findMatches
The following objects are masked from 'package:base':
I, expand.grid, unname
Loading required package: BiocParallel
Loading required package: ProtGenerics
Attaching package: 'ProtGenerics'
The following object is masked from 'package:stats':
smooth
>
> ## Run specific (backend) package tests
> test_check("MsBackendMsp")
[ FAIL 0 | WARN 2 | SKIP 0 | PASS 55 ]
[ FAIL 0 | WARN 2 | SKIP 0 | PASS 55 ]
>
> ## Run additional tests from Spectra:
> test_suite <- system.file("test_backends", "test_MsBackend",
+ package = "Spectra")
>
> fls <- system.file("extdata", "minimona.msp", package = "MsBackendMsp")
> be <- MsBackendMsp()
> be <- backendInitialize(
+ be, fls, mapping = spectraVariableMapping(MsBackendMsp(), "mona"))
Start data import from 1 files ... done
>
> test_dir(test_suite, stop_on_failure = TRUE)
✔ | F W S OK | Context
⠏ | 0 | spectra_subsetting
⠋ | 1 | spectra_subsetting
⠏ | 10 | spectra_subsetting
⠇ | 19 | spectra_subsetting
⠧ | 28 | spectra_subsetting
⠼ | 35 | spectra_subsetting
⠹ | 43 | spectra_subsetting
⠙ | 52 | spectra_subsetting
⠋ | 61 | spectra_subsetting
⠏ | 70 | spectra_subsetting
⠇ | 79 | spectra_subsetting
⠴ | 86 | spectra_subsetting
⠹ | 93 | spectra_subsetting
⠼ | 95 | spectra_subsetting
⠦ | 97 | spectra_subsetting
⠇ | 99 | spectra_subsetting
⠋ | 101 | spectra_subsetting
⠹ | 103 | spectra_subsetting
⠼ | 105 | spectra_subsetting
⠦ | 107 | spectra_subsetting
⠧ | 108 | spectra_subsetting
⠏ | 110 | spectra_subsetting
⠙ | 112 | spectra_subsetting
⠸ | 114 | spectra_subsetting
⠴ | 116 | spectra_subsetting
⠧ | 118 | spectra_subsetting
⠏ | 120 | spectra_subsetting
⠋ | 121 | spectra_subsetting
⠹ | 123 | spectra_subsetting
⠴ | 126 | spectra_subsetting
⠧ | 128 | spectra_subsetting
⠹ | 133 | spectra_subsetting
⠴ | 136 | spectra_subsetting
⠋ | 141 | spectra_subsetting
✔ | 141 | spectra_subsetting [5.0s]
⠏ | 0 | spectra_variables
⠴ | 6 | spectra_variables
⠏ | 10 | spectra_variables
⠦ | 17 | spectra_variables
⠼ | 25 | spectra_variables
⠋ | 31 | spectra_variables
⠦ | 37 | spectra_variables
⠼ | 45 | spectra_variables
⠇ | 59 | spectra_variables
⠦ | 67 | spectra_variables
⠏ | 70 | spectra_variables
⠴ | 76 | spectra_variables
✔ | 78 | spectra_variables [1.5s]
══ Results ═════════════════════════════════════════════════════════════════════
Duration: 6.6 s
[ FAIL 0 | WARN 0 | SKIP 0 | PASS 219 ]
>
>
>
>
> proc.time()
user system elapsed
12.813 1.188 18.664
MsBackendMsp.Rcheck/MsBackendMsp-Ex.timings
| name | user | system | elapsed | |
| MsBackendMsp | 1.924 | 0.288 | 3.212 | |
| readMsp | 0.206 | 0.018 | 0.334 | |