| Back to Mac ARM64 build report for BioC 3.17 |
|
This page was generated on 2023-10-20 09:38:06 -0400 (Fri, 20 Oct 2023).
| Hostname | OS | Arch (*) | R version | Installed pkgs |
|---|---|---|---|---|
| kjohnson2 | macOS 12.6.1 Monterey | arm64 | 4.3.1 (2023-06-16) -- "Beagle Scouts" | 4347 |
| Click on any hostname to see more info about the system (e.g. compilers) (*) as reported by 'uname -p', except on Windows and Mac OS X | ||||
| Package 1194/2230 | Hostname | OS / Arch | INSTALL | BUILD | CHECK | BUILD BIN | ||||||||
| MethTargetedNGS 1.32.0 (landing page) Muhammad Ahmer Jamil
| kjohnson2 | macOS 12.6.1 Monterey / arm64 | OK | OK | OK | OK | ||||||||
|
To the developers/maintainers of the MethTargetedNGS package: - Use the following Renviron settings to reproduce errors and warnings. - If 'R CMD check' started to fail recently on the Linux builder(s) over a missing dependency, add the missing dependency to 'Suggests:' in your DESCRIPTION file. See Renviron.bioc for more information. |
| Package: MethTargetedNGS |
| Version: 1.32.0 |
| Command: /Library/Frameworks/R.framework/Resources/bin/R CMD check --install=check:MethTargetedNGS.install-out.txt --library=/Library/Frameworks/R.framework/Resources/library --no-vignettes --timings MethTargetedNGS_1.32.0.tar.gz |
| StartedAt: 2023-10-18 06:25:56 -0400 (Wed, 18 Oct 2023) |
| EndedAt: 2023-10-18 06:29:01 -0400 (Wed, 18 Oct 2023) |
| EllapsedTime: 185.1 seconds |
| RetCode: 0 |
| Status: OK |
| CheckDir: MethTargetedNGS.Rcheck |
| Warnings: 0 |
##############################################################################
##############################################################################
###
### Running command:
###
### /Library/Frameworks/R.framework/Resources/bin/R CMD check --install=check:MethTargetedNGS.install-out.txt --library=/Library/Frameworks/R.framework/Resources/library --no-vignettes --timings MethTargetedNGS_1.32.0.tar.gz
###
##############################################################################
##############################################################################
* using log directory ‘/Users/biocbuild/bbs-3.17-bioc-mac-arm64/meat/MethTargetedNGS.Rcheck’
* using R version 4.3.1 (2023-06-16)
* using platform: aarch64-apple-darwin20 (64-bit)
* R was compiled by
Apple clang version 14.0.0 (clang-1400.0.29.202)
GNU Fortran (GCC) 12.2.0
* running under: macOS Monterey 12.6.7
* using session charset: UTF-8
* using option ‘--no-vignettes’
* checking for file ‘MethTargetedNGS/DESCRIPTION’ ... OK
* checking extension type ... Package
* this is package ‘MethTargetedNGS’ version ‘1.32.0’
* checking package namespace information ... OK
* checking package dependencies ... OK
* checking if this is a source package ... OK
* checking if there is a namespace ... OK
* checking for hidden files and directories ... OK
* checking for portable file names ... OK
* checking for sufficient/correct file permissions ... OK
* checking whether package ‘MethTargetedNGS’ can be installed ... OK
* checking installed package size ... OK
* checking package directory ... OK
* checking ‘build’ directory ... OK
* checking DESCRIPTION meta-information ... OK
* checking top-level files ... OK
* checking for left-over files ... OK
* checking index information ... OK
* checking package subdirectories ... OK
* checking R files for non-ASCII characters ... OK
* checking R files for syntax errors ... OK
* checking whether the package can be loaded ... OK
* checking whether the package can be loaded with stated dependencies ... OK
* checking whether the package can be unloaded cleanly ... OK
* checking whether the namespace can be loaded with stated dependencies ... OK
* checking whether the namespace can be unloaded cleanly ... OK
* checking dependencies in R code ... OK
* checking S3 generic/method consistency ... OK
* checking replacement functions ... OK
* checking foreign function calls ... OK
* checking R code for possible problems ... NOTE
compare_samples: no visible global function definition for ‘par’
compare_samples: no visible global function definition for ‘lines’
fishertest_cpg: no visible global function definition for ‘fisher.test’
fishertest_cpg: no visible global function definition for ‘p.adjust’
fishertest_cpg: no visible global function definition for ‘barplot’
fishertest_cpg: no visible global function definition for ‘abline’
methAlign: no visible global function definition for ‘subject’
methAlign: no visible global function definition for ‘pattern’
nhmmer: no visible global function definition for ‘read.table’
nhmmer: no visible global function definition for ‘setNames’
Undefined global functions or variables:
abline barplot fisher.test lines p.adjust par pattern read.table
setNames subject
Consider adding
importFrom("graphics", "abline", "barplot", "lines", "par")
importFrom("stats", "fisher.test", "p.adjust", "setNames")
importFrom("utils", "read.table")
to your NAMESPACE file.
* checking Rd files ... OK
* checking Rd metadata ... OK
* checking Rd cross-references ... OK
* checking for missing documentation entries ... OK
* checking for code/documentation mismatches ... OK
* checking Rd \usage sections ... OK
* checking Rd contents ... OK
* checking for unstated dependencies in examples ... OK
* checking sizes of PDF files under ‘inst/doc’ ... OK
* checking files in ‘vignettes’ ... OK
* checking examples ... OK
Examples with CPU (user + system) or elapsed time > 5s
user system elapsed
fishertest_cpg 4.379 0.048 6.778
compare_samples 4.328 0.086 6.787
odd_ratio 4.192 0.042 6.452
* checking for unstated dependencies in vignettes ... OK
* checking package vignettes in ‘inst/doc’ ... OK
* checking running R code from vignettes ... SKIPPED
* checking re-building of vignette outputs ... SKIPPED
* checking PDF version of manual ... OK
* DONE
Status: 1 NOTE
See
‘/Users/biocbuild/bbs-3.17-bioc-mac-arm64/meat/MethTargetedNGS.Rcheck/00check.log’
for details.
MethTargetedNGS.Rcheck/00install.out
############################################################################## ############################################################################## ### ### Running command: ### ### /Library/Frameworks/R.framework/Resources/bin/R CMD INSTALL MethTargetedNGS ### ############################################################################## ############################################################################## * installing to library ‘/Library/Frameworks/R.framework/Versions/4.3-arm64/Resources/library’ * installing *source* package ‘MethTargetedNGS’ ... ** using staged installation ** R ** inst ** byte-compile and prepare package for lazy loading ** help *** installing help indices ** building package indices ** installing vignettes ** testing if installed package can be loaded from temporary location ** testing if installed package can be loaded from final location ** testing if installed package keeps a record of temporary installation path * DONE (MethTargetedNGS)
MethTargetedNGS.Rcheck/MethTargetedNGS-Ex.timings
| name | user | system | elapsed | |
| bconv | 0.002 | 0.001 | 0.010 | |
| compare_samples | 4.328 | 0.086 | 6.787 | |
| fishertest_cpg | 4.379 | 0.048 | 6.778 | |
| hmmbuild | 0.001 | 0.000 | 0.002 | |
| methAlign | 2.693 | 0.035 | 4.215 | |
| methAvg | 2.750 | 0.038 | 4.269 | |
| methEntropy | 2.507 | 0.040 | 3.894 | |
| methHeatmap | 2.088 | 0.022 | 3.254 | |
| nhmmer | 0.002 | 0.001 | 0.004 | |
| odd_ratio | 4.192 | 0.042 | 6.452 | |