| Back to Mac ARM64 build report for BioC 3.17 |
|
This page was generated on 2023-10-20 09:38:07 -0400 (Fri, 20 Oct 2023).
| Hostname | OS | Arch (*) | R version | Installed pkgs |
|---|---|---|---|---|
| kjohnson2 | macOS 12.6.1 Monterey | arm64 | 4.3.1 (2023-06-16) -- "Beagle Scouts" | 4347 |
| Click on any hostname to see more info about the system (e.g. compilers) (*) as reported by 'uname -p', except on Windows and Mac OS X | ||||
| Package 1323/2230 | Hostname | OS / Arch | INSTALL | BUILD | CHECK | BUILD BIN | ||||||||
| MSstatsTMT 2.8.0 (landing page) Ting Huang
| kjohnson2 | macOS 12.6.1 Monterey / arm64 | OK | OK | OK | OK | ||||||||
|
To the developers/maintainers of the MSstatsTMT package: - Use the following Renviron settings to reproduce errors and warnings. - If 'R CMD check' started to fail recently on the Linux builder(s) over a missing dependency, add the missing dependency to 'Suggests:' in your DESCRIPTION file. See Renviron.bioc for more information. |
| Package: MSstatsTMT |
| Version: 2.8.0 |
| Command: /Library/Frameworks/R.framework/Resources/bin/R CMD check --install=check:MSstatsTMT.install-out.txt --library=/Library/Frameworks/R.framework/Resources/library --no-vignettes --timings MSstatsTMT_2.8.0.tar.gz |
| StartedAt: 2023-10-18 10:11:04 -0400 (Wed, 18 Oct 2023) |
| EndedAt: 2023-10-18 10:14:59 -0400 (Wed, 18 Oct 2023) |
| EllapsedTime: 235.2 seconds |
| RetCode: 0 |
| Status: OK |
| CheckDir: MSstatsTMT.Rcheck |
| Warnings: 0 |
##############################################################################
##############################################################################
###
### Running command:
###
### /Library/Frameworks/R.framework/Resources/bin/R CMD check --install=check:MSstatsTMT.install-out.txt --library=/Library/Frameworks/R.framework/Resources/library --no-vignettes --timings MSstatsTMT_2.8.0.tar.gz
###
##############################################################################
##############################################################################
* using log directory ‘/Users/biocbuild/bbs-3.17-bioc-mac-arm64/meat/MSstatsTMT.Rcheck’
* using R version 4.3.1 (2023-06-16)
* using platform: aarch64-apple-darwin20 (64-bit)
* R was compiled by
Apple clang version 14.0.0 (clang-1400.0.29.202)
GNU Fortran (GCC) 12.2.0
* running under: macOS Monterey 12.6.7
* using session charset: UTF-8
* using option ‘--no-vignettes’
* checking for file ‘MSstatsTMT/DESCRIPTION’ ... OK
* this is package ‘MSstatsTMT’ version ‘2.8.0’
* package encoding: UTF-8
* checking package namespace information ... OK
* checking package dependencies ... OK
* checking if this is a source package ... OK
* checking if there is a namespace ... OK
* checking for hidden files and directories ... OK
* checking for portable file names ... OK
* checking for sufficient/correct file permissions ... OK
* checking whether package ‘MSstatsTMT’ can be installed ... OK
* checking installed package size ... OK
* checking package directory ... OK
* checking ‘build’ directory ... OK
* checking DESCRIPTION meta-information ... OK
* checking top-level files ... OK
* checking for left-over files ... OK
* checking index information ... OK
* checking package subdirectories ... OK
* checking R files for non-ASCII characters ... OK
* checking R files for syntax errors ... OK
* checking whether the package can be loaded ... OK
* checking whether the package can be loaded with stated dependencies ... OK
* checking whether the package can be unloaded cleanly ... OK
* checking whether the namespace can be loaded with stated dependencies ... OK
* checking whether the namespace can be unloaded cleanly ... OK
* checking dependencies in R code ... OK
* checking S3 generic/method consistency ... OK
* checking replacement functions ... OK
* checking foreign function calls ... OK
* checking R code for possible problems ... NOTE
.checkRepeatedMeasures: no visible global function definition for ‘.’
.checkSingleSubject: no visible global function definition for ‘.’
.checkTechReplicate: no visible global function definition for ‘.’
.getGroupLabel: no visible binding for global variable ‘Condition’
.handleSingleContrastTMT: no visible global function definition for
‘.mygrad’
.plotProfileTMT: no visible global function definition for ‘.’
.plotProfileTMT: no visible binding for global variable ‘censored’
Undefined global functions or variables:
. .mygrad Condition censored
* checking Rd files ... OK
* checking Rd metadata ... OK
* checking Rd cross-references ... OK
* checking for missing documentation entries ... OK
* checking for code/documentation mismatches ... OK
* checking Rd \usage sections ... OK
* checking Rd contents ... OK
* checking for unstated dependencies in examples ... OK
* checking contents of ‘data’ directory ... OK
* checking data for non-ASCII characters ... OK
* checking LazyData ... OK
* checking data for ASCII and uncompressed saves ... OK
* checking files in ‘vignettes’ ... OK
* checking examples ... OK
Examples with CPU (user + system) or elapsed time > 5s
user system elapsed
dataProcessPlotsTMT 40.430 0.664 61.006
groupComparisonTMT 7.222 0.162 11.225
proteinSummarization 4.376 0.129 6.916
* checking for unstated dependencies in ‘tests’ ... OK
* checking tests ...
Running ‘testthat.R’
OK
* checking for unstated dependencies in vignettes ... OK
* checking package vignettes in ‘inst/doc’ ... OK
* checking running R code from vignettes ... SKIPPED
* checking re-building of vignette outputs ... SKIPPED
* checking PDF version of manual ... OK
* DONE
Status: 1 NOTE
See
‘/Users/biocbuild/bbs-3.17-bioc-mac-arm64/meat/MSstatsTMT.Rcheck/00check.log’
for details.
MSstatsTMT.Rcheck/00install.out
############################################################################## ############################################################################## ### ### Running command: ### ### /Library/Frameworks/R.framework/Resources/bin/R CMD INSTALL MSstatsTMT ### ############################################################################## ############################################################################## * installing to library ‘/Library/Frameworks/R.framework/Versions/4.3-arm64/Resources/library’ * installing *source* package ‘MSstatsTMT’ ... ** using staged installation ** R ** data *** moving datasets to lazyload DB ** inst ** byte-compile and prepare package for lazy loading ** help *** installing help indices ** building package indices ** installing vignettes ** testing if installed package can be loaded from temporary location ** testing if installed package can be loaded from final location ** testing if installed package keeps a record of temporary installation path * DONE (MSstatsTMT)
MSstatsTMT.Rcheck/tests/testthat.Rout
R version 4.3.1 (2023-06-16) -- "Beagle Scouts"
Copyright (C) 2023 The R Foundation for Statistical Computing
Platform: aarch64-apple-darwin20 (64-bit)
R is free software and comes with ABSOLUTELY NO WARRANTY.
You are welcome to redistribute it under certain conditions.
Type 'license()' or 'licence()' for distribution details.
R is a collaborative project with many contributors.
Type 'contributors()' for more information and
'citation()' on how to cite R or R packages in publications.
Type 'demo()' for some demos, 'help()' for on-line help, or
'help.start()' for an HTML browser interface to help.
Type 'q()' to quit R.
> library(testthat)
> library(MSstatsTMT)
>
> test_check("MSstatsTMT")
INFO [2023-10-18 10:14:30] ** Raw data from ProteomeDiscoverer imported successfully.
INFO [2023-10-18 10:14:30] ** Raw data from ProteomeDiscoverer cleaned successfully.
INFO [2023-10-18 10:14:30] ** Using provided annotation.
INFO [2023-10-18 10:14:30] ** Raw data from MaxQuant imported successfully.
INFO [2023-10-18 10:14:30] ** Rows with values of Potentialcontaminant equal to + are removed
INFO [2023-10-18 10:14:30] ** Rows with values of Reverse equal to + are removed
INFO [2023-10-18 10:14:30] ** Rows with values of Potentialcontaminant equal to + are removed
INFO [2023-10-18 10:14:30] ** Rows with values of Reverse equal to + are removed
INFO [2023-10-18 10:14:30] ** + Contaminant, + Reverse, + Potential.contaminant proteins are removed.
INFO [2023-10-18 10:14:31] ** Features with all missing measurements across channels within each run are removed.
INFO [2023-10-18 10:14:31] ** Raw data from MaxQuant cleaned successfully.
INFO [2023-10-18 10:14:31] ** Using provided annotation.
INFO [2023-10-18 10:14:31] ** Run and Channel labels were standardized to remove symbols such as '.' or '%'.
INFO [2023-10-18 10:14:31] ** The following options are used:
- Features will be defined by the columns: PeptideSequence, PrecursorCharge
- Shared peptides will be removed.
- Proteins with single feature will not be removed.
- Features with less than 3 measurements within each run will be removed.
INFO [2023-10-18 10:14:31] ** Features with all missing measurements across channels within each run are removed.
INFO [2023-10-18 10:14:31] ** Shared peptides are removed.
INFO [2023-10-18 10:14:31] ** Features with one or two measurements across channels within each run are removed.
INFO [2023-10-18 10:14:31] ** PSMs have been aggregated to peptide ions.
INFO [2023-10-18 10:14:31] ** Raw data from SpectroMine imported successfully.
INFO [2023-10-18 10:14:31] ** Raw data from SpectroMine cleaned successfully.
INFO [2023-10-18 10:14:31] ** Using provided annotation.
INFO [2023-10-18 10:14:31] ** Run and Channel labels were standardized to remove symbols such as '.' or '%'.
INFO [2023-10-18 10:14:31] Design: 5 mixtures.
INFO [2023-10-18 10:14:31] Design: 3 technical replicated MS runs per mixture.
INFO [2023-10-18 10:14:31] Design: 1 subject per condition (No biological variation).
INFO [2023-10-18 10:14:31] Model fitting for 10 proteins.
|
| | 0%
|
|======= | 10%
|
|============== | 20%
|
|===================== | 30%
|
|============================ | 40%
|
|=================================== | 50%
|
|========================================== | 60%
|
|================================================= | 70%
|
|======================================================== | 80%
|
|=============================================================== | 90%
|
|======================================================================| 100%
INFO [2023-10-18 10:14:33] Testing for 10 proteins:
|
| | 0%
|
|======= | 10%
|
|============== | 20%
|
|===================== | 30%
|
|============================ | 40%
|
|=================================== | 50%
|
|========================================== | 60%
|
|================================================= | 70%
|
|======================================================== | 80%
|
|=============================================================== | 90%
|
|======================================================================| 100%
INFO [2023-10-18 10:14:33] Design: 5 mixtures.
INFO [2023-10-18 10:14:33] Design: 3 technical replicated MS runs per mixture.
INFO [2023-10-18 10:14:33] Design: 1 subject per condition (No biological variation).
INFO [2023-10-18 10:14:33] Model fitting for 10 proteins.
|
| | 0%
|
|======= | 10%
|
|============== | 20%
|
|===================== | 30%
|
|============================ | 40%
|
|=================================== | 50%
|
|========================================== | 60%
|
|================================================= | 70%
|
|======================================================== | 80%
|
|=============================================================== | 90%
|
|======================================================================| 100%
INFO [2023-10-18 10:14:34] ** MSstatsTMT - proteinSummarization function
INFO [2023-10-18 10:14:35] Summarizing for Run : 161117_SILAC_HeLa_UPS1_TMT10_Mixture1_01raw ( 1 of 15 )
|
| | 0%
|
|======= | 10%
|
|============== | 20%
|
|===================== | 30%
|
|============================ | 40%
|
|=================================== | 50%
|
|========================================== | 60%
|
|================================================= | 70%
|
|======================================================== | 80%
|
|=============================================================== | 90%
|
|======================================================================| 100%
INFO [2023-10-18 10:14:35] Summarizing for Run : 161117_SILAC_HeLa_UPS1_TMT10_Mixture1_02raw ( 2 of 15 )
|
| | 0%
|
|======= | 10%
|
|============== | 20%
|
|===================== | 30%
|
|============================ | 40%
|
|=================================== | 50%
|
|========================================== | 60%
|
|================================================= | 70%
|
|======================================================== | 80%
|
|=============================================================== | 90%
|
|======================================================================| 100%
INFO [2023-10-18 10:14:36] Summarizing for Run : 161117_SILAC_HeLa_UPS1_TMT10_Mixture2_01raw ( 3 of 15 )
|
| | 0%
|
|======= | 10%
|
|============== | 20%
|
|===================== | 30%
|
|============================ | 40%
|
|=================================== | 50%
|
|========================================== | 60%
|
|================================================= | 70%
|
|======================================================== | 80%
|
|=============================================================== | 90%
|
|======================================================================| 100%
INFO [2023-10-18 10:14:36] Summarizing for Run : 161117_SILAC_HeLa_UPS1_TMT10_Mixture2_02raw ( 4 of 15 )
|
| | 0%
|
|======= | 10%
|
|============== | 20%
|
|===================== | 30%
|
|============================ | 40%
|
|=================================== | 50%
|
|========================================== | 60%
|
|================================================= | 70%
|
|======================================================== | 80%
|
|=============================================================== | 90%
|
|======================================================================| 100%
INFO [2023-10-18 10:14:37] Summarizing for Run : 161117_SILAC_HeLa_UPS1_TMT10_Mixture2_03raw ( 5 of 15 )
|
| | 0%
|
|======= | 10%
|
|============== | 20%
|
|===================== | 30%
|
|============================ | 40%
|
|=================================== | 50%
|
|========================================== | 60%
|
|================================================= | 70%
|
|======================================================== | 80%
|
|=============================================================== | 90%
|
|======================================================================| 100%
INFO [2023-10-18 10:14:37] Summarizing for Run : 161117_SILAC_HeLa_UPS1_TMT10_Mixture3_01raw ( 6 of 15 )
|
| | 0%
|
|======= | 10%
|
|============== | 20%
|
|===================== | 30%
|
|============================ | 40%
|
|=================================== | 50%
|
|========================================== | 60%
|
|================================================= | 70%
|
|======================================================== | 80%
|
|=============================================================== | 90%
|
|======================================================================| 100%
INFO [2023-10-18 10:14:37] Summarizing for Run : 161117_SILAC_HeLa_UPS1_TMT10_Mixture3_02raw ( 7 of 15 )
|
| | 0%
|
|======= | 10%
|
|============== | 20%
|
|===================== | 30%
|
|============================ | 40%
|
|=================================== | 50%
|
|========================================== | 60%
|
|================================================= | 70%
|
|======================================================== | 80%
|
|=============================================================== | 90%
|
|======================================================================| 100%
INFO [2023-10-18 10:14:38] Summarizing for Run : 161117_SILAC_HeLa_UPS1_TMT10_Mixture4_01raw ( 8 of 15 )
|
| | 0%
|
|======= | 10%
|
|============== | 20%
|
|===================== | 30%
|
|============================ | 40%
|
|=================================== | 50%
|
|========================================== | 60%
|
|================================================= | 70%
|
|======================================================== | 80%
|
|=============================================================== | 90%
|
|======================================================================| 100%
INFO [2023-10-18 10:14:38] Summarizing for Run : 161117_SILAC_HeLa_UPS1_TMT10_Mixture4_02raw ( 9 of 15 )
|
| | 0%
|
|======= | 10%
|
|============== | 20%
|
|===================== | 30%
|
|============================ | 40%
|
|=================================== | 50%
|
|========================================== | 60%
|
|================================================= | 70%
|
|======================================================== | 80%
|
|=============================================================== | 90%
|
|======================================================================| 100%
INFO [2023-10-18 10:14:39] Summarizing for Run : 161117_SILAC_HeLa_UPS1_TMT10_Mixture5_01raw ( 10 of 15 )
|
| | 0%
|
|======= | 10%
|
|============== | 20%
|
|===================== | 30%
|
|============================ | 40%
|
|=================================== | 50%
|
|========================================== | 60%
|
|================================================= | 70%
|
|======================================================== | 80%
|
|=============================================================== | 90%
|
|======================================================================| 100%
INFO [2023-10-18 10:14:39] Summarizing for Run : 161117_SILAC_HeLa_UPS1_TMT10_Mixture5_02raw ( 11 of 15 )
|
| | 0%
|
|======= | 10%
|
|============== | 20%
|
|===================== | 30%
|
|============================ | 40%
|
|=================================== | 50%
|
|========================================== | 60%
|
|================================================= | 70%
|
|======================================================== | 80%
|
|=============================================================== | 90%
|
|======================================================================| 100%
INFO [2023-10-18 10:14:39] Summarizing for Run : 161117_SILAC_HeLa_UPS1_TMT10_Mixture4_03raw ( 12 of 15 )
|
| | 0%
|
|======= | 10%
|
|============== | 20%
|
|===================== | 30%
|
|============================ | 40%
|
|=================================== | 50%
|
|========================================== | 60%
|
|================================================= | 70%
|
|======================================================== | 80%
|
|=============================================================== | 90%
|
|======================================================================| 100%
INFO [2023-10-18 10:14:40] Summarizing for Run : 161117_SILAC_HeLa_UPS1_TMT10_Mixture5_03raw ( 13 of 15 )
|
| | 0%
|
|======= | 10%
|
|============== | 20%
|
|===================== | 30%
|
|============================ | 40%
|
|=================================== | 50%
|
|========================================== | 60%
|
|================================================= | 70%
|
|======================================================== | 80%
|
|=============================================================== | 90%
|
|======================================================================| 100%
INFO [2023-10-18 10:14:40] Summarizing for Run : 161117_SILAC_HeLa_UPS1_TMT10_Mixture1_03raw ( 14 of 15 )
|
| | 0%
|
|======= | 10%
|
|============== | 20%
|
|===================== | 30%
|
|============================ | 40%
|
|=================================== | 50%
|
|========================================== | 60%
|
|================================================= | 70%
|
|======================================================== | 80%
|
|=============================================================== | 90%
|
|======================================================================| 100%
INFO [2023-10-18 10:14:41] Summarizing for Run : 161117_SILAC_HeLa_UPS1_TMT10_Mixture3_03raw ( 15 of 15 )
|
| | 0%
|
|======= | 10%
|
|============== | 20%
|
|===================== | 30%
|
|============================ | 40%
|
|=================================== | 50%
|
|========================================== | 60%
|
|================================================= | 70%
|
|======================================================== | 80%
|
|=============================================================== | 90%
|
|======================================================================| 100%
INFO [2023-10-18 10:14:41] ** Protein-level summarization done by MSstats.
INFO [2023-10-18 10:14:41] ** MSstatsTMT - proteinSummarization function
INFO [2023-10-18 10:14:41] ** MSstatsTMT - proteinSummarization function
INFO [2023-10-18 10:14:41] ** MSstatsTMT - proteinSummarization function
INFO [2023-10-18 10:14:41] ** MSstatsTMT - proteinSummarization function
INFO [2023-10-18 10:14:41] ** MSstatsTMT - proteinSummarization function
INFO [2023-10-18 10:14:41] ** MSstatsTMT - proteinSummarization function
INFO [2023-10-18 10:14:41] ** MSstatsTMT - proteinSummarization function
INFO [2023-10-18 10:14:41] ** MSstatsTMT - proteinSummarization function
INFO [2023-10-18 10:14:41] ** MSstatsTMT - proteinSummarization function
INFO [2023-10-18 10:14:41] ** MSstatsTMT - proteinSummarization function
INFO [2023-10-18 10:14:41] ** MSstatsTMT - proteinSummarization function
INFO [2023-10-18 10:14:42] ** MSstatsTMT - proteinSummarization function
INFO [2023-10-18 10:14:42] ** MSstatsTMT - proteinSummarization function
INFO [2023-10-18 10:14:42] ** MSstatsTMT - proteinSummarization function
INFO [2023-10-18 10:14:42] ** MSstatsTMT - proteinSummarization function
INFO [2023-10-18 10:14:42] Summarizing for Run : 161117_SILAC_HeLa_UPS1_TMT10_Mixture1_01raw ( 1 of 15 )
[ FAIL 0 | WARN 0 | SKIP 0 | PASS 27 ]
>
> proc.time()
user system elapsed
10.927 0.492 17.342
MSstatsTMT.Rcheck/MSstatsTMT-Ex.timings
| name | user | system | elapsed | |
| MaxQtoMSstatsTMTFormat | 0.498 | 0.079 | 0.802 | |
| OpenMStoMSstatsTMTFormat | 0.143 | 0.008 | 0.227 | |
| PDtoMSstatsTMTFormat | 1.925 | 0.060 | 3.031 | |
| SpectroMinetoMSstatsTMTFormat | 0.309 | 0.013 | 0.481 | |
| annotation.mine | 0.002 | 0.001 | 0.005 | |
| annotation.mq | 0.002 | 0.001 | 0.003 | |
| annotation.pd | 0.002 | 0.001 | 0.002 | |
| dataProcessPlotsTMT | 40.430 | 0.664 | 61.006 | |
| evidence | 0.009 | 0.008 | 0.024 | |
| groupComparisonTMT | 7.222 | 0.162 | 11.225 | |
| input.pd | 0.037 | 0.001 | 0.061 | |
| proteinGroups | 0.056 | 0.027 | 0.134 | |
| proteinSummarization | 4.376 | 0.129 | 6.916 | |
| quant.pd.msstats | 0.031 | 0.001 | 0.048 | |
| raw.mine | 0.006 | 0.001 | 0.012 | |
| raw.om | 0.003 | 0.001 | 0.007 | |
| raw.pd | 0.005 | 0.002 | 0.012 | |
| test.pairwise | 0.001 | 0.000 | 0.002 | |