| Back to Mac ARM64 build report for BioC 3.17 |
|
This page was generated on 2023-10-20 09:38:07 -0400 (Fri, 20 Oct 2023).
| Hostname | OS | Arch (*) | R version | Installed pkgs |
|---|---|---|---|---|
| kjohnson2 | macOS 12.6.1 Monterey | arm64 | 4.3.1 (2023-06-16) -- "Beagle Scouts" | 4347 |
| Click on any hostname to see more info about the system (e.g. compilers) (*) as reported by 'uname -p', except on Windows and Mac OS X | ||||
| Package 1316/2230 | Hostname | OS / Arch | INSTALL | BUILD | CHECK | BUILD BIN | ||||||||
| MSstatsLiP 1.6.0 (landing page) Devon Kohler
| kjohnson2 | macOS 12.6.1 Monterey / arm64 | OK | OK | OK | OK | ||||||||
|
To the developers/maintainers of the MSstatsLiP package: - Use the following Renviron settings to reproduce errors and warnings. - If 'R CMD check' started to fail recently on the Linux builder(s) over a missing dependency, add the missing dependency to 'Suggests:' in your DESCRIPTION file. See Renviron.bioc for more information. |
| Package: MSstatsLiP |
| Version: 1.6.0 |
| Command: /Library/Frameworks/R.framework/Resources/bin/R CMD check --install=check:MSstatsLiP.install-out.txt --library=/Library/Frameworks/R.framework/Resources/library --no-vignettes --timings MSstatsLiP_1.6.0.tar.gz |
| StartedAt: 2023-10-18 10:03:58 -0400 (Wed, 18 Oct 2023) |
| EndedAt: 2023-10-18 10:10:16 -0400 (Wed, 18 Oct 2023) |
| EllapsedTime: 378.3 seconds |
| RetCode: 0 |
| Status: OK |
| CheckDir: MSstatsLiP.Rcheck |
| Warnings: 0 |
##############################################################################
##############################################################################
###
### Running command:
###
### /Library/Frameworks/R.framework/Resources/bin/R CMD check --install=check:MSstatsLiP.install-out.txt --library=/Library/Frameworks/R.framework/Resources/library --no-vignettes --timings MSstatsLiP_1.6.0.tar.gz
###
##############################################################################
##############################################################################
* using log directory ‘/Users/biocbuild/bbs-3.17-bioc-mac-arm64/meat/MSstatsLiP.Rcheck’
* using R version 4.3.1 (2023-06-16)
* using platform: aarch64-apple-darwin20 (64-bit)
* R was compiled by
Apple clang version 14.0.0 (clang-1400.0.29.202)
GNU Fortran (GCC) 12.2.0
* running under: macOS Monterey 12.6.7
* using session charset: UTF-8
* using option ‘--no-vignettes’
* checking for file ‘MSstatsLiP/DESCRIPTION’ ... OK
* checking extension type ... Package
* this is package ‘MSstatsLiP’ version ‘1.6.0’
* package encoding: UTF-8
* checking package namespace information ... OK
* checking package dependencies ... OK
* checking if this is a source package ... OK
* checking if there is a namespace ... OK
* checking for hidden files and directories ... OK
* checking for portable file names ... OK
* checking for sufficient/correct file permissions ... OK
* checking whether package ‘MSstatsLiP’ can be installed ... OK
* used C++ compiler: ‘Apple clang version 14.0.0 (clang-1400.0.29.202)’
* used SDK: ‘MacOSX11.3.sdk’
* checking installed package size ... OK
* checking package directory ... OK
* checking ‘build’ directory ... OK
* checking DESCRIPTION meta-information ... OK
* checking top-level files ... OK
* checking for left-over files ... OK
* checking index information ... OK
* checking package subdirectories ... OK
* checking R files for non-ASCII characters ... OK
* checking R files for syntax errors ... OK
* checking whether the package can be loaded ... OK
* checking whether the package can be loaded with stated dependencies ... OK
* checking whether the package can be unloaded cleanly ... OK
* checking whether the namespace can be loaded with stated dependencies ... OK
* checking whether the namespace can be unloaded cleanly ... OK
* checking dependencies in R code ... OK
* checking S3 generic/method consistency ... OK
* checking replacement functions ... OK
* checking foreign function calls ... OK
* checking R code for possible problems ... NOTE
ResistanceBarcodePlotLiP: no visible binding for global variable
‘GROUP’
ResistanceBarcodePlotLiP: no visible binding for global variable
‘Protein’
ResistanceBarcodePlotLiP: no visible binding for global variable
‘uniprot_iso’
ResistanceBarcodePlotLiP: no visible binding for global variable
‘PeptideSequence’
ResistanceBarcodePlotLiP: no visible binding for global variable
‘Accessibility_ratio’
ResistanceBarcodePlotLiP: no visible binding for global variable
‘Index’
ResistanceBarcodePlotLiP: no visible binding for global variable
‘Label’
ResistanceBarcodePlotLiP: no visible binding for global variable ‘sig’
ResistanceBarcodePlotLiP: no visible binding for global variable
‘Coverage’
StructuralBarcodePlotLiP: no visible binding for global variable
‘NSEMI_TRI’
StructuralBarcodePlotLiP: no visible binding for global variable
‘CSEMI_TRI’
calculateProteolyticResistance: no visible binding for global variable
‘LogIntensities’
calculateProteolyticResistance: no visible binding for global variable
‘Protein.y’
Undefined global functions or variables:
Accessibility_ratio CSEMI_TRI Coverage GROUP Index Label
LogIntensities NSEMI_TRI PeptideSequence Protein Protein.y sig
uniprot_iso
* checking Rd files ... OK
* checking Rd metadata ... OK
* checking Rd cross-references ... OK
* checking for missing documentation entries ... OK
* checking for code/documentation mismatches ... OK
* checking Rd \usage sections ... OK
* checking Rd contents ... OK
* checking for unstated dependencies in examples ... OK
* checking contents of ‘data’ directory ... OK
* checking data for non-ASCII characters ... OK
* checking LazyData ... OK
* checking data for ASCII and uncompressed saves ... OK
* checking line endings in C/C++/Fortran sources/headers ... OK
* checking compiled code ... NOTE
Note: information on .o files is not available
* checking files in ‘vignettes’ ... OK
* checking examples ... OK
Examples with CPU (user + system) or elapsed time > 5s
user system elapsed
dataProcessPlotsLiP 29.357 0.391 45.290
StructuralBarcodePlotLiP 3.908 0.060 5.344
* checking for unstated dependencies in ‘tests’ ... OK
* checking tests ...
Running ‘tinytest.R’
OK
* checking for unstated dependencies in vignettes ... OK
* checking package vignettes in ‘inst/doc’ ... OK
* checking running R code from vignettes ... SKIPPED
* checking re-building of vignette outputs ... SKIPPED
* checking PDF version of manual ... OK
* DONE
Status: 2 NOTEs
See
‘/Users/biocbuild/bbs-3.17-bioc-mac-arm64/meat/MSstatsLiP.Rcheck/00check.log’
for details.
MSstatsLiP.Rcheck/00install.out
############################################################################## ############################################################################## ### ### Running command: ### ### /Library/Frameworks/R.framework/Resources/bin/R CMD INSTALL MSstatsLiP ### ############################################################################## ############################################################################## * installing to library ‘/Library/Frameworks/R.framework/Versions/4.3-arm64/Resources/library’ * installing *source* package ‘MSstatsLiP’ ... ** using staged installation ** libs using C++ compiler: ‘Apple clang version 14.0.0 (clang-1400.0.29.202)’ using SDK: ‘MacOSX11.3.sdk’ clang++ -arch arm64 -std=gnu++17 -I"/Library/Frameworks/R.framework/Resources/include" -DNDEBUG -I'/Library/Frameworks/R.framework/Versions/4.3-arm64/Resources/library/Rcpp/include' -I/opt/R/arm64/include -fPIC -falign-functions=64 -Wall -g -O2 -c RcppExports.cpp -o RcppExports.o clang++ -arch arm64 -std=gnu++17 -I"/Library/Frameworks/R.framework/Resources/include" -DNDEBUG -I'/Library/Frameworks/R.framework/Versions/4.3-arm64/Resources/library/Rcpp/include' -I/opt/R/arm64/include -fPIC -falign-functions=64 -Wall -g -O2 -c model_adjustment.cpp -o model_adjustment.o clang++ -arch arm64 -std=gnu++17 -dynamiclib -Wl,-headerpad_max_install_names -undefined dynamic_lookup -single_module -multiply_defined suppress -L/Library/Frameworks/R.framework/Resources/lib -L/opt/R/arm64/lib -o MSstatsLiP.so RcppExports.o model_adjustment.o -F/Library/Frameworks/R.framework/.. -framework R -Wl,-framework -Wl,CoreFoundation installing to /Library/Frameworks/R.framework/Versions/4.3-arm64/Resources/library/00LOCK-MSstatsLiP/00new/MSstatsLiP/libs ** R ** data *** moving datasets to lazyload DB ** inst ** byte-compile and prepare package for lazy loading ** help *** installing help indices ** building package indices ** installing vignettes ** testing if installed package can be loaded from temporary location ** checking absolute paths in shared objects and dynamic libraries ** testing if installed package can be loaded from final location ** testing if installed package keeps a record of temporary installation path * DONE (MSstatsLiP)
MSstatsLiP.Rcheck/tests/tinytest.Rout
R version 4.3.1 (2023-06-16) -- "Beagle Scouts"
Copyright (C) 2023 The R Foundation for Statistical Computing
Platform: aarch64-apple-darwin20 (64-bit)
R is free software and comes with ABSOLUTELY NO WARRANTY.
You are welcome to redistribute it under certain conditions.
Type 'license()' or 'licence()' for distribution details.
R is a collaborative project with many contributors.
Type 'contributors()' for more information and
'citation()' on how to cite R or R packages in publications.
Type 'demo()' for some demos, 'help()' for on-line help, or
'help.start()' for an HTML browser interface to help.
Type 'q()' to quit R.
>
> if ( requireNamespace("tinytest", quietly=TRUE) ){
+ tinytest::test_package("MSstatsLiP")
+ }
test_SkylinetoMSstatsLiPFormat.R 0 tests
test_SkylinetoMSstatsLiPFormat.R 1 tests [0;32mOK[0m
test_SkylinetoMSstatsLiPFormat.R 2 tests [0;32mOK[0m INFO [2023-10-18 10:08:48] ** Raw data from Skyline imported successfully.
INFO [2023-10-18 10:08:48] ** Raw data from Skyline cleaned successfully.
test_SkylinetoMSstatsLiPFormat.R 3 tests [0;32mOK[0m INFO [2023-10-18 10:08:48] ** Raw data from Skyline imported successfully.
INFO [2023-10-18 10:08:48] ** Raw data from Skyline cleaned successfully.
INFO [2023-10-18 10:08:48] ** Using annotation extracted from quantification data.
test_SkylinetoMSstatsLiPFormat.R 4 tests [0;32mOK[0m INFO [2023-10-18 10:08:48] ** Raw data from Skyline imported successfully.
INFO [2023-10-18 10:08:48] ** Raw data from Skyline cleaned successfully.
INFO [2023-10-18 10:08:48] ** Using annotation extracted from quantification data.
test_SkylinetoMSstatsLiPFormat.R 5 tests [0;32mOK[0m INFO [2023-10-18 10:08:48] ** Raw data from Skyline imported successfully.
INFO [2023-10-18 10:08:48] ** Raw data from Skyline cleaned successfully.
INFO [2023-10-18 10:08:48] ** Using annotation extracted from quantification data.
test_SkylinetoMSstatsLiPFormat.R 6 tests [0;32mOK[0m INFO [2023-10-18 10:08:48] ** Raw data from Skyline imported successfully.
INFO [2023-10-18 10:08:48] ** Raw data from Skyline cleaned successfully.
INFO [2023-10-18 10:08:48] ** Using annotation extracted from quantification data.
test_SkylinetoMSstatsLiPFormat.R 7 tests [0;32mOK[0m INFO [2023-10-18 10:08:48] ** Raw data from Skyline imported successfully.
INFO [2023-10-18 10:08:48] ** Raw data from Skyline cleaned successfully.
INFO [2023-10-18 10:08:48] ** Using annotation extracted from quantification data.
test_SkylinetoMSstatsLiPFormat.R 8 tests [0;32mOK[0m INFO [2023-10-18 10:08:48] ** Raw data from Skyline imported successfully.
INFO [2023-10-18 10:08:48] ** Raw data from Skyline cleaned successfully.
INFO [2023-10-18 10:08:48] ** Using annotation extracted from quantification data.
test_SkylinetoMSstatsLiPFormat.R 9 tests [0;32mOK[0m INFO [2023-10-18 10:08:48] ** Raw data from Skyline imported successfully.
INFO [2023-10-18 10:08:48] ** Raw data from Skyline cleaned successfully.
INFO [2023-10-18 10:08:48] ** Using annotation extracted from quantification data.
test_SkylinetoMSstatsLiPFormat.R 10 tests [0;32mOK[0m [0;34m0.7s[0m
test_SpectronauttoMSstatsLiPFormat.R 0 tests
test_SpectronauttoMSstatsLiPFormat.R 0 tests
test_SpectronauttoMSstatsLiPFormat.R 1 tests [0;32mOK[0m
test_SpectronauttoMSstatsLiPFormat.R 2 tests [0;32mOK[0m INFO [2023-10-18 10:08:49] ** Raw data from Spectronaut imported successfully.
INFO [2023-10-18 10:08:49] ** Raw data from Spectronaut cleaned successfully.
INFO [2023-10-18 10:08:49] ** Using annotation extracted from quantification data.
INFO [2023-10-18 10:08:49] ** Run labels were standardized to remove symbols such as '.' or '%'.
INFO [2023-10-18 10:08:49] ** The following options are used:
- Features will be defined by the columns: PeptideSequence, PrecursorCharge, FragmentIon, ProductCharge
- Shared peptides will be removed.
- Proteins with single feature will not be removed.
- Features with less than 3 measurements across runs will be removed.
WARN [2023-10-18 10:08:49] ** PGQvalue not found in input columns.
INFO [2023-10-18 10:08:49] ** Intensities with values not smaller than 0.01 in EGQvalue are replaced with 0
INFO [2023-10-18 10:08:49] ** Features with all missing measurements across runs are removed.
INFO [2023-10-18 10:08:49] ** Shared peptides are removed.
INFO [2023-10-18 10:08:49] ** Multiple measurements in a feature and a run are summarized by summaryforMultipleRows: max
INFO [2023-10-18 10:08:49] ** Features with one or two measurements across runs are removed.
INFO [2023-10-18 10:08:49] ** Run annotation merged with quantification data.
INFO [2023-10-18 10:08:49] ** Features with one or two measurements across runs are removed.
INFO [2023-10-18 10:08:49] ** Fractionation handled.
INFO [2023-10-18 10:08:49] ** Updated quantification data to make balanced design. Missing values are marked by NA
INFO [2023-10-18 10:08:49] ** Finished preprocessing. The dataset is ready to be processed by the dataProcess function.
test_SpectronauttoMSstatsLiPFormat.R 3 tests [0;32mOK[0m
test_SpectronauttoMSstatsLiPFormat.R 4 tests [0;32mOK[0m
test_SpectronauttoMSstatsLiPFormat.R 5 tests [0;32mOK[0m
test_SpectronauttoMSstatsLiPFormat.R 6 tests [0;32mOK[0m INFO [2023-10-18 10:08:49] ** Raw data from Spectronaut imported successfully.
INFO [2023-10-18 10:08:49] ** Raw data from Spectronaut cleaned successfully.
INFO [2023-10-18 10:08:49] ** Using annotation extracted from quantification data.
INFO [2023-10-18 10:08:49] ** Run labels were standardized to remove symbols such as '.' or '%'.
test_SpectronauttoMSstatsLiPFormat.R 7 tests [0;32mOK[0m
test_SpectronauttoMSstatsLiPFormat.R 8 tests [0;32mOK[0m
test_SpectronauttoMSstatsLiPFormat.R 9 tests [0;32mOK[0m [0;34m1.3s[0m
test_dataProcessPlotsLiP.R.... 0 tests
test_dataProcessPlotsLiP.R.... 1 tests [0;32mOK[0m
test_dataProcessPlotsLiP.R.... 2 tests [0;32mOK[0m
test_dataProcessPlotsLiP.R.... 3 tests [0;32mOK[0m
test_dataProcessPlotsLiP.R.... 4 tests [0;32mOK[0m
test_dataProcessPlotsLiP.R.... 5 tests [0;32mOK[0m
test_dataProcessPlotsLiP.R.... 6 tests [0;32mOK[0m
test_dataProcessPlotsLiP.R.... 7 tests [0;32mOK[0m
test_dataProcessPlotsLiP.R.... 8 tests [0;32mOK[0m
test_dataProcessPlotsLiP.R.... 9 tests [0;32mOK[0m
test_dataProcessPlotsLiP.R.... 10 tests [0;32mOK[0m Drew the Profile plot for P14164_ILQNDLK (1 of 14)
Drew the Profile plot for P17891_ALQLINQDDADIIGGRDR (2 of 14)
Drew the Profile plot for P17891_DDDTDFLK (3 of 14)
Drew the Profile plot for P36112_SNDLLSGLTGSSQTR (4 of 14)
Drew the Profile plot for P38805_LGQTVGR (5 of 14)
Drew the Profile plot for P46959_DIIGKPYGSQIAIR (6 of 14)
Drew the Profile plot for P52893_SSSQGVEGIRK (7 of 14)
Drew the Profile plot for P52911_TWITEDDFEQIK (8 of 14)
Drew the Profile plot for P53235_ERQAVGDKLEDTQVLK (9 of 14)
Drew the Profile plot for P53858_FLDNHEVDSIVSLER (10 of 14)
Drew the Profile plot for Q02908_ISVISGVGVR (11 of 14)
Drew the Profile plot for Q12248_EFQSVSDLWK (12 of 14)
Drew the Profile plot for P16622_SHLQSNQLYSNQLPLDFALGK (13 of 14)
Drew the Profile plot for P24004_FIGASEQNIR (14 of 14)
Drew the Profile plot for P14164_ILQNDLK ( 1 of 14 )
Drew the Profile plot for P17891_ALQLINQDDADIIGGRDR ( 2 of 14 )
Drew the Profile plot for P17891_DDDTDFLK ( 3 of 14 )
Drew the Profile plot for P36112_SNDLLSGLTGSSQTR ( 4 of 14 )
Drew the Profile plot for P38805_LGQTVGR ( 5 of 14 )
Drew the Profile plot for P46959_DIIGKPYGSQIAIR ( 6 of 14 )
Drew the Profile plot for P52893_SSSQGVEGIRK ( 7 of 14 )
Drew the Profile plot for P52911_TWITEDDFEQIK ( 8 of 14 )
Drew the Profile plot for P53235_ERQAVGDKLEDTQVLK ( 9 of 14 )
Drew the Profile plot for P53858_FLDNHEVDSIVSLER ( 10 of 14 )
Drew the Profile plot for Q02908_ISVISGVGVR ( 11 of 14 )
Drew the Profile plot for Q12248_EFQSVSDLWK ( 12 of 14 )
Drew the Profile plot for P16622_SHLQSNQLYSNQLPLDFALGK ( 13 of 14 )
Drew the Profile plot for P24004_FIGASEQNIR ( 14 of 14 )
test_dataProcessPlotsLiP.R.... 11 tests [0;32mOK[0m Drew the Quality Contol plot(boxplot) for all ptms/proteins.
Drew the Quality Contol plot(boxplot) for P14164_ILQNDLK (1 of 14)
Drew the Quality Contol plot(boxplot) for P17891_ALQLINQDDADIIGGRDR (2 of 14)
Drew the Quality Contol plot(boxplot) for P17891_DDDTDFLK (3 of 14)
Drew the Quality Contol plot(boxplot) for P36112_SNDLLSGLTGSSQTR (4 of 14)
Drew the Quality Contol plot(boxplot) for P38805_LGQTVGR (5 of 14)
Drew the Quality Contol plot(boxplot) for P46959_DIIGKPYGSQIAIR (6 of 14)
Drew the Quality Contol plot(boxplot) for P52893_SSSQGVEGIRK (7 of 14)
Drew the Quality Contol plot(boxplot) for P52911_TWITEDDFEQIK (8 of 14)
Drew the Quality Contol plot(boxplot) for P53235_ERQAVGDKLEDTQVLK (9 of 14)
Drew the Quality Contol plot(boxplot) for P53858_FLDNHEVDSIVSLER (10 of 14)
Drew the Quality Contol plot(boxplot) for Q02908_ISVISGVGVR (11 of 14)
Drew the Quality Contol plot(boxplot) for Q12248_EFQSVSDLWK (12 of 14)
Drew the Quality Contol plot(boxplot) for P16622_SHLQSNQLYSNQLPLDFALGK (13 of 14)
Drew the Quality Contol plot(boxplot) for P24004_FIGASEQNIR (14 of 14)
test_dataProcessPlotsLiP.R.... 12 tests [0;32mOK[0m [0;34m44.3s[0m
test_dataSummarizationLiP.R... 0 tests
test_dataSummarizationLiP.R... 0 tests
test_dataSummarizationLiP.R... 1 tests [0;32mOK[0m
test_dataSummarizationLiP.R... 2 tests [0;32mOK[0m
test_dataSummarizationLiP.R... 3 tests [0;32mOK[0m
test_dataSummarizationLiP.R... 4 tests [0;32mOK[0m
test_dataSummarizationLiP.R... 5 tests [0;32mOK[0m
test_dataSummarizationLiP.R... 6 tests [0;32mOK[0m
test_dataSummarizationLiP.R... 7 tests [0;32mOK[0m
test_dataSummarizationLiP.R... 8 tests [0;32mOK[0m
test_dataSummarizationLiP.R... 9 tests [0;32mOK[0m
test_dataSummarizationLiP.R... 10 tests [0;32mOK[0m
test_dataSummarizationLiP.R... 11 tests [0;32mOK[0m
test_dataSummarizationLiP.R... 12 tests [0;32mOK[0m
test_dataSummarizationLiP.R... 13 tests [0;32mOK[0m
test_dataSummarizationLiP.R... 14 tests [0;32mOK[0m
test_dataSummarizationLiP.R... 15 tests [0;32mOK[0m
test_dataSummarizationLiP.R... 16 tests [0;32mOK[0m
test_dataSummarizationLiP.R... 17 tests [0;32mOK[0m
test_dataSummarizationLiP.R... 18 tests [0;32mOK[0m
test_dataSummarizationLiP.R... 19 tests [0;32mOK[0m
test_dataSummarizationLiP.R... 20 tests [0;32mOK[0m
test_dataSummarizationLiP.R... 21 tests [0;32mOK[0m
test_dataSummarizationLiP.R... 22 tests [0;32mOK[0m
test_dataSummarizationLiP.R... 23 tests [0;32mOK[0m
test_dataSummarizationLiP.R... 24 tests [0;32mOK[0m
test_dataSummarizationLiP.R... 25 tests [0;32mOK[0m
test_dataSummarizationLiP.R... 26 tests [0;32mOK[0m
test_dataSummarizationLiP.R... 27 tests [0;32mOK[0m
test_dataSummarizationLiP.R... 28 tests [0;32mOK[0m Starting PTM summarization...
test_dataSummarizationLiP.R... 29 tests [0;32mOK[0m [0;34m0.3s[0m
test_groupComparisonLiP.R..... 0 tests
test_groupComparisonLiP.R..... 0 tests
test_groupComparisonLiP.R..... 1 tests [0;32mOK[0m
test_groupComparisonLiP.R..... 2 tests [0;32mOK[0m Starting PTM modeling...
test_groupComparisonLiP.R..... 3 tests [0;32mOK[0m Starting PTM modeling...
INFO [2023-10-18 10:09:35] == Start to test and get inference in whole plot ...
|
| | 0%
|
|===== | 7%
|
|========== | 14%
|
|=============== | 21%
|
|==================== | 29%
|
|========================= | 36%
|
|============================== | 43%
|
|=================================== | 50%
|
|======================================== | 57%
|
|============================================= | 64%
|
|================================================== | 71%
|
|======================================================= | 79%
|
|============================================================ | 86%
|
|================================================================= | 93%
|
|======================================================================| 100%
INFO [2023-10-18 10:09:35] == Comparisons for all proteins are done.
Starting Protein modeling...
INFO [2023-10-18 10:09:35] == Start to test and get inference in whole plot ...
|
| | 0%
|
|===== | 8%
|
|=========== | 15%
|
|================ | 23%
|
|====================== | 31%
|
|=========================== | 38%
|
|================================ | 46%
|
|====================================== | 54%
|
|=========================================== | 62%
|
|================================================ | 69%
|
|====================================================== | 77%
|
|=========================================================== | 85%
|
|================================================================= | 92%
|
|======================================================================| 100%
INFO [2023-10-18 10:09:35] == Comparisons for all proteins are done.
Starting adjustment...
test_groupComparisonLiP.R..... 3 tests [0;32mOK[0m
test_groupComparisonLiP.R..... 4 tests [0;32mOK[0m
test_groupComparisonLiP.R..... 5 tests [0;32mOK[0m
test_groupComparisonLiP.R..... 6 tests [0;32mOK[0m
test_groupComparisonLiP.R..... 7 tests [0;32mOK[0m
test_groupComparisonLiP.R..... 8 tests [0;32mOK[0m
test_groupComparisonLiP.R..... 9 tests [0;32mOK[0m
test_groupComparisonLiP.R..... 10 tests [0;32mOK[0m [0;34m1.0s[0m
test_groupComparisonPlotsLiP.R 0 tests
test_groupComparisonPlotsLiP.R 1 tests [0;32mOK[0m
test_groupComparisonPlotsLiP.R 2 tests [0;32mOK[0m
test_groupComparisonPlotsLiP.R 3 tests [0;32mOK[0m
test_groupComparisonPlotsLiP.R 4 tests [0;32mOK[0m
test_groupComparisonPlotsLiP.R 5 tests [0;32mOK[0m
test_groupComparisonPlotsLiP.R 6 tests [0;32mOK[0m
test_groupComparisonPlotsLiP.R 7 tests [0;32mOK[0m
test_groupComparisonPlotsLiP.R 8 tests [0;32mOK[0m
test_groupComparisonPlotsLiP.R 9 tests [0;32mOK[0m
test_groupComparisonPlotsLiP.R 10 tests [0;32mOK[0m
test_groupComparisonPlotsLiP.R 11 tests [0;32mOK[0m
test_groupComparisonPlotsLiP.R 12 tests [0;32mOK[0m
test_groupComparisonPlotsLiP.R 13 tests [0;32mOK[0m
test_groupComparisonPlotsLiP.R 14 tests [0;32mOK[0m
test_groupComparisonPlotsLiP.R 15 tests [0;32mOK[0m
test_groupComparisonPlotsLiP.R 16 tests [0;32mOK[0m [0;34m8.8s[0m
test_trypticHistogramLiP.R.... 0 tests
test_trypticHistogramLiP.R.... 0 tests
test_trypticHistogramLiP.R.... 1 tests [0;32mOK[0m
test_trypticHistogramLiP.R.... 2 tests [0;32mOK[0m
test_trypticHistogramLiP.R.... 3 tests [0;32mOK[0m
test_trypticHistogramLiP.R.... 4 tests [0;32mOK[0m
test_trypticHistogramLiP.R.... 5 tests [0;32mOK[0m
test_trypticHistogramLiP.R.... 6 tests [0;32mOK[0m
test_trypticHistogramLiP.R.... 7 tests [0;32mOK[0m
test_trypticHistogramLiP.R.... 8 tests [0;32mOK[0m
test_trypticHistogramLiP.R.... 9 tests [0;32mOK[0m
test_trypticHistogramLiP.R.... 10 tests [0;32mOK[0m
test_trypticHistogramLiP.R.... 11 tests [0;32mOK[0m
test_trypticHistogramLiP.R.... 12 tests [0;32mOK[0m
test_trypticHistogramLiP.R.... 13 tests [0;32mOK[0m
test_trypticHistogramLiP.R.... 14 tests [0;32mOK[0m
test_trypticHistogramLiP.R.... 15 tests [0;32mOK[0m
test_trypticHistogramLiP.R.... 16 tests [0;32mOK[0m
test_trypticHistogramLiP.R.... 17 tests [0;32mOK[0m
test_trypticHistogramLiP.R.... 18 tests [0;32mOK[0m
test_trypticHistogramLiP.R.... 19 tests [0;32mOK[0m
test_trypticHistogramLiP.R.... 20 tests [0;32mOK[0m
test_trypticHistogramLiP.R.... 21 tests [0;32mOK[0m
test_trypticHistogramLiP.R.... 22 tests [0;32mOK[0m
test_trypticHistogramLiP.R.... 23 tests [0;32mOK[0m
test_trypticHistogramLiP.R.... 24 tests [0;32mOK[0m
test_trypticHistogramLiP.R.... 25 tests [0;32mOK[0m [0;34m16.3s[0m
All ok, 111 results (1m 12.7s)
Warning messages:
1: In max(datafeature.ptm$ABUNDANCE, na.rm = TRUE) :
no non-missing arguments to max; returning -Inf
2: In as.data.table.list(x, keep.rownames = keep.rownames, check.names = check.names, :
Item 1 has 0 rows but longest item has 1; filled with NA
3: In as.data.table.list(x, keep.rownames = keep.rownames, check.names = check.names, :
Item 3 has 0 rows but longest item has 1; filled with NA
4: In as.data.table.list(x, keep.rownames = keep.rownames, check.names = check.names, :
Item 4 has 0 rows but longest item has 1; filled with NA
5: In as.data.table.list(x, keep.rownames = keep.rownames, check.names = check.names, :
Item 1 has 0 rows but longest item has 1; filled with NA
6: In as.data.table.list(x, keep.rownames = keep.rownames, check.names = check.names, :
Item 2 has 0 rows but longest item has 1; filled with NA
7: In as.data.table.list(x, keep.rownames = keep.rownames, check.names = check.names, :
Item 3 has 0 rows but longest item has 1; filled with NA
8: In as.data.table.list(x, keep.rownames = keep.rownames, check.names = check.names, :
Item 1 has 0 rows but longest item has 1; filled with NA
9: In as.data.table.list(x, keep.rownames = keep.rownames, check.names = check.names, :
Item 2 has 0 rows but longest item has 1; filled with NA
10: In as.data.table.list(x, keep.rownames = keep.rownames, check.names = check.names, :
Item 3 has 0 rows but longest item has 1; filled with NA
>
> proc.time()
user system elapsed
53.573 1.118 83.694
MSstatsLiP.Rcheck/MSstatsLiP-Ex.timings
| name | user | system | elapsed | |
| LiPRawData | 0.017 | 0.002 | 0.026 | |
| MSstatsLiP_Summarized | 0.013 | 0.002 | 0.020 | |
| MSstatsLiP_data | 0.005 | 0.001 | 0.008 | |
| MSstatsLiP_model | 0.007 | 0.002 | 0.013 | |
| PCAPlotLiP | 1.928 | 0.067 | 2.904 | |
| ResistanceBarcodePlotLiP | 0.001 | 0.001 | 0.004 | |
| SkylineTest | 0.004 | 0.001 | 0.008 | |
| SkylinetoMSstatsLiPFormat | 0.004 | 0.001 | 0.008 | |
| SpectronauttoMSstatsLiPFormat | 0.305 | 0.013 | 0.430 | |
| StructuralBarcodePlotLiP | 3.908 | 0.060 | 5.344 | |
| TrPRawData | 0.003 | 0.001 | 0.006 | |
| annotSite | 0.001 | 0.000 | 0.001 | |
| calculateProteolyticResistance | 0.009 | 0.001 | 0.011 | |
| calculateTrypticity | 0.015 | 0.002 | 0.021 | |
| correlationPlotLiP | 0.383 | 0.008 | 0.498 | |
| dataProcessPlotsLiP | 29.357 | 0.391 | 45.290 | |
| dataSummarizationLiP | 0.744 | 0.020 | 1.188 | |
| groupComparisonLiP | 0.499 | 0.010 | 0.779 | |
| groupComparisonPlotsLiP | 2.267 | 0.037 | 3.534 | |
| locateMod | 0.000 | 0.000 | 0.001 | |
| locatePTM | 0.137 | 0.004 | 0.221 | |
| raw_lip | 0.082 | 0.002 | 0.128 | |
| raw_prot | 0.093 | 0.002 | 0.146 | |
| tidyFasta | 0.035 | 0.002 | 0.067 | |
| trypticHistogramLiP | 0.377 | 0.006 | 0.590 | |