| Back to Mac ARM64 build report for BioC 3.17 |
|
This page was generated on 2023-10-20 09:38:07 -0400 (Fri, 20 Oct 2023).
| Hostname | OS | Arch (*) | R version | Installed pkgs |
|---|---|---|---|---|
| kjohnson2 | macOS 12.6.1 Monterey | arm64 | 4.3.1 (2023-06-16) -- "Beagle Scouts" | 4347 |
| Click on any hostname to see more info about the system (e.g. compilers) (*) as reported by 'uname -p', except on Windows and Mac OS X | ||||
| Package 1293/2230 | Hostname | OS / Arch | INSTALL | BUILD | CHECK | BUILD BIN | ||||||||
| MSA2dist 1.4.0 (landing page) Kristian K Ullrich
| kjohnson2 | macOS 12.6.1 Monterey / arm64 | OK | OK | OK | OK | ||||||||
|
To the developers/maintainers of the MSA2dist package: - Use the following Renviron settings to reproduce errors and warnings. - If 'R CMD check' started to fail recently on the Linux builder(s) over a missing dependency, add the missing dependency to 'Suggests:' in your DESCRIPTION file. See Renviron.bioc for more information. |
| Package: MSA2dist |
| Version: 1.4.0 |
| Command: /Library/Frameworks/R.framework/Resources/bin/R CMD check --install=check:MSA2dist.install-out.txt --library=/Library/Frameworks/R.framework/Resources/library --no-vignettes --timings MSA2dist_1.4.0.tar.gz |
| StartedAt: 2023-10-18 09:26:17 -0400 (Wed, 18 Oct 2023) |
| EndedAt: 2023-10-18 09:31:44 -0400 (Wed, 18 Oct 2023) |
| EllapsedTime: 327.5 seconds |
| RetCode: 0 |
| Status: OK |
| CheckDir: MSA2dist.Rcheck |
| Warnings: 0 |
##############################################################################
##############################################################################
###
### Running command:
###
### /Library/Frameworks/R.framework/Resources/bin/R CMD check --install=check:MSA2dist.install-out.txt --library=/Library/Frameworks/R.framework/Resources/library --no-vignettes --timings MSA2dist_1.4.0.tar.gz
###
##############################################################################
##############################################################################
* using log directory ‘/Users/biocbuild/bbs-3.17-bioc-mac-arm64/meat/MSA2dist.Rcheck’
* using R version 4.3.1 (2023-06-16)
* using platform: aarch64-apple-darwin20 (64-bit)
* R was compiled by
Apple clang version 14.0.0 (clang-1400.0.29.202)
GNU Fortran (GCC) 12.2.0
* running under: macOS Monterey 12.6.7
* using session charset: UTF-8
* using option ‘--no-vignettes’
* checking for file ‘MSA2dist/DESCRIPTION’ ... OK
* checking extension type ... Package
* this is package ‘MSA2dist’ version ‘1.4.0’
* package encoding: UTF-8
* checking package namespace information ... OK
* checking package dependencies ... OK
* checking if this is a source package ... OK
* checking if there is a namespace ... OK
* checking for hidden files and directories ... OK
* checking for portable file names ... OK
* checking for sufficient/correct file permissions ... OK
* checking whether package ‘MSA2dist’ can be installed ... OK
* used C++ compiler: ‘Apple clang version 14.0.0 (clang-1400.0.29.202)’
* used SDK: ‘MacOSX11.3.sdk’
* checking C++ specification ... NOTE
Specified C++11: please drop specification unless essential
* checking installed package size ... OK
* checking package directory ... OK
* checking ‘build’ directory ... OK
* checking DESCRIPTION meta-information ... OK
* checking top-level files ... OK
* checking for left-over files ... OK
* checking index information ... OK
* checking package subdirectories ... OK
* checking R files for non-ASCII characters ... OK
* checking R files for syntax errors ... OK
* checking whether the package can be loaded ... OK
* checking whether the package can be loaded with stated dependencies ... OK
* checking whether the package can be unloaded cleanly ... OK
* checking whether the namespace can be loaded with stated dependencies ... OK
* checking whether the namespace can be unloaded cleanly ... OK
* checking dependencies in R code ... OK
* checking S3 generic/method consistency ... OK
* checking replacement functions ... OK
* checking foreign function calls ... OK
* checking R code for possible problems ... OK
* checking Rd files ... OK
* checking Rd metadata ... OK
* checking Rd cross-references ... OK
* checking for missing documentation entries ... OK
* checking for code/documentation mismatches ... OK
* checking Rd \usage sections ... OK
* checking Rd contents ... OK
* checking for unstated dependencies in examples ... OK
* checking contents of ‘data’ directory ... OK
* checking data for non-ASCII characters ... OK
* checking data for ASCII and uncompressed saves ... OK
* checking line endings in C/C++/Fortran sources/headers ... OK
* checking compiled code ... NOTE
Note: information on .o files is not available
* checking files in ‘vignettes’ ... OK
* checking examples ... OK
Examples with CPU (user + system) or elapsed time > 5s
user system elapsed
codonmat2xy 5.714 0.843 8.796
* checking for unstated dependencies in ‘tests’ ... OK
* checking tests ...
Running ‘testthat.R’
OK
* checking for unstated dependencies in vignettes ... OK
* checking package vignettes in ‘inst/doc’ ... OK
* checking running R code from vignettes ... SKIPPED
* checking re-building of vignette outputs ... SKIPPED
* checking PDF version of manual ... OK
* DONE
Status: 2 NOTEs
See
‘/Users/biocbuild/bbs-3.17-bioc-mac-arm64/meat/MSA2dist.Rcheck/00check.log’
for details.
MSA2dist.Rcheck/00install.out
############################################################################## ############################################################################## ### ### Running command: ### ### /Library/Frameworks/R.framework/Resources/bin/R CMD INSTALL MSA2dist ### ############################################################################## ############################################################################## * installing to library ‘/Library/Frameworks/R.framework/Versions/4.3-arm64/Resources/library’ * installing *source* package ‘MSA2dist’ ... ** using staged installation ** libs using C++ compiler: ‘Apple clang version 14.0.0 (clang-1400.0.29.202)’ using C++11 using SDK: ‘MacOSX11.3.sdk’ clang++ -arch arm64 -std=gnu++11 -I"/Library/Frameworks/R.framework/Resources/include" -DNDEBUG -I'/Library/Frameworks/R.framework/Versions/4.3-arm64/Resources/library/Rcpp/include' -I'/Library/Frameworks/R.framework/Versions/4.3-arm64/Resources/library/RcppThread/include' -I/opt/R/arm64/include -fPIC -falign-functions=64 -Wall -g -O2 -c GY94.cpp -o GY94.o clang++ -arch arm64 -std=gnu++11 -I"/Library/Frameworks/R.framework/Resources/include" -DNDEBUG -I'/Library/Frameworks/R.framework/Versions/4.3-arm64/Resources/library/Rcpp/include' -I'/Library/Frameworks/R.framework/Versions/4.3-arm64/Resources/library/RcppThread/include' -I/opt/R/arm64/include -fPIC -falign-functions=64 -Wall -g -O2 -c KaKs.cpp -o KaKs.o clang++ -arch arm64 -std=gnu++11 -I"/Library/Frameworks/R.framework/Resources/include" -DNDEBUG -I'/Library/Frameworks/R.framework/Versions/4.3-arm64/Resources/library/Rcpp/include' -I'/Library/Frameworks/R.framework/Versions/4.3-arm64/Resources/library/RcppThread/include' -I/opt/R/arm64/include -fPIC -falign-functions=64 -Wall -g -O2 -c LPB93.cpp -o LPB93.o clang++ -arch arm64 -std=gnu++11 -I"/Library/Frameworks/R.framework/Resources/include" -DNDEBUG -I'/Library/Frameworks/R.framework/Versions/4.3-arm64/Resources/library/Rcpp/include' -I'/Library/Frameworks/R.framework/Versions/4.3-arm64/Resources/library/RcppThread/include' -I/opt/R/arm64/include -fPIC -falign-functions=64 -Wall -g -O2 -c LWL85.cpp -o LWL85.o clang++ -arch arm64 -std=gnu++11 -I"/Library/Frameworks/R.framework/Resources/include" -DNDEBUG -I'/Library/Frameworks/R.framework/Versions/4.3-arm64/Resources/library/Rcpp/include' -I'/Library/Frameworks/R.framework/Versions/4.3-arm64/Resources/library/RcppThread/include' -I/opt/R/arm64/include -fPIC -falign-functions=64 -Wall -g -O2 -c MSMA.cpp -o MSMA.o clang++ -arch arm64 -std=gnu++11 -I"/Library/Frameworks/R.framework/Resources/include" -DNDEBUG -I'/Library/Frameworks/R.framework/Versions/4.3-arm64/Resources/library/Rcpp/include' -I'/Library/Frameworks/R.framework/Versions/4.3-arm64/Resources/library/RcppThread/include' -I/opt/R/arm64/include -fPIC -falign-functions=64 -Wall -g -O2 -c MYN.cpp -o MYN.o clang++ -arch arm64 -std=gnu++11 -I"/Library/Frameworks/R.framework/Resources/include" -DNDEBUG -I'/Library/Frameworks/R.framework/Versions/4.3-arm64/Resources/library/Rcpp/include' -I'/Library/Frameworks/R.framework/Versions/4.3-arm64/Resources/library/RcppThread/include' -I/opt/R/arm64/include -fPIC -falign-functions=64 -Wall -g -O2 -c NG86.cpp -o NG86.o clang++ -arch arm64 -std=gnu++11 -I"/Library/Frameworks/R.framework/Resources/include" -DNDEBUG -I'/Library/Frameworks/R.framework/Versions/4.3-arm64/Resources/library/Rcpp/include' -I'/Library/Frameworks/R.framework/Versions/4.3-arm64/Resources/library/RcppThread/include' -I/opt/R/arm64/include -fPIC -falign-functions=64 -Wall -g -O2 -c RcppExports.cpp -o RcppExports.o clang++ -arch arm64 -std=gnu++11 -I"/Library/Frameworks/R.framework/Resources/include" -DNDEBUG -I'/Library/Frameworks/R.framework/Versions/4.3-arm64/Resources/library/Rcpp/include' -I'/Library/Frameworks/R.framework/Versions/4.3-arm64/Resources/library/RcppThread/include' -I/opt/R/arm64/include -fPIC -falign-functions=64 -Wall -g -O2 -c YN00.cpp -o YN00.o clang++ -arch arm64 -std=gnu++11 -I"/Library/Frameworks/R.framework/Resources/include" -DNDEBUG -I'/Library/Frameworks/R.framework/Versions/4.3-arm64/Resources/library/Rcpp/include' -I'/Library/Frameworks/R.framework/Versions/4.3-arm64/Resources/library/RcppThread/include' -I/opt/R/arm64/include -fPIC -falign-functions=64 -Wall -g -O2 -c base.cpp -o base.o clang++ -arch arm64 -std=gnu++11 -I"/Library/Frameworks/R.framework/Resources/include" -DNDEBUG -I'/Library/Frameworks/R.framework/Versions/4.3-arm64/Resources/library/Rcpp/include' -I'/Library/Frameworks/R.framework/Versions/4.3-arm64/Resources/library/RcppThread/include' -I/opt/R/arm64/include -fPIC -falign-functions=64 -Wall -g -O2 -c rcpp_KaKs.cpp -o rcpp_KaKs.o clang++ -arch arm64 -std=gnu++11 -I"/Library/Frameworks/R.framework/Resources/include" -DNDEBUG -I'/Library/Frameworks/R.framework/Versions/4.3-arm64/Resources/library/Rcpp/include' -I'/Library/Frameworks/R.framework/Versions/4.3-arm64/Resources/library/RcppThread/include' -I/opt/R/arm64/include -fPIC -falign-functions=64 -Wall -g -O2 -c rcpp_distSTRING.cpp -o rcpp_distSTRING.o clang++ -arch arm64 -std=gnu++11 -I"/Library/Frameworks/R.framework/Resources/include" -DNDEBUG -I'/Library/Frameworks/R.framework/Versions/4.3-arm64/Resources/library/Rcpp/include' -I'/Library/Frameworks/R.framework/Versions/4.3-arm64/Resources/library/RcppThread/include' -I/opt/R/arm64/include -fPIC -falign-functions=64 -Wall -g -O2 -c rcpp_pairwiseDeletionAA.cpp -o rcpp_pairwiseDeletionAA.o clang++ -arch arm64 -std=gnu++11 -I"/Library/Frameworks/R.framework/Resources/include" -DNDEBUG -I'/Library/Frameworks/R.framework/Versions/4.3-arm64/Resources/library/Rcpp/include' -I'/Library/Frameworks/R.framework/Versions/4.3-arm64/Resources/library/RcppThread/include' -I/opt/R/arm64/include -fPIC -falign-functions=64 -Wall -g -O2 -c rcpp_pairwiseDeletionDNA.cpp -o rcpp_pairwiseDeletionDNA.o clang++ -arch arm64 -std=gnu++11 -dynamiclib -Wl,-headerpad_max_install_names -undefined dynamic_lookup -single_module -multiply_defined suppress -L/Library/Frameworks/R.framework/Resources/lib -L/opt/R/arm64/lib -o MSA2dist.so GY94.o KaKs.o LPB93.o LWL85.o MSMA.o MYN.o NG86.o RcppExports.o YN00.o base.o rcpp_KaKs.o rcpp_distSTRING.o rcpp_pairwiseDeletionAA.o rcpp_pairwiseDeletionDNA.o -F/Library/Frameworks/R.framework/.. -framework R -Wl,-framework -Wl,CoreFoundation installing to /Library/Frameworks/R.framework/Versions/4.3-arm64/Resources/library/00LOCK-MSA2dist/00new/MSA2dist/libs ** R ** data ** byte-compile and prepare package for lazy loading ** help *** installing help indices *** copying figures ** building package indices ** installing vignettes ** testing if installed package can be loaded from temporary location ** checking absolute paths in shared objects and dynamic libraries ** testing if installed package can be loaded from final location ** testing if installed package keeps a record of temporary installation path * DONE (MSA2dist)
MSA2dist.Rcheck/tests/testthat.Rout
R version 4.3.1 (2023-06-16) -- "Beagle Scouts"
Copyright (C) 2023 The R Foundation for Statistical Computing
Platform: aarch64-apple-darwin20 (64-bit)
R is free software and comes with ABSOLUTELY NO WARRANTY.
You are welcome to redistribute it under certain conditions.
Type 'license()' or 'licence()' for distribution details.
R is a collaborative project with many contributors.
Type 'contributors()' for more information and
'citation()' on how to cite R or R packages in publications.
Type 'demo()' for some demos, 'help()' for on-line help, or
'help.start()' for an HTML browser interface to help.
Type 'q()' to quit R.
> library(testthat)
> library(MSA2dist)
>
> test_check("MSA2dist")
Computing: [========================================] 100% (done)
Computing: [========================================] 100% (done)
Computing: [========================================] 100% (done)
Computing: [========================================] 100% (done)
Computing: [========================================] 100% (done)
Computing: [========================================] 100% (done)
Computing: [========================================] 100% (done)
Computing: [========================================] 100% (done)
Computing: [========================================] 100% (done)
Computing: [========================================] 100% (done)
Computing: [========================================] 100% (done)
Computing: [========================================] 100% (done)
Computing: [========================================] 100% (done)
Computing: [========================================] 100% (done)
Computing: [========================================] 100% (done)
[ FAIL 0 | WARN 0 | SKIP 0 | PASS 107 ]
>
> proc.time()
user system elapsed
74.976 5.671 116.777
MSA2dist.Rcheck/MSA2dist-Ex.timings
| name | user | system | elapsed | |
| AAMatrix-data | 0.003 | 0.002 | 0.007 | |
| GENETIC_CODE_TCAG | 0.004 | 0.003 | 0.009 | |
| aabin2aastring | 0.083 | 0.004 | 0.134 | |
| aastring2aabin | 0.398 | 0.007 | 0.625 | |
| aastring2aln | 0.173 | 0.003 | 0.271 | |
| aastring2dist | 0.843 | 0.026 | 1.648 | |
| addmask2string | 0.292 | 0.014 | 0.551 | |
| addpop2string | 0.496 | 0.011 | 0.789 | |
| addpos2string | 0.101 | 0.009 | 0.171 | |
| addregion2string | 0.258 | 0.009 | 0.391 | |
| aln2aastring | 0.447 | 0.006 | 0.677 | |
| aln2dnastring | 0.024 | 0.001 | 0.035 | |
| cds2aa | 0.552 | 0.040 | 0.893 | |
| cds2codonaln | 0.492 | 0.015 | 0.746 | |
| codon2numberAMBIG | 0.000 | 0.001 | 0.001 | |
| codon2numberTCAG | 0.000 | 0.001 | 0.001 | |
| codonmat2pnps | 0.043 | 0.005 | 0.072 | |
| codonmat2xy | 5.714 | 0.843 | 8.796 | |
| compareCodons | 0.058 | 0.007 | 0.097 | |
| dnabin2dnastring | 0.038 | 0.006 | 0.066 | |
| dnastring2aln | 0.017 | 0.002 | 0.029 | |
| dnastring2codonmat | 0.048 | 0.004 | 0.082 | |
| dnastring2dist | 0.184 | 0.033 | 0.352 | |
| dnastring2dnabin | 0.016 | 0.002 | 0.029 | |
| dnastring2kaks | 1.099 | 0.490 | 4.687 | |
| getmask | 1.600 | 0.281 | 0.446 | |
| getpos | 0.079 | 0.011 | 0.141 | |
| globalDeletion | 0.022 | 0.003 | 0.040 | |
| granthamMatrix | 0.001 | 0.003 | 0.004 | |
| hiv-data | 0.028 | 0.004 | 0.045 | |
| iupac-data | 0.077 | 0.009 | 0.134 | |
| iupacMatrix | 0.000 | 0.002 | 0.004 | |
| makePostalignedSeqs | 0.540 | 0.032 | 0.864 | |
| popinteger | 0.231 | 0.009 | 0.375 | |
| popnames | 0.230 | 0.010 | 0.355 | |
| rcpp_KaKs | 0.082 | 0.009 | 0.131 | |
| rcpp_distSTRING | 0.032 | 0.005 | 0.053 | |
| rcpp_pairwiseDeletionAA | 0.192 | 0.006 | 0.295 | |
| rcpp_pairwiseDeletionDNA | 0.014 | 0.002 | 0.029 | |
| region | 0.218 | 0.009 | 0.340 | |
| regionused | 0.223 | 0.009 | 0.333 | |
| string2region | 0.560 | 0.012 | 0.819 | |
| subString | 0.025 | 0.003 | 0.039 | |
| uptriidx | 0.001 | 0.000 | 0.001 | |