| Back to Mac ARM64 build report for BioC 3.17 |
|
This page was generated on 2023-10-20 09:38:06 -0400 (Fri, 20 Oct 2023).
| Hostname | OS | Arch (*) | R version | Installed pkgs |
|---|---|---|---|---|
| kjohnson2 | macOS 12.6.1 Monterey | arm64 | 4.3.1 (2023-06-16) -- "Beagle Scouts" | 4347 |
| Click on any hostname to see more info about the system (e.g. compilers) (*) as reported by 'uname -p', except on Windows and Mac OS X | ||||
| Package 1270/2230 | Hostname | OS / Arch | INSTALL | BUILD | CHECK | BUILD BIN | ||||||||
| MOFA2 1.10.0 (landing page) Ricard Argelaguet
| kjohnson2 | macOS 12.6.1 Monterey / arm64 | OK | OK | OK | OK | ||||||||
|
To the developers/maintainers of the MOFA2 package: - Use the following Renviron settings to reproduce errors and warnings. - If 'R CMD check' started to fail recently on the Linux builder(s) over a missing dependency, add the missing dependency to 'Suggests:' in your DESCRIPTION file. See Renviron.bioc for more information. |
| Package: MOFA2 |
| Version: 1.10.0 |
| Command: /Library/Frameworks/R.framework/Resources/bin/R CMD check --install=check:MOFA2.install-out.txt --library=/Library/Frameworks/R.framework/Resources/library --no-vignettes --timings MOFA2_1.10.0.tar.gz |
| StartedAt: 2023-10-18 08:43:59 -0400 (Wed, 18 Oct 2023) |
| EndedAt: 2023-10-18 08:49:21 -0400 (Wed, 18 Oct 2023) |
| EllapsedTime: 321.2 seconds |
| RetCode: 0 |
| Status: OK |
| CheckDir: MOFA2.Rcheck |
| Warnings: 0 |
##############################################################################
##############################################################################
###
### Running command:
###
### /Library/Frameworks/R.framework/Resources/bin/R CMD check --install=check:MOFA2.install-out.txt --library=/Library/Frameworks/R.framework/Resources/library --no-vignettes --timings MOFA2_1.10.0.tar.gz
###
##############################################################################
##############################################################################
* using log directory ‘/Users/biocbuild/bbs-3.17-bioc-mac-arm64/meat/MOFA2.Rcheck’
* using R version 4.3.1 (2023-06-16)
* using platform: aarch64-apple-darwin20 (64-bit)
* R was compiled by
Apple clang version 14.0.0 (clang-1400.0.29.202)
GNU Fortran (GCC) 12.2.0
* running under: macOS Monterey 12.6.7
* using session charset: UTF-8
* using option ‘--no-vignettes’
* checking for file ‘MOFA2/DESCRIPTION’ ... OK
* checking extension type ... Package
* this is package ‘MOFA2’ version ‘1.10.0’
* package encoding: UTF-8
* checking package namespace information ... OK
* checking package dependencies ... OK
* checking if this is a source package ... OK
* checking if there is a namespace ... OK
* checking for hidden files and directories ... OK
* checking for portable file names ... OK
* checking for sufficient/correct file permissions ... OK
* checking whether package ‘MOFA2’ can be installed ... NOTE
Found the following notes/warnings:
Non-staged installation was used
See ‘/Users/biocbuild/bbs-3.17-bioc-mac-arm64/meat/MOFA2.Rcheck/00install.out’ for details.
* checking installed package size ... OK
* checking package directory ... OK
* checking ‘build’ directory ... OK
* checking DESCRIPTION meta-information ... OK
* checking top-level files ... OK
* checking for left-over files ... OK
* checking index information ... OK
* checking package subdirectories ... OK
* checking R files for non-ASCII characters ... OK
* checking R files for syntax errors ... OK
* checking whether the package can be loaded ... OK
* checking whether the package can be loaded with stated dependencies ... OK
* checking whether the package can be unloaded cleanly ... OK
* checking whether the namespace can be loaded with stated dependencies ... OK
* checking whether the namespace can be unloaded cleanly ... OK
* checking dependencies in R code ... OK
* checking S3 generic/method consistency ... OK
* checking replacement functions ... OK
* checking foreign function calls ... OK
* checking R code for possible problems ... NOTE
.plot_factors_vs_cov_1d: no visible binding for global variable
‘value.factor’
.plot_factors_vs_cov_1d: no visible binding for global variable
‘value_scaled’
.plot_factors_vs_cov_1d: no visible binding for global variable
‘value.covariate’
.plot_factors_vs_cov_1d: no visible binding for global variable ‘value’
.plot_factors_vs_cov_2d: no visible binding for global variable
‘value.factor’
.set_xax: no visible binding for global variable ‘value’
add_mofa_factors_to_seurat: no visible global function definition for
‘CreateDimReducObject’
create_mofa_from_SingleCellExperiment: no visible global function
definition for ‘colData’
get_interpolated_factors: no visible binding for global variable ‘L1’
get_interpolated_factors: no visible binding for global variable ‘L2’
get_interpolated_factors: no visible binding for global variable
‘value’
get_interpolated_factors: no visible binding for global variable
‘covariate’
get_interpolated_factors: no visible binding for global variable
‘covariate_value’
get_interpolated_factors: no visible binding for global variable
‘sample_id’
interpolate_factors: no visible binding for global variable ‘.’
plot_alignment: no visible binding for global variable ‘group’
plot_alignment: no visible binding for global variable ‘value.warped’
plot_alignment: no visible binding for global variable
‘value.unaligned’
plot_contribution_scores: no visible binding for global variable ‘view’
plot_data_overview: no visible binding for global variable ‘view’
plot_data_overview: no visible binding for global variable ‘ptotal’
plot_data_overview: no visible binding for global variable ‘ntotal’
plot_data_overview: no visible binding for global variable ‘group’
plot_data_overview: no visible binding for global variable
‘group_label’
plot_dimred: no visible binding for global variable ‘.’
plot_enrichment_detailed: no visible binding for global variable
‘pathway’
plot_enrichment_detailed: no visible binding for global variable
‘feature.statistic’
plot_factors_vs_cov: no visible binding for global variable ‘E2’
plot_factors_vs_cov: no visible binding for global variable ‘value’
plot_interpolation_vs_covariate: no visible binding for global variable
‘variance’
plot_interpolation_vs_covariate: no visible binding for global variable
‘group’
plot_interpolation_vs_covariate: no visible binding for global variable
‘value.covariate’
plot_interpolation_vs_covariate: no visible binding for global variable
‘value.factor’
plot_interpolation_vs_covariate: no visible binding for global variable
‘ymin’
plot_interpolation_vs_covariate: no visible binding for global variable
‘ymax’
plot_sharedness: no visible binding for global variable ‘sharedness’
plot_sharedness: no visible binding for global variable ‘value’
plot_smoothness: no visible binding for global variable ‘value’
plot_smoothness: no visible binding for global variable ‘smoothness’
plot_top_weights: no visible binding for global variable ‘value’
plot_weights: no visible binding for global variable ‘value’
plot_weights: no visible binding for global variable ‘.’
summarise_factors: no visible binding for global variable ‘value’
summarise_factors: no visible binding for global variable ‘level’
summarise_factors: no visible binding for global variable ‘group’
Undefined global functions or variables:
. CreateDimReducObject E2 L1 L2 colData covariate covariate_value
feature.statistic group group_label level ntotal pathway ptotal
sample_id sharedness smoothness value value.covariate value.factor
value.unaligned value.warped value_scaled variance view ymax ymin
* checking Rd files ... OK
* checking Rd metadata ... OK
* checking Rd cross-references ... NOTE
Package unavailable to check Rd xrefs: ‘PCGSE’
* checking for missing documentation entries ... OK
* checking for code/documentation mismatches ... OK
* checking Rd \usage sections ... OK
* checking Rd contents ... OK
* checking for unstated dependencies in examples ... OK
* checking line endings in shell scripts ... OK
* checking files in ‘vignettes’ ... OK
* checking examples ... OK
Examples with CPU (user + system) or elapsed time > 5s
user system elapsed
plot_dimred 3.392 0.058 5.286
* checking for unstated dependencies in ‘tests’ ... OK
* checking tests ...
Running ‘testthat.R’
OK
* checking for unstated dependencies in vignettes ... OK
* checking package vignettes in ‘inst/doc’ ... OK
* checking running R code from vignettes ... SKIPPED
* checking re-building of vignette outputs ... SKIPPED
* checking PDF version of manual ... OK
* DONE
Status: 3 NOTEs
See
‘/Users/biocbuild/bbs-3.17-bioc-mac-arm64/meat/MOFA2.Rcheck/00check.log’
for details.
MOFA2.Rcheck/00install.out
############################################################################## ############################################################################## ### ### Running command: ### ### /Library/Frameworks/R.framework/Resources/bin/R CMD INSTALL MOFA2 ### ############################################################################## ############################################################################## * installing to library ‘/Library/Frameworks/R.framework/Versions/4.3-arm64/Resources/library’ * installing *source* package ‘MOFA2’ ... ** using non-staged installation via StagedInstall field ** R ** inst ** byte-compile and prepare package for lazy loading Creating a generic function for ‘rownames’ from package ‘base’ in package ‘MOFA2’ Creating a generic function for ‘colnames’ from package ‘base’ in package ‘MOFA2’ Creating a generic function for ‘nrow’ from package ‘base’ in package ‘MOFA2’ Creating a generic function for ‘ncol’ from package ‘base’ in package ‘MOFA2’ Creating a generic function for ‘rownames<-’ from package ‘base’ in package ‘MOFA2’ Creating a generic function for ‘colnames<-’ from package ‘base’ in package ‘MOFA2’ ** help *** installing help indices ** building package indices ** installing vignettes ** testing if installed package can be loaded * DONE (MOFA2)
MOFA2.Rcheck/tests/testthat.Rout
R version 4.3.1 (2023-06-16) -- "Beagle Scouts"
Copyright (C) 2023 The R Foundation for Statistical Computing
Platform: aarch64-apple-darwin20 (64-bit)
R is free software and comes with ABSOLUTELY NO WARRANTY.
You are welcome to redistribute it under certain conditions.
Type 'license()' or 'licence()' for distribution details.
R is a collaborative project with many contributors.
Type 'contributors()' for more information and
'citation()' on how to cite R or R packages in publications.
Type 'demo()' for some demos, 'help()' for on-line help, or
'help.start()' for an HTML browser interface to help.
Type 'q()' to quit R.
> library(testthat)
> library(MOFA2)
Attaching package: 'MOFA2'
The following object is masked from 'package:stats':
predict
>
> test_check("MOFA2")
single_group
100
____________
| |
view_0 1000 | 100% |
|____________|
____________
| |
view_1 1000 | 100% |
|____________|
[ FAIL 0 | WARN 0 | SKIP 0 | PASS 25 ]
>
> proc.time()
user system elapsed
10.847 0.679 17.741
MOFA2.Rcheck/MOFA2-Ex.timings
| name | user | system | elapsed | |
| add_mofa_factors_to_seurat | 0.006 | 0.000 | 0.010 | |
| calculate_contribution_scores | 0.317 | 0.022 | 0.539 | |
| calculate_variance_explained | 2.156 | 0.108 | 3.478 | |
| calculate_variance_explained_per_sample | 0.170 | 0.016 | 0.284 | |
| cluster_samples | 0.179 | 0.013 | 0.287 | |
| compare_elbo | 0.735 | 0.030 | 1.190 | |
| compare_factors | 0.363 | 0.025 | 0.594 | |
| covariates_names | 0.235 | 0.019 | 0.387 | |
| create_mofa | 0.646 | 0.021 | 1.015 | |
| create_mofa_from_df | 0.948 | 0.019 | 1.487 | |
| create_mofa_from_matrix | 0.012 | 0.000 | 0.019 | |
| factors_names | 0.528 | 0.016 | 0.834 | |
| features_metadata | 0.198 | 0.036 | 0.369 | |
| features_names | 0.181 | 0.025 | 0.320 | |
| get_covariates | 0.230 | 0.016 | 0.378 | |
| get_data | 0.482 | 0.026 | 0.763 | |
| get_default_data_options | 0.601 | 0.016 | 0.942 | |
| get_default_mefisto_options | 0.170 | 0.006 | 0.272 | |
| get_default_model_options | 0.620 | 0.021 | 0.990 | |
| get_default_stochastic_options | 0.608 | 0.016 | 0.961 | |
| get_default_training_options | 0.998 | 0.017 | 1.557 | |
| get_dimensions | 0.159 | 0.011 | 0.260 | |
| get_elbo | 0.161 | 0.011 | 0.264 | |
| get_expectations | 0.171 | 0.011 | 0.278 | |
| get_factors | 0.175 | 0.012 | 0.286 | |
| get_imputed_data | 0.185 | 0.016 | 0.311 | |
| get_lengthscales | 0.205 | 0.015 | 0.345 | |
| get_scales | 0.215 | 0.016 | 0.354 | |
| get_variance_explained | 0.164 | 0.011 | 0.266 | |
| get_weights | 0.184 | 0.011 | 0.299 | |
| groups_names | 0.169 | 0.013 | 0.280 | |
| impute | 0.189 | 0.015 | 0.311 | |
| interpolate_factors | 0.256 | 0.016 | 0.437 | |
| load_model | 0.172 | 0.012 | 0.290 | |
| make_example_data | 0.004 | 0.000 | 0.006 | |
| plot_ascii_data | 0.188 | 0.013 | 0.318 | |
| plot_data_heatmap | 0.232 | 0.017 | 0.360 | |
| plot_data_overview | 0.338 | 0.015 | 0.529 | |
| plot_data_scatter | 1.553 | 0.049 | 2.459 | |
| plot_data_vs_cov | 0.579 | 0.021 | 0.944 | |
| plot_dimred | 3.392 | 0.058 | 5.286 | |
| plot_factor | 1.286 | 0.029 | 2.017 | |
| plot_factor_cor | 0.181 | 0.014 | 0.298 | |
| plot_factors | 0.654 | 0.020 | 1.023 | |
| plot_factors_vs_cov | 0.532 | 0.019 | 0.846 | |
| plot_group_kernel | 0.403 | 0.019 | 0.656 | |
| plot_interpolation_vs_covariate | 0.572 | 0.022 | 0.919 | |
| plot_smoothness | 0.251 | 0.016 | 0.417 | |
| plot_top_weights | 0.895 | 0.026 | 1.413 | |
| plot_variance_explained | 1.725 | 0.039 | 2.719 | |
| plot_variance_explained_by_covariates | 1.267 | 0.031 | 2.006 | |
| plot_variance_explained_per_feature | 0.398 | 0.015 | 0.614 | |
| plot_weights | 2.799 | 0.059 | 4.391 | |
| plot_weights_heatmap | 0.351 | 0.019 | 0.581 | |
| plot_weights_scatter | 0.366 | 0.017 | 0.593 | |
| predict | 0.170 | 0.012 | 0.282 | |
| prepare_mofa | 0.586 | 0.018 | 0.954 | |
| run_mofa | 0.589 | 0.013 | 0.945 | |
| run_tsne | 0.163 | 0.011 | 0.268 | |
| run_umap | 0.157 | 0.010 | 0.262 | |
| samples_metadata | 0.168 | 0.012 | 0.275 | |
| samples_names | 0.158 | 0.011 | 0.260 | |
| set_covariates | 0.077 | 0.007 | 0.127 | |
| subset_factors | 0.185 | 0.012 | 0.302 | |
| subset_groups | 0.168 | 0.010 | 0.271 | |
| subset_samples | 0.171 | 0.012 | 0.277 | |
| subset_views | 0.177 | 0.011 | 0.293 | |
| views_names | 0.174 | 0.011 | 0.285 | |