| Back to Mac ARM64 build report for BioC 3.17 |
|
This page was generated on 2023-10-20 09:38:06 -0400 (Fri, 20 Oct 2023).
| Hostname | OS | Arch (*) | R version | Installed pkgs |
|---|---|---|---|---|
| kjohnson2 | macOS 12.6.1 Monterey | arm64 | 4.3.1 (2023-06-16) -- "Beagle Scouts" | 4347 |
| Click on any hostname to see more info about the system (e.g. compilers) (*) as reported by 'uname -p', except on Windows and Mac OS X | ||||
| Package 1263/2230 | Hostname | OS / Arch | INSTALL | BUILD | CHECK | BUILD BIN | ||||||||
| MMUPHin 1.14.0 (landing page) Siyuan MA
| kjohnson2 | macOS 12.6.1 Monterey / arm64 | OK | OK | OK | OK | ||||||||
|
To the developers/maintainers of the MMUPHin package: - Use the following Renviron settings to reproduce errors and warnings. - If 'R CMD check' started to fail recently on the Linux builder(s) over a missing dependency, add the missing dependency to 'Suggests:' in your DESCRIPTION file. See Renviron.bioc for more information. |
| Package: MMUPHin |
| Version: 1.14.0 |
| Command: /Library/Frameworks/R.framework/Resources/bin/R CMD check --install=check:MMUPHin.install-out.txt --library=/Library/Frameworks/R.framework/Resources/library --no-vignettes --timings MMUPHin_1.14.0.tar.gz |
| StartedAt: 2023-10-18 08:32:50 -0400 (Wed, 18 Oct 2023) |
| EndedAt: 2023-10-18 08:35:46 -0400 (Wed, 18 Oct 2023) |
| EllapsedTime: 175.8 seconds |
| RetCode: 0 |
| Status: OK |
| CheckDir: MMUPHin.Rcheck |
| Warnings: 0 |
##############################################################################
##############################################################################
###
### Running command:
###
### /Library/Frameworks/R.framework/Resources/bin/R CMD check --install=check:MMUPHin.install-out.txt --library=/Library/Frameworks/R.framework/Resources/library --no-vignettes --timings MMUPHin_1.14.0.tar.gz
###
##############################################################################
##############################################################################
* using log directory ‘/Users/biocbuild/bbs-3.17-bioc-mac-arm64/meat/MMUPHin.Rcheck’
* using R version 4.3.1 (2023-06-16)
* using platform: aarch64-apple-darwin20 (64-bit)
* R was compiled by
Apple clang version 14.0.0 (clang-1400.0.29.202)
GNU Fortran (GCC) 12.2.0
* running under: macOS Monterey 12.6.7
* using session charset: UTF-8
* using option ‘--no-vignettes’
* checking for file ‘MMUPHin/DESCRIPTION’ ... OK
* checking extension type ... Package
* this is package ‘MMUPHin’ version ‘1.14.0’
* package encoding: UTF-8
* checking package namespace information ... OK
* checking package dependencies ... OK
* checking if this is a source package ... OK
* checking if there is a namespace ... OK
* checking for hidden files and directories ... OK
* checking for portable file names ... OK
* checking for sufficient/correct file permissions ... OK
* checking whether package ‘MMUPHin’ can be installed ... OK
* checking installed package size ... OK
* checking package directory ... OK
* checking ‘build’ directory ... OK
* checking DESCRIPTION meta-information ... OK
* checking top-level files ... OK
* checking for left-over files ... OK
* checking index information ... OK
* checking package subdirectories ... OK
* checking R files for non-ASCII characters ... OK
* checking R files for syntax errors ... OK
* checking whether the package can be loaded ... OK
* checking whether the package can be loaded with stated dependencies ... OK
* checking whether the package can be unloaded cleanly ... OK
* checking whether the namespace can be loaded with stated dependencies ... OK
* checking whether the namespace can be unloaded cleanly ... OK
* checking dependencies in R code ... OK
* checking S3 generic/method consistency ... OK
* checking replacement functions ... OK
* checking foreign function calls ... OK
* checking R code for possible problems ... NOTE
Maaslin2_wrapper: no visible binding for global variable
‘feature_rename’
Maaslin2_wrapper: no visible binding for global variable ‘name’
check_exposure: no visible binding for global variable ‘lvl_batch’
diagnostic_adjust_batch: no visible binding for global variable
‘Adjustment’
diagnostic_adjust_batch: no visible binding for global variable ‘batch’
diagnostic_adjust_batch: no visible binding for global variable
‘mean_overall’
diagnostic_adjust_batch: no visible binding for global variable
‘mean_batch’
diagnostic_adjust_batch: no visible binding for global variable
‘Feature’
diagnostic_continuous_discover: no visible binding for global variable
‘community’
diagnostic_continuous_discover: no visible binding for global variable
‘correlation’
diagnostic_continuous_discover: no visible binding for global variable
‘batch’
diagnostic_discrete_discover: no visible binding for global variable
‘k’
Undefined global functions or variables:
Adjustment Feature batch community correlation feature_rename k
lvl_batch mean_batch mean_overall name
* checking Rd files ... OK
* checking Rd metadata ... OK
* checking Rd cross-references ... OK
* checking for missing documentation entries ... OK
* checking for code/documentation mismatches ... OK
* checking Rd \usage sections ... OK
* checking Rd contents ... OK
* checking for unstated dependencies in examples ... OK
* checking contents of ‘data’ directory ... OK
* checking data for non-ASCII characters ... OK
* checking data for ASCII and uncompressed saves ... OK
* checking files in ‘vignettes’ ... OK
* checking examples ... OK
Examples with CPU (user + system) or elapsed time > 5s
user system elapsed
continuous_discover 17.741 4.030 34.266
lm_meta 18.545 1.178 26.077
discrete_discover 13.034 0.517 19.270
* checking for unstated dependencies in ‘tests’ ... OK
* checking tests ...
Running ‘testthat.R’
OK
* checking for unstated dependencies in vignettes ... OK
* checking package vignettes in ‘inst/doc’ ... OK
* checking running R code from vignettes ... SKIPPED
* checking re-building of vignette outputs ... SKIPPED
* checking PDF version of manual ... OK
* DONE
Status: 1 NOTE
See
‘/Users/biocbuild/bbs-3.17-bioc-mac-arm64/meat/MMUPHin.Rcheck/00check.log’
for details.
MMUPHin.Rcheck/00install.out
############################################################################## ############################################################################## ### ### Running command: ### ### /Library/Frameworks/R.framework/Resources/bin/R CMD INSTALL MMUPHin ### ############################################################################## ############################################################################## * installing to library ‘/Library/Frameworks/R.framework/Versions/4.3-arm64/Resources/library’ * installing *source* package ‘MMUPHin’ ... ** using staged installation ** R ** data ** byte-compile and prepare package for lazy loading ** help *** installing help indices *** copying figures ** building package indices ** installing vignettes ** testing if installed package can be loaded from temporary location ** testing if installed package can be loaded from final location ** testing if installed package keeps a record of temporary installation path * DONE (MMUPHin)
MMUPHin.Rcheck/tests/testthat.Rout
R version 4.3.1 (2023-06-16) -- "Beagle Scouts"
Copyright (C) 2023 The R Foundation for Statistical Computing
Platform: aarch64-apple-darwin20 (64-bit)
R is free software and comes with ABSOLUTELY NO WARRANTY.
You are welcome to redistribute it under certain conditions.
Type 'license()' or 'licence()' for distribution details.
R is a collaborative project with many contributors.
Type 'contributors()' for more information and
'citation()' on how to cite R or R packages in publications.
Type 'demo()' for some demos, 'help()' for on-line help, or
'help.start()' for an HTML browser interface to help.
Type 'q()' to quit R.
> library(testthat)
> library(MMUPHin)
>
> test_check("MMUPHin")
[ FAIL 0 | WARN 2 | SKIP 0 | PASS 41 ]
[ FAIL 0 | WARN 2 | SKIP 0 | PASS 41 ]
>
> proc.time()
user system elapsed
1.543 0.162 2.513
MMUPHin.Rcheck/MMUPHin-Ex.timings
| name | user | system | elapsed | |
| CRC_abd | 0.049 | 0.023 | 0.113 | |
| CRC_meta | 0.006 | 0.002 | 0.012 | |
| adjust_batch | 2.436 | 0.141 | 3.943 | |
| continuous_discover | 17.741 | 4.030 | 34.266 | |
| discrete_discover | 13.034 | 0.517 | 19.270 | |
| lm_meta | 18.545 | 1.178 | 26.077 | |
| vaginal_abd | 0.006 | 0.007 | 0.019 | |
| vaginal_meta | 0.003 | 0.002 | 0.004 | |