| Back to Mac ARM64 build report for BioC 3.17 |
|
This page was generated on 2023-10-20 09:38:04 -0400 (Fri, 20 Oct 2023).
| Hostname | OS | Arch (*) | R version | Installed pkgs |
|---|---|---|---|---|
| kjohnson2 | macOS 12.6.1 Monterey | arm64 | 4.3.1 (2023-06-16) -- "Beagle Scouts" | 4347 |
| Click on any hostname to see more info about the system (e.g. compilers) (*) as reported by 'uname -p', except on Windows and Mac OS X | ||||
| Package 1031/2230 | Hostname | OS / Arch | INSTALL | BUILD | CHECK | BUILD BIN | ||||||||
| IsoformSwitchAnalyzeR 2.0.1 (landing page) Kristoffer Vitting-Seerup
| kjohnson2 | macOS 12.6.1 Monterey / arm64 | OK | OK | OK | OK | ||||||||
|
To the developers/maintainers of the IsoformSwitchAnalyzeR package: - Use the following Renviron settings to reproduce errors and warnings. - If 'R CMD check' started to fail recently on the Linux builder(s) over a missing dependency, add the missing dependency to 'Suggests:' in your DESCRIPTION file. See Renviron.bioc for more information. |
| Package: IsoformSwitchAnalyzeR |
| Version: 2.0.1 |
| Command: /Library/Frameworks/R.framework/Resources/bin/R CMD check --install=check:IsoformSwitchAnalyzeR.install-out.txt --library=/Library/Frameworks/R.framework/Resources/library --no-vignettes --timings IsoformSwitchAnalyzeR_2.0.1.tar.gz |
| StartedAt: 2023-10-18 03:04:19 -0400 (Wed, 18 Oct 2023) |
| EndedAt: 2023-10-18 03:22:32 -0400 (Wed, 18 Oct 2023) |
| EllapsedTime: 1092.6 seconds |
| RetCode: 0 |
| Status: OK |
| CheckDir: IsoformSwitchAnalyzeR.Rcheck |
| Warnings: 0 |
##############################################################################
##############################################################################
###
### Running command:
###
### /Library/Frameworks/R.framework/Resources/bin/R CMD check --install=check:IsoformSwitchAnalyzeR.install-out.txt --library=/Library/Frameworks/R.framework/Resources/library --no-vignettes --timings IsoformSwitchAnalyzeR_2.0.1.tar.gz
###
##############################################################################
##############################################################################
* using log directory ‘/Users/biocbuild/bbs-3.17-bioc-mac-arm64/meat/IsoformSwitchAnalyzeR.Rcheck’
* using R version 4.3.1 (2023-06-16)
* using platform: aarch64-apple-darwin20 (64-bit)
* R was compiled by
Apple clang version 14.0.0 (clang-1400.0.29.202)
GNU Fortran (GCC) 12.2.0
* running under: macOS Monterey 12.6.7
* using session charset: UTF-8
* using option ‘--no-vignettes’
* checking for file ‘IsoformSwitchAnalyzeR/DESCRIPTION’ ... OK
* checking extension type ... Package
* this is package ‘IsoformSwitchAnalyzeR’ version ‘2.0.1’
* checking package namespace information ... OK
* checking package dependencies ... NOTE
Depends: includes the non-default packages:
'limma', 'DEXSeq', 'satuRn', 'sva', 'ggplot2', 'pfamAnalyzeR'
Adding so many packages to the search path is excessive and importing
selectively is preferable.
* checking if this is a source package ... OK
* checking if there is a namespace ... OK
* checking for hidden files and directories ... OK
* checking for portable file names ... OK
* checking for sufficient/correct file permissions ... OK
* checking whether package ‘IsoformSwitchAnalyzeR’ can be installed ... OK
* used C compiler: ‘Apple clang version 14.0.0 (clang-1400.0.29.202)’
* used SDK: ‘MacOSX11.3.sdk’
* checking installed package size ... NOTE
installed size is 7.8Mb
sub-directories of 1Mb or more:
R 2.0Mb
data 1.1Mb
extdata 4.3Mb
* checking package directory ... OK
* checking ‘build’ directory ... OK
* checking DESCRIPTION meta-information ... OK
* checking top-level files ... OK
* checking for left-over files ... OK
* checking index information ... OK
* checking package subdirectories ... OK
* checking R files for non-ASCII characters ... OK
* checking R files for syntax errors ... OK
* checking whether the package can be loaded ... OK
* checking whether the package can be loaded with stated dependencies ... OK
* checking whether the package can be unloaded cleanly ... OK
* checking whether the namespace can be loaded with stated dependencies ... OK
* checking whether the namespace can be unloaded cleanly ... OK
* checking dependencies in R code ... OK
* checking S3 generic/method consistency ... OK
* checking replacement functions ... OK
* checking foreign function calls ... OK
* checking R code for possible problems ... NOTE
analyzeIUPred2A: no visible global function definition for 'queryHits'
analyzeIUPred2A: no visible global function definition for
'subjectHits'
analyzeNovelIsoformORF: no visible binding for global variable
'orf_origin'
analyzeNovelIsoformORF: no visible binding for global variable
'orfStartGenomic'
analyzeNovelIsoformORF: no visible binding for global variable
'isoform_id'
analyzeNovelIsoformORF: no visible binding for global variable
'orfEndGenomic'
compareAnnotationOfTwoIsoforms: no visible global function definition
for 'queryHits'
compareAnnotationOfTwoIsoforms: no visible global function definition
for 'subjectHits'
expressionAnalysisPlot: no visible binding for global variable
'Condition'
expressionAnalysisPlot: no visible binding for global variable
'gene_expression'
expressionAnalysisPlot: no visible binding for global variable 'CI_up'
expressionAnalysisPlot: no visible binding for global variable
'CI_down'
expressionAnalysisPlot: no visible binding for global variable
'sigLevelPos'
expressionAnalysisPlot: no visible binding for global variable
'sigLevel'
expressionAnalysisPlot: no visible binding for global variable 'CI_hi'
expressionAnalysisPlot: no visible binding for global variable 'CI_low'
expressionAnalysisPlot: no visible binding for global variable 'ymax'
expressionAnalysisPlot: no visible binding for global variable
'sigEval'
expressionAnalysisPlot: no visible binding for global variable 'idNr'
expressionAnalysisPlot: no visible binding for global variable 'IF'
extractConsequenceEnrichment: no visible binding for global variable
'feature2'
extractConsequenceEnrichment: no visible binding for global variable
'propOfRelevantEvents'
extractConsequenceEnrichment: no visible binding for global variable
'Significant'
extractConsequenceEnrichment: no visible binding for global variable
'propCiLo'
extractConsequenceEnrichment: no visible binding for global variable
'propCiHi'
extractConsequenceEnrichment: no visible binding for global variable
'nTot'
extractConsequenceEnrichmentComparison: no visible binding for global
variable 'Comparison'
extractConsequenceEnrichmentComparison: no visible binding for global
variable 'propOfRelevantEvents'
extractConsequenceEnrichmentComparison: no visible binding for global
variable 'Significant'
extractConsequenceEnrichmentComparison: no visible binding for global
variable 'nTot'
extractConsequenceEnrichmentComparison: no visible binding for global
variable 'propCiHi'
extractConsequenceEnrichmentComparison: no visible binding for global
variable 'propCiLo'
extractConsequenceGenomeWide: no visible binding for global variable
'isoform_feature'
extractConsequenceGenomeWide: no visible binding for global variable
'value'
extractConsequenceGenomeWide: no visible binding for global variable
'variable'
extractConsequenceGenomeWide: no visible binding for global variable
'ymax'
extractConsequenceGenomeWide: no visible binding for global variable
'significance'
extractConsequenceGenomeWide: no visible binding for global variable
'idNr'
extractConsequenceSummary: no visible binding for global variable
'switchConsequence'
extractConsequenceSummary: no visible binding for global variable
'geneFraction'
extractConsequenceSummary: no visible binding for global variable
'nrGenesWithConsequences'
extractConsequenceSummary: no visible binding for global variable
'isoFraction'
extractConsequenceSummary: no visible binding for global variable
'nrIsoWithConsequences'
extractSplicingEnrichment: no visible binding for global variable
'AStype'
extractSplicingEnrichment: no visible binding for global variable
'propUp'
extractSplicingEnrichment: no visible binding for global variable
'Significant'
extractSplicingEnrichment: no visible binding for global variable
'nTot'
extractSplicingEnrichment: no visible binding for global variable
'propUpCiHi'
extractSplicingEnrichment: no visible binding for global variable
'propUpCiLo'
extractSplicingEnrichmentComparison: no visible binding for global
variable 'Comparison'
extractSplicingEnrichmentComparison: no visible binding for global
variable 'propUp'
extractSplicingEnrichmentComparison: no visible binding for global
variable 'Significant'
extractSplicingEnrichmentComparison: no visible binding for global
variable 'nTot'
extractSplicingEnrichmentComparison: no visible binding for global
variable 'propUpCiHi'
extractSplicingEnrichmentComparison: no visible binding for global
variable 'propUpCiLo'
extractSplicingGenomeWide: no visible binding for global variable
'isoform_feature'
extractSplicingGenomeWide: no visible binding for global variable
'value'
extractSplicingGenomeWide: no visible binding for global variable
'variable'
extractSplicingGenomeWide: no visible binding for global variable
'ymax'
extractSplicingGenomeWide: no visible binding for global variable
'significance'
extractSplicingGenomeWide: no visible binding for global variable
'idNr'
extractSplicingSummary: no visible binding for global variable
'splicingResult'
extractSplicingSummary: no visible binding for global variable
'geneFraction'
extractSplicingSummary: no visible binding for global variable
'nrGenesWithConsequences'
extractSplicingSummary: no visible binding for global variable
'isoFraction'
extractSplicingSummary: no visible binding for global variable
'nrIsoWithConsequences'
extractSubCellShifts: no visible binding for global variable 'gene_ref'
extractSubCellShifts: no visible binding for global variable 'gene_id'
extractSubCellShifts: no visible binding for global variable
'condition_1'
extractSubCellShifts: no visible binding for global variable
'condition_2'
extractSubCellShifts: no visible binding for global variable
'isoformUpregulated'
extractSubCellShifts: no visible binding for global variable
'isoformDownregulated'
extractSubCellShifts: no visible binding for global variable
'featureCompared'
extractSubCellShifts: no visible binding for global variable
'isoformsDifferent'
extractSubCellShifts: no visible binding for global variable
'isoform_id'
extractSubCellShifts: no visible binding for global variable
'Localizations'
extractSubCellShifts: no visible binding for global variable
'location_gain'
extractSubCellShifts: no visible binding for global variable
'location_loss'
extractSubCellShifts: no visible binding for global variable 'n_genes'
extractSubCellShifts: no visible binding for global variable 'n_switch'
extractSubCellShifts: no visible binding for global variable 'Genes'
extractSubCellShifts: no visible binding for global variable 'Switch'
grangesFracOverlap: no visible global function definition for
'queryHits'
grangesFracOverlap: no visible global function definition for
'subjectHits'
importGTF: no visible binding for global variable 'gene_id'
importGTF: no visible binding for global variable 'gene_name'
importRdata: no visible binding for global variable 'isoform_id'
importRdata: no visible binding for global variable 'gene_id'
importRdata: no visible binding for global variable 'ref_gene_id'
importRdata: no visible binding for global variable 'n_ref_gene_ids'
importRdata: no visible binding for global variable 'n_iso_na'
importRdata: no visible global function definition for 'queryHits'
importRdata: no visible global function definition for 'subjectHits'
importRdata: no visible binding for global variable 'novel_iso'
importRdata: no visible binding for global variable 'known_ref_gene_id'
importRdata: no visible binding for global variable 'nt_overlap'
importRdata: no visible binding for global variable 'frac_overlap'
importRdata: no visible binding for global variable
'log2_overlap_ratio'
importRdata: no visible binding for global variable 'has_ref_gene_id'
importRdata: no visible binding for global variable 'has_novel_iso'
importRdata: no visible binding for global variable 'gene_name'
importRdata: no visible binding for global variable 'n_ref'
importSalmonData: no visible global function definition for 'metadata'
importSalmonData: no visible global function definition for 'assay'
isoformSwitchTestSatuRn: no visible global function definition for
'rowData'
isoformToGeneExp: no visible binding for global variable 'gene_id'
isoformToGeneExp: no visible binding for global variable 'gene_name'
preFilter: no visible global function definition for 'setdff'
switchPlotTranscript: no visible global function definition for
'queryHits'
switchPlotTranscript: no visible binding for global variable 'topology'
switchPlotTranscript: no visible binding for global variable 'idNr'
switchPlotTranscript: no visible binding for global variable 'Topology'
switchPlotTranscript: no visible binding for global variable 'topGroup'
switchPlotTranscript: no visible binding for global variable 'y'
switchPlotTranscript: no visible binding for global variable 'yend'
switchPlotTranscript: no visible binding for global variable 'x'
switchPlotTranscript: no visible binding for global variable 'ymin'
switchPlotTranscript: no visible binding for global variable 'xmin'
switchPlotTranscript: no visible binding for global variable 'ymax'
switchPlotTranscript: no visible binding for global variable 'xmax'
switchPlotTranscript: no visible binding for global variable 'Domain'
switchPlotTranscript: no visible binding for global variable 'value'
Undefined global functions or variables:
AStype CI_down CI_hi CI_low CI_up Comparison Condition Domain Genes
IF Localizations Significant Switch Topology assay condition_1
condition_2 feature2 featureCompared frac_overlap geneFraction
gene_expression gene_id gene_name gene_ref has_novel_iso
has_ref_gene_id idNr isoFraction isoformDownregulated
isoformUpregulated isoform_feature isoform_id isoformsDifferent
known_ref_gene_id location_gain location_loss log2_overlap_ratio
metadata nTot n_genes n_iso_na n_ref n_ref_gene_ids n_switch
novel_iso nrGenesWithConsequences nrIsoWithConsequences nt_overlap
orfEndGenomic orfStartGenomic orf_origin propCiHi propCiLo
propOfRelevantEvents propUp propUpCiHi propUpCiLo queryHits
ref_gene_id rowData setdff sigEval sigLevel sigLevelPos significance
splicingResult subjectHits switchConsequence topGroup topology value
variable x xmax xmin y yend ymax ymin
* checking Rd files ... OK
* checking Rd metadata ... OK
* checking Rd cross-references ... OK
* checking for missing documentation entries ... OK
* checking for code/documentation mismatches ... OK
* checking Rd \usage sections ... OK
* checking Rd contents ... OK
* checking for unstated dependencies in examples ... OK
* checking contents of ‘data’ directory ... OK
* checking data for non-ASCII characters ... OK
* checking data for ASCII and uncompressed saves ... OK
* checking line endings in C/C++/Fortran sources/headers ... OK
* checking compiled code ... NOTE
Note: information on .o files is not available
* checking files in ‘vignettes’ ... OK
* checking examples ... OK
Examples with CPU (user + system) or elapsed time > 5s
user system elapsed
IsoformSwitchTestDEXSeq 84.389 1.024 130.948
importSalmonData 40.230 1.404 87.059
isoformSwitchAnalysisCombined 38.615 1.655 59.479
prepareSalmonFilesDataFrame 16.517 0.372 32.112
extractSequence 12.619 0.133 18.259
analyzeORF 12.476 0.141 19.509
extractTopSwitches 11.358 0.114 16.836
extractSwitchSummary 10.985 0.102 16.468
isoformSwitchAnalysisPart1 10.764 0.197 16.829
analyzeAlternativSplicing 7.951 0.082 12.289
extractGenomeWideAnalysis 4.566 0.069 7.140
isoformSwitchAnalysisPart2 3.803 0.158 5.963
switchPlot 3.844 0.044 5.912
isoformToGeneExp 3.748 0.094 5.740
IsoformSwitchTestSatuRn 3.401 0.090 5.464
analyzeIUPred2A 3.238 0.041 5.010
* checking for unstated dependencies in vignettes ... OK
* checking package vignettes in ‘inst/doc’ ... OK
* checking running R code from vignettes ... SKIPPED
* checking re-building of vignette outputs ... SKIPPED
* checking PDF version of manual ... OK
* DONE
Status: 4 NOTEs
See
‘/Users/biocbuild/bbs-3.17-bioc-mac-arm64/meat/IsoformSwitchAnalyzeR.Rcheck/00check.log’
for details.
IsoformSwitchAnalyzeR.Rcheck/00install.out
############################################################################## ############################################################################## ### ### Running command: ### ### /Library/Frameworks/R.framework/Resources/bin/R CMD INSTALL IsoformSwitchAnalyzeR ### ############################################################################## ############################################################################## * installing to library ‘/Library/Frameworks/R.framework/Versions/4.3-arm64/Resources/library’ * installing *source* package ‘IsoformSwitchAnalyzeR’ ... ** using staged installation ** libs using C compiler: ‘Apple clang version 14.0.0 (clang-1400.0.29.202)’ using SDK: ‘MacOSX11.3.sdk’ clang -arch arm64 -I"/Library/Frameworks/R.framework/Resources/include" -DNDEBUG -I/opt/R/arm64/include -fPIC -falign-functions=64 -Wall -g -O2 -c utils.c -o utils.o clang -arch arm64 -dynamiclib -Wl,-headerpad_max_install_names -undefined dynamic_lookup -single_module -multiply_defined suppress -L/Library/Frameworks/R.framework/Resources/lib -L/opt/R/arm64/lib -o IsoformSwitchAnalyzeR.so utils.o -F/Library/Frameworks/R.framework/.. -framework R -Wl,-framework -Wl,CoreFoundation installing to /Library/Frameworks/R.framework/Versions/4.3-arm64/Resources/library/00LOCK-IsoformSwitchAnalyzeR/00new/IsoformSwitchAnalyzeR/libs ** R ** data ** inst ** byte-compile and prepare package for lazy loading ** help *** installing help indices ** building package indices ** installing vignettes ** testing if installed package can be loaded from temporary location ** checking absolute paths in shared objects and dynamic libraries ** testing if installed package can be loaded from final location ** testing if installed package keeps a record of temporary installation path * DONE (IsoformSwitchAnalyzeR)
IsoformSwitchAnalyzeR.Rcheck/IsoformSwitchAnalyzeR-Ex.timings
| name | user | system | elapsed | |
| IsoformSwitchTestDEXSeq | 84.389 | 1.024 | 130.948 | |
| IsoformSwitchTestSatuRn | 3.401 | 0.090 | 5.464 | |
| addORFfromGTF | 1.003 | 0.016 | 1.556 | |
| analyzeAlternativSplicing | 7.951 | 0.082 | 12.289 | |
| analyzeCPAT | 0.064 | 0.008 | 0.116 | |
| analyzeCPC2 | 0.060 | 0.008 | 0.108 | |
| analyzeDeepLoc2 | 0.300 | 0.019 | 0.543 | |
| analyzeDeepTMHMM | 0.601 | 0.013 | 0.931 | |
| analyzeIUPred2A | 3.238 | 0.041 | 5.010 | |
| analyzeNovelIsoformORF | 0.854 | 0.017 | 1.345 | |
| analyzeORF | 12.476 | 0.141 | 19.509 | |
| analyzePFAM | 0.588 | 0.014 | 0.919 | |
| analyzeSignalP | 0.098 | 0.008 | 0.159 | |
| analyzeSwitchConsequences | 1.235 | 0.026 | 1.952 | |
| expressionAnalysisPlots | 1.240 | 0.021 | 1.909 | |
| extractConsequenceEnrichment | 0.726 | 0.013 | 1.170 | |
| extractConsequenceEnrichmentComparison | 0.925 | 0.014 | 1.461 | |
| extractConsequenceSummary | 0.859 | 0.012 | 1.340 | |
| extractGeneExpression | 0.056 | 0.004 | 0.093 | |
| extractGenomeWideAnalysis | 4.566 | 0.069 | 7.140 | |
| extractGenomeWideSplicingAnalysis | 3.081 | 0.066 | 4.798 | |
| extractSequence | 12.619 | 0.133 | 18.259 | |
| extractSplicingEnrichment | 1.425 | 0.021 | 2.234 | |
| extractSplicingEnrichmentComparison | 1.583 | 0.020 | 2.462 | |
| extractSplicingSummary | 1.235 | 0.017 | 1.937 | |
| extractSwitchOverlap | 1.373 | 0.023 | 2.149 | |
| extractSwitchSummary | 10.985 | 0.102 | 16.468 | |
| extractTopSwitches | 11.358 | 0.114 | 16.836 | |
| importCufflinksGalaxyData | 0.001 | 0.000 | 0.001 | |
| importGTF | 0.953 | 0.012 | 1.474 | |
| importIsoformExpression | 0.769 | 0.068 | 1.353 | |
| importRdata | 3.027 | 0.076 | 4.543 | |
| importSalmonData | 40.230 | 1.404 | 87.059 | |
| isoformSwitchAnalysisCombined | 38.615 | 1.655 | 59.479 | |
| isoformSwitchAnalysisPart1 | 10.764 | 0.197 | 16.829 | |
| isoformSwitchAnalysisPart2 | 3.803 | 0.158 | 5.963 | |
| isoformToGeneExp | 3.748 | 0.094 | 5.740 | |
| isoformToIsoformFraction | 0.259 | 0.039 | 0.531 | |
| preFilter | 0.027 | 0.003 | 0.045 | |
| prepareSalmonFilesDataFrame | 16.517 | 0.372 | 32.112 | |
| subsetSwitchAnalyzeRlist | 0.030 | 0.003 | 0.046 | |
| switchAnalyzeRlist | 2.961 | 0.071 | 4.713 | |
| switchPlot | 3.844 | 0.044 | 5.912 | |
| switchPlotTranscript | 2.284 | 0.025 | 3.550 | |
| testData | 0.015 | 0.003 | 0.029 | |