| Back to Mac ARM64 build report for BioC 3.17 |
|
This page was generated on 2023-10-20 09:38:04 -0400 (Fri, 20 Oct 2023).
| Hostname | OS | Arch (*) | R version | Installed pkgs |
|---|---|---|---|---|
| kjohnson2 | macOS 12.6.1 Monterey | arm64 | 4.3.1 (2023-06-16) -- "Beagle Scouts" | 4347 |
| Click on any hostname to see more info about the system (e.g. compilers) (*) as reported by 'uname -p', except on Windows and Mac OS X | ||||
| Package 934/2230 | Hostname | OS / Arch | INSTALL | BUILD | CHECK | BUILD BIN | ||||||||
| HilbertCurve 1.30.0 (landing page) Zuguang Gu
| kjohnson2 | macOS 12.6.1 Monterey / arm64 | OK | OK | OK | OK | ||||||||
|
To the developers/maintainers of the HilbertCurve package: - Use the following Renviron settings to reproduce errors and warnings. - If 'R CMD check' started to fail recently on the Linux builder(s) over a missing dependency, add the missing dependency to 'Suggests:' in your DESCRIPTION file. See Renviron.bioc for more information. |
| Package: HilbertCurve |
| Version: 1.30.0 |
| Command: /Library/Frameworks/R.framework/Resources/bin/R CMD check --install=check:HilbertCurve.install-out.txt --library=/Library/Frameworks/R.framework/Resources/library --no-vignettes --timings HilbertCurve_1.30.0.tar.gz |
| StartedAt: 2023-10-18 00:47:50 -0400 (Wed, 18 Oct 2023) |
| EndedAt: 2023-10-18 00:51:28 -0400 (Wed, 18 Oct 2023) |
| EllapsedTime: 217.5 seconds |
| RetCode: 0 |
| Status: OK |
| CheckDir: HilbertCurve.Rcheck |
| Warnings: 0 |
##############################################################################
##############################################################################
###
### Running command:
###
### /Library/Frameworks/R.framework/Resources/bin/R CMD check --install=check:HilbertCurve.install-out.txt --library=/Library/Frameworks/R.framework/Resources/library --no-vignettes --timings HilbertCurve_1.30.0.tar.gz
###
##############################################################################
##############################################################################
* using log directory ‘/Users/biocbuild/bbs-3.17-bioc-mac-arm64/meat/HilbertCurve.Rcheck’
* using R version 4.3.1 (2023-06-16)
* using platform: aarch64-apple-darwin20 (64-bit)
* R was compiled by
Apple clang version 14.0.0 (clang-1400.0.29.202)
GNU Fortran (GCC) 12.2.0
* running under: macOS Monterey 12.6.7
* using session charset: UTF-8
* using option ‘--no-vignettes’
* checking for file ‘HilbertCurve/DESCRIPTION’ ... OK
* checking extension type ... Package
* this is package ‘HilbertCurve’ version ‘1.30.0’
* checking package namespace information ... OK
* checking package dependencies ... OK
* checking if this is a source package ... OK
* checking if there is a namespace ... OK
* checking for hidden files and directories ... OK
* checking for portable file names ... OK
* checking for sufficient/correct file permissions ... OK
* checking whether package ‘HilbertCurve’ can be installed ... OK
* checking installed package size ... OK
* checking package directory ... OK
* checking ‘build’ directory ... OK
* checking DESCRIPTION meta-information ... OK
* checking top-level files ... OK
* checking for left-over files ... OK
* checking index information ... OK
* checking package subdirectories ... OK
* checking R files for non-ASCII characters ... OK
* checking R files for syntax errors ... OK
* checking whether the package can be loaded ... OK
* checking whether the package can be loaded with stated dependencies ... OK
* checking whether the package can be unloaded cleanly ... OK
* checking whether the namespace can be loaded with stated dependencies ... OK
* checking whether the namespace can be unloaded cleanly ... OK
* checking startup messages can be suppressed ... OK
* checking dependencies in R code ... OK
* checking S3 generic/method consistency ... OK
* checking replacement functions ... OK
* checking foreign function calls ... OK
* checking R code for possible problems ... NOTE
hc_which,HilbertCurve: no visible binding for global variable ‘hc’
Undefined global functions or variables:
hc
* checking Rd files ... OK
* checking Rd metadata ... OK
* checking Rd cross-references ... OK
* checking for missing documentation entries ... OK
* checking for code/documentation mismatches ... OK
* checking Rd \usage sections ... OK
* checking Rd contents ... OK
* checking for unstated dependencies in examples ... OK
* checking installed files from ‘inst/doc’ ... OK
* checking files in ‘vignettes’ ... OK
* checking examples ... OK
Examples with CPU (user + system) or elapsed time > 5s
user system elapsed
hc_layer-HilbertCurve-method 10.819 0.204 16.555
hc_layer-GenomicHilbertCurve-method 8.761 0.142 12.688
GenomicHilbertCurve 7.375 0.163 11.365
hc_map-GenomicHilbertCurve-method 3.595 0.070 5.600
hc_png-HilbertCurve-method 3.440 0.068 5.745
* checking for unstated dependencies in ‘tests’ ... OK
* checking tests ...
Running ‘test-all.R’
OK
* checking for unstated dependencies in vignettes ... OK
* checking package vignettes in ‘inst/doc’ ... OK
* checking running R code from vignettes ... SKIPPED
* checking re-building of vignette outputs ... SKIPPED
* checking PDF version of manual ... OK
* DONE
Status: 1 NOTE
See
‘/Users/biocbuild/bbs-3.17-bioc-mac-arm64/meat/HilbertCurve.Rcheck/00check.log’
for details.
HilbertCurve.Rcheck/00install.out
############################################################################## ############################################################################## ### ### Running command: ### ### /Library/Frameworks/R.framework/Resources/bin/R CMD INSTALL HilbertCurve ### ############################################################################## ############################################################################## * installing to library ‘/Library/Frameworks/R.framework/Versions/4.3-arm64/Resources/library’ * installing *source* package ‘HilbertCurve’ ... ** using staged installation ** R ** inst ** byte-compile and prepare package for lazy loading ** help *** installing help indices ** building package indices ** installing vignettes ** testing if installed package can be loaded from temporary location ** testing if installed package can be loaded from final location ** testing if installed package keeps a record of temporary installation path * DONE (HilbertCurve)
HilbertCurve.Rcheck/tests/test-all.Rout
R version 4.3.1 (2023-06-16) -- "Beagle Scouts"
Copyright (C) 2023 The R Foundation for Statistical Computing
Platform: aarch64-apple-darwin20 (64-bit)
R is free software and comes with ABSOLUTELY NO WARRANTY.
You are welcome to redistribute it under certain conditions.
Type 'license()' or 'licence()' for distribution details.
R is a collaborative project with many contributors.
Type 'contributors()' for more information and
'citation()' on how to cite R or R packages in publications.
Type 'demo()' for some demos, 'help()' for on-line help, or
'help.start()' for an HTML browser interface to help.
Type 'q()' to quit R.
> library(testthat)
> suppressWarnings(suppressPackageStartupMessages(library(HilbertCurve)))
>
> test_check("HilbertCurve")
[ FAIL 0 | WARN 0 | SKIP 0 | PASS 8 ]
>
> proc.time()
user system elapsed
4.277 0.280 6.012
HilbertCurve.Rcheck/HilbertCurve-Ex.timings
| name | user | system | elapsed | |
| GenomicHilbertCurve-class | 0.000 | 0.001 | 0.001 | |
| GenomicHilbertCurve | 7.375 | 0.163 | 11.365 | |
| HilbertCurve-class | 0.001 | 0.000 | 0.000 | |
| HilbertCurve | 0.631 | 0.037 | 0.999 | |
| default_overlay | 0.000 | 0.001 | 0.001 | |
| hc_centered_text-HilbertCurve-method | 0.125 | 0.003 | 0.199 | |
| hc_layer-GenomicHilbertCurve-method | 8.761 | 0.142 | 12.688 | |
| hc_layer-HilbertCurve-method | 10.819 | 0.204 | 16.555 | |
| hc_layer-dispatch | 0.000 | 0.000 | 0.001 | |
| hc_level-HilbertCurve-method | 0.032 | 0.002 | 0.048 | |
| hc_map-GenomicHilbertCurve-method | 3.595 | 0.070 | 5.600 | |
| hc_normal_points-HilbertCurve-method | 0 | 0 | 0 | |
| hc_offset-HilbertCurve-method | 0.010 | 0.001 | 0.016 | |
| hc_png-HilbertCurve-method | 3.440 | 0.068 | 5.745 | |
| hc_points-GenomicHilbertCurve-method | 0.421 | 0.016 | 0.669 | |
| hc_points-HilbertCurve-method | 0.865 | 0.038 | 1.376 | |
| hc_points-dispatch | 0.000 | 0.000 | 0.001 | |
| hc_polygon-GenomicHilbertCurve-method | 0.477 | 0.014 | 0.756 | |
| hc_polygon-HilbertCurve-method | 0.141 | 0.009 | 0.235 | |
| hc_polygon-dispatch | 0.001 | 0.000 | 0.000 | |
| hc_rect-GenomicHilbertCurve-method | 0.352 | 0.014 | 0.565 | |
| hc_rect-HilbertCurve-method | 0.107 | 0.008 | 0.149 | |
| hc_rect-dispatch | 0.000 | 0.001 | 0.000 | |
| hc_segmented_points-HilbertCurve-method | 0 | 0 | 0 | |
| hc_segments-GenomicHilbertCurve-method | 0.633 | 0.018 | 0.830 | |
| hc_segments-HilbertCurve-method | 0.132 | 0.007 | 0.175 | |
| hc_segments-dispatch | 0 | 0 | 0 | |
| hc_text-GenomicHilbertCurve-method | 0.288 | 0.014 | 0.386 | |
| hc_text-HilbertCurve-method | 0.093 | 0.007 | 0.129 | |
| hc_text-dispatch | 0.000 | 0.000 | 0.001 | |
| hc_which-GenomicHilbertCurve-method | 0 | 0 | 0 | |
| hc_which-HilbertCurve-method | 0.001 | 0.001 | 0.000 | |
| hc_which-dispatch | 0 | 0 | 0 | |
| is_white | 0.001 | 0.001 | 0.000 | |
| show-HilbertCurve-method | 0.008 | 0.001 | 0.011 | |
| unzoom-HilbertCurve-method | 0.007 | 0.001 | 0.011 | |
| zoom-HilbertCurve-method | 0.007 | 0.001 | 0.009 | |