| Back to Mac ARM64 build report for BioC 3.17 |
|
This page was generated on 2023-10-20 09:38:04 -0400 (Fri, 20 Oct 2023).
| Hostname | OS | Arch (*) | R version | Installed pkgs |
|---|---|---|---|---|
| kjohnson2 | macOS 12.6.1 Monterey | arm64 | 4.3.1 (2023-06-16) -- "Beagle Scouts" | 4347 |
| Click on any hostname to see more info about the system (e.g. compilers) (*) as reported by 'uname -p', except on Windows and Mac OS X | ||||
| Package 924/2230 | Hostname | OS / Arch | INSTALL | BUILD | CHECK | BUILD BIN | ||||||||
| HIBAG 1.36.4 (landing page) Xiuwen Zheng
| kjohnson2 | macOS 12.6.1 Monterey / arm64 | OK | OK | OK | OK | ||||||||
|
To the developers/maintainers of the HIBAG package: - Use the following Renviron settings to reproduce errors and warnings. - If 'R CMD check' started to fail recently on the Linux builder(s) over a missing dependency, add the missing dependency to 'Suggests:' in your DESCRIPTION file. See Renviron.bioc for more information. |
| Package: HIBAG |
| Version: 1.36.4 |
| Command: rm -rf HIBAG.buildbin-libdir && mkdir HIBAG.buildbin-libdir && /Users/biocbuild/BBS/utils/build-universal.sh HIBAG_1.36.4.tar.gz /Library/Frameworks/R.framework/Resources/bin/R HIBAG.buildbin-libdir |
| StartedAt: 2023-10-19 13:58:53 -0400 (Thu, 19 Oct 2023) |
| EndedAt: 2023-10-19 13:59:39 -0400 (Thu, 19 Oct 2023) |
| EllapsedTime: 46.4 seconds |
| RetCode: 0 |
| Status: OK |
| PackageFile: HIBAG_1.36.4.tgz |
| PackageFileSize: 2.01 MiB |
##############################################################################
##############################################################################
###
### Running command:
###
### rm -rf HIBAG.buildbin-libdir && mkdir HIBAG.buildbin-libdir && /Users/biocbuild/BBS/utils/build-universal.sh HIBAG_1.36.4.tar.gz /Library/Frameworks/R.framework/Resources/bin/R HIBAG.buildbin-libdir
###
##############################################################################
##############################################################################
>>>>>>>
>>>>>>> INSTALLATION WITH 'R CMD INSTALL --preclean --no-multiarch --library=HIBAG.buildbin-libdir HIBAG_1.36.4.tar.gz'
>>>>>>>
* installing *source* package ‘HIBAG’ ...
** using staged installation
** libs
using C compiler: ‘Apple clang version 14.0.0 (clang-1400.0.29.202)’
using C++ compiler: ‘Apple clang version 14.0.0 (clang-1400.0.29.202)’
using C++11
using SDK: ‘MacOSX11.3.sdk’
clang++ -arch arm64 -std=gnu++11 -I"/Library/Frameworks/R.framework/Resources/include" -DNDEBUG -I../inst/include -I'/Library/Frameworks/R.framework/Versions/4.3-arm64/Resources/library/RcppParallel/include' -I/opt/R/arm64/include -fPIC -falign-functions=64 -Wall -g -O2 -c HIBAG.cpp -o HIBAG.o
clang++ -arch arm64 -std=gnu++11 -I"/Library/Frameworks/R.framework/Resources/include" -DNDEBUG -I../inst/include -I'/Library/Frameworks/R.framework/Versions/4.3-arm64/Resources/library/RcppParallel/include' -I/opt/R/arm64/include -fPIC -falign-functions=64 -Wall -g -O2 -c LibHLA.cpp -o LibHLA.o
LibHLA.cpp:1241:7: warning: variable 'cpu_auto_avx2' set but not used [-Wunused-but-set-variable]
bool cpu_auto_avx2, cpu_max;
^
1 warning generated.
clang++ -arch arm64 -std=gnu++11 -I"/Library/Frameworks/R.framework/Resources/include" -DNDEBUG -I../inst/include -I'/Library/Frameworks/R.framework/Versions/4.3-arm64/Resources/library/RcppParallel/include' -I/opt/R/arm64/include -fPIC -falign-functions=64 -Wall -g -O2 -c LibHLA_ext_avx.cpp -o LibHLA_ext_avx.o
clang++ -arch arm64 -std=gnu++11 -I"/Library/Frameworks/R.framework/Resources/include" -DNDEBUG -I../inst/include -I'/Library/Frameworks/R.framework/Versions/4.3-arm64/Resources/library/RcppParallel/include' -I/opt/R/arm64/include -fPIC -falign-functions=64 -Wall -g -O2 -c LibHLA_ext_avx2.cpp -o LibHLA_ext_avx2.o
clang++ -arch arm64 -std=gnu++11 -I"/Library/Frameworks/R.framework/Resources/include" -DNDEBUG -I../inst/include -I'/Library/Frameworks/R.framework/Versions/4.3-arm64/Resources/library/RcppParallel/include' -I/opt/R/arm64/include -fPIC -falign-functions=64 -Wall -g -O2 -c LibHLA_ext_avx512bw.cpp -o LibHLA_ext_avx512bw.o
clang++ -arch arm64 -std=gnu++11 -I"/Library/Frameworks/R.framework/Resources/include" -DNDEBUG -I../inst/include -I'/Library/Frameworks/R.framework/Versions/4.3-arm64/Resources/library/RcppParallel/include' -I/opt/R/arm64/include -fPIC -falign-functions=64 -Wall -g -O2 -c LibHLA_ext_avx512f.cpp -o LibHLA_ext_avx512f.o
clang++ -arch arm64 -std=gnu++11 -I"/Library/Frameworks/R.framework/Resources/include" -DNDEBUG -I../inst/include -I'/Library/Frameworks/R.framework/Versions/4.3-arm64/Resources/library/RcppParallel/include' -I/opt/R/arm64/include -fPIC -falign-functions=64 -Wall -g -O2 -c LibHLA_ext_avx512vpopcnt.cpp -o LibHLA_ext_avx512vpopcnt.o
clang++ -arch arm64 -std=gnu++11 -I"/Library/Frameworks/R.framework/Resources/include" -DNDEBUG -I../inst/include -I'/Library/Frameworks/R.framework/Versions/4.3-arm64/Resources/library/RcppParallel/include' -I/opt/R/arm64/include -fPIC -falign-functions=64 -Wall -g -O2 -c LibHLA_ext_sse2.cpp -o LibHLA_ext_sse2.o
clang++ -arch arm64 -std=gnu++11 -I"/Library/Frameworks/R.framework/Resources/include" -DNDEBUG -I../inst/include -I'/Library/Frameworks/R.framework/Versions/4.3-arm64/Resources/library/RcppParallel/include' -I/opt/R/arm64/include -fPIC -falign-functions=64 -Wall -g -O2 -c LibHLA_ext_sse4_2.cpp -o LibHLA_ext_sse4_2.o
clang -arch arm64 -I"/Library/Frameworks/R.framework/Resources/include" -DNDEBUG -I../inst/include -I'/Library/Frameworks/R.framework/Versions/4.3-arm64/Resources/library/RcppParallel/include' -I/opt/R/arm64/include -fPIC -falign-functions=64 -Wall -g -O2 -c samtools_ext.c -o samtools_ext.o
clang++ -arch arm64 -std=gnu++11 -dynamiclib -Wl,-headerpad_max_install_names -undefined dynamic_lookup -single_module -multiply_defined suppress -L/Library/Frameworks/R.framework/Resources/lib -L/opt/R/arm64/lib -o HIBAG.so HIBAG.o LibHLA.o LibHLA_ext_avx.o LibHLA_ext_avx2.o LibHLA_ext_avx512bw.o LibHLA_ext_avx512f.o LibHLA_ext_avx512vpopcnt.o LibHLA_ext_sse2.o LibHLA_ext_sse4_2.o samtools_ext.o -F/Library/Frameworks/R.framework/.. -framework R -Wl,-framework -Wl,CoreFoundation
installing to /Users/biocbuild/bbs-3.17-bioc-mac-arm64/meat/HIBAG.buildbin-libdir/00LOCK-HIBAG/00new/HIBAG/libs
** R
** data
*** moving datasets to lazyload DB
** inst
** byte-compile and prepare package for lazy loading
** help
*** installing help indices
** building package indices
** installing vignettes
** testing if installed package can be loaded from temporary location
** checking absolute paths in shared objects and dynamic libraries
** testing if installed package can be loaded from final location
** testing if installed package keeps a record of temporary installation path
* DONE (HIBAG)
>>>>>>>
>>>>>>> FIXING PATHS TO DYNAMIC LIBRARIES FOR HIBAG.buildbin-libdir/HIBAG/libs/HIBAG.so
>>>>>>>
>>>>>>> Paths before fix:
HIBAG.buildbin-libdir/HIBAG/libs/HIBAG.so:
HIBAG.so (compatibility version 0.0.0, current version 0.0.0)
/Library/Frameworks/R.framework/Versions/4.3-arm64/Resources/lib/libR.dylib (compatibility version 4.3.0, current version 4.3.1)
/System/Library/Frameworks/CoreFoundation.framework/Versions/A/CoreFoundation (compatibility version 150.0.0, current version 1775.118.101)
/usr/lib/libc++.1.dylib (compatibility version 1.0.0, current version 905.6.0)
/usr/lib/libSystem.B.dylib (compatibility version 1.0.0, current version 1292.100.5)
>>>>>>> Fix with install_name_tool:
install_name_tool -change "/usr/local/lib/libgcc_s.1.1.dylib" "/Library/Frameworks/R.framework/Versions/4.3-arm64/Resources/lib/libgcc_s.1.1.dylib" "HIBAG.buildbin-libdir/HIBAG/libs/HIBAG.so"
install_name_tool -change "/usr/local/lib/libgfortran.5.dylib" "/Library/Frameworks/R.framework/Versions/4.3-arm64/Resources/lib/libgfortran.5.dylib" "HIBAG.buildbin-libdir/HIBAG/libs/HIBAG.so"
install_name_tool -change "/usr/local/lib/libquadmath.0.dylib" "/Library/Frameworks/R.framework/Versions/4.3-arm64/Resources/lib/libquadmath.0.dylib" "HIBAG.buildbin-libdir/HIBAG/libs/HIBAG.so"
>>>>>>> Paths after fix:
HIBAG.buildbin-libdir/HIBAG/libs/HIBAG.so:
HIBAG.so (compatibility version 0.0.0, current version 0.0.0)
/Library/Frameworks/R.framework/Versions/4.3-arm64/Resources/lib/libR.dylib (compatibility version 4.3.0, current version 4.3.1)
/System/Library/Frameworks/CoreFoundation.framework/Versions/A/CoreFoundation (compatibility version 150.0.0, current version 1775.118.101)
/usr/lib/libc++.1.dylib (compatibility version 1.0.0, current version 905.6.0)
/usr/lib/libSystem.B.dylib (compatibility version 1.0.0, current version 1292.100.5)